BEGIN:VCALENDAR
VERSION:2.0
PRODID:-//NAMI - ECPv6.15.20//NONSGML v1.0//EN
CALSCALE:GREGORIAN
METHOD:PUBLISH
X-WR-CALNAME:NAMI
X-ORIGINAL-URL:https://www.namidelaware.org
X-WR-CALDESC:Events for NAMI
REFRESH-INTERVAL;VALUE=DURATION:PT1H
X-Robots-Tag:noindex
X-PUBLISHED-TTL:PT1H
BEGIN:VTIMEZONE
TZID:UTC
BEGIN:STANDARD
TZOFFSETFROM:+0000
TZOFFSETTO:+0000
TZNAME:UTC
DTSTART:20220101T000000
END:STANDARD
END:VTIMEZONE
BEGIN:VTIMEZONE
TZID:America/Halifax
BEGIN:DAYLIGHT
TZOFFSETFROM:-0400
TZOFFSETTO:-0300
TZNAME:ADT
DTSTART:20220313T060000
END:DAYLIGHT
BEGIN:STANDARD
TZOFFSETFROM:-0300
TZOFFSETTO:-0400
TZNAME:AST
DTSTART:20221106T050000
END:STANDARD
BEGIN:DAYLIGHT
TZOFFSETFROM:-0400
TZOFFSETTO:-0300
TZNAME:ADT
DTSTART:20230312T060000
END:DAYLIGHT
BEGIN:STANDARD
TZOFFSETFROM:-0300
TZOFFSETTO:-0400
TZNAME:AST
DTSTART:20231105T050000
END:STANDARD
BEGIN:DAYLIGHT
TZOFFSETFROM:-0400
TZOFFSETTO:-0300
TZNAME:ADT
DTSTART:20240310T060000
END:DAYLIGHT
BEGIN:STANDARD
TZOFFSETFROM:-0300
TZOFFSETTO:-0400
TZNAME:AST
DTSTART:20241103T050000
END:STANDARD
BEGIN:DAYLIGHT
TZOFFSETFROM:-0400
TZOFFSETTO:-0300
TZNAME:ADT
DTSTART:20250309T060000
END:DAYLIGHT
BEGIN:STANDARD
TZOFFSETFROM:-0300
TZOFFSETTO:-0400
TZNAME:AST
DTSTART:20251102T050000
END:STANDARD
END:VTIMEZONE
BEGIN:VTIMEZONE
TZID:America/New_York
BEGIN:DAYLIGHT
TZOFFSETFROM:-0500
TZOFFSETTO:-0400
TZNAME:EDT
DTSTART:20220313T070000
END:DAYLIGHT
BEGIN:STANDARD
TZOFFSETFROM:-0400
TZOFFSETTO:-0500
TZNAME:EST
DTSTART:20221106T060000
END:STANDARD
BEGIN:DAYLIGHT
TZOFFSETFROM:-0500
TZOFFSETTO:-0400
TZNAME:EDT
DTSTART:20230312T070000
END:DAYLIGHT
BEGIN:STANDARD
TZOFFSETFROM:-0400
TZOFFSETTO:-0500
TZNAME:EST
DTSTART:20231105T060000
END:STANDARD
BEGIN:DAYLIGHT
TZOFFSETFROM:-0500
TZOFFSETTO:-0400
TZNAME:EDT
DTSTART:20240310T070000
END:DAYLIGHT
BEGIN:STANDARD
TZOFFSETFROM:-0400
TZOFFSETTO:-0500
TZNAME:EST
DTSTART:20241103T060000
END:STANDARD
END:VTIMEZONE
BEGIN:VEVENT
DTSTART;TZID=UTC:20240115T190000
DTEND;TZID=UTC:20240115T200000
DTSTAMP:20260420T032951
CREATED:20230324T173358Z
LAST-MODIFIED:20230324T173358Z
UID:10000212-1705345200-1705348800@www.namidelaware.org
SUMMARY:NAMI Delaware Virtual Spouse/Partner Family Support Group
DESCRIPTION:Register Here \nNAMI Delaware’s Spouse/Partner Family Support Group will meet very 3rd Monday of the month\, from 7:00pm-8:00pm. Adjustments will be made for national holidays. \nThis support group will be facilitated by trained NAMI Delaware volunteers with lived experience and structured as closely to the original model of NAMI Family Support Group as possible via Zoom. It is open to all participants who identify as a spouse/partner of an individual with a mental health condition and are over the age of 18.
URL:https://www.namidelaware.org/event/nami-delaware-virtual-spouse-partner-family-support-group-7/2024-01-15/
END:VEVENT
BEGIN:VEVENT
DTSTART;TZID=UTC:20240111T190000
DTEND;TZID=UTC:20240111T200000
DTSTAMP:20260420T032951
CREATED:20230324T173851Z
LAST-MODIFIED:20230324T173851Z
UID:10000245-1704999600-1705003200@www.namidelaware.org
SUMMARY:NAMI Delaware Virtual Family Support Group
DESCRIPTION:NAMI Delaware Virtual Family Support Group is meant as an online substitute to our in-person Family Support Group meetings to allow family members and loved ones of individuals with a mental health condition the chance to connect and feel supported. \nOur Virtual Family Support Group meets every 1st Monday and every 2nd Thursday of the month\, from 7:00pm-8:00pm. Adjustments will be made for national holidays \nRegister at: https://fsgonline.eventbrite.com \n\n 
URL:https://www.namidelaware.org/event/nami-delaware-virtual-family-support-group-9/2024-01-11/
END:VEVENT
BEGIN:VEVENT
DTSTART;TZID=America/Halifax:20240104T183000
DTEND;TZID=America/Halifax:20240104T193000
DTSTAMP:20260420T032951
CREATED:20240102T193956Z
LAST-MODIFIED:20240102T193957Z
UID:10000267-1704393000-1704396600@www.namidelaware.org
SUMMARY:CANCELLED: NAMI Delaware Virtual Connection Recovery Support Group
DESCRIPTION:Update: Unfortunately\, our NAMI Delaware Connection Recovery Support Group for January 4th has been cancelled. We hope to see you at our next meeting – January 18th at 6:30pm EST! \nRegister Here \nNAMI Delaware Virtual Connection Recovery Support Group is meant as an online substitute to our in-person Connection Recovery Support Group meetings to allow individuals with a mental health condition the chance to connect and feel supported. \nOur Virtual Connection Recovery Support Group meets every 1st and 3rd Thursday of the month\, from 6:30pm-7:30pm. Adjustments will be made for national holidays.
URL:https://www.namidelaware.org/event/nami-delaware-virtual-connection-recovery-support-group-15-2/
END:VEVENT
BEGIN:VEVENT
DTSTART;TZID=America/Halifax:20240101T190000
DTEND;TZID=America/Halifax:20240101T200000
DTSTAMP:20260420T032951
CREATED:20231215T230156Z
LAST-MODIFIED:20231215T230157Z
UID:10000223-1704135600-1704139200@www.namidelaware.org
SUMMARY:CANCELLED: NAMI Delaware Virtual Family Support Group
DESCRIPTION:This support group has been canceled due to the New Years holiday. Have a safe and happy celebration of the new year!  \nNAMI Delaware Virtual Family Support Group is meant as an online substitute to our in-person Family Support Group meetings to allow family members and loved ones of individuals with a mental health condition the chance to connect and feel supported. \nOur Virtual Family Support Group meets every 1st Monday and every 2nd Thursday of the month\, from 7:00pm-8:00pm. Adjustments will be made for national holidays \nRegister at: https://fsgonline.eventbrite.com \n\n 
URL:https://www.namidelaware.org/event/nami-delaware-virtual-family-support-group-8-2/
END:VEVENT
BEGIN:VEVENT
DTSTART;TZID=America/Halifax:20231221T183000
DTEND;TZID=America/Halifax:20231221T193000
DTSTAMP:20260420T032951
CREATED:20230324T174555Z
LAST-MODIFIED:20230324T174555Z
UID:10000288-1703183400-1703187000@www.namidelaware.org
SUMMARY:NAMI Delaware Virtual Connection Recovery Support Group
DESCRIPTION:Register Here \nNAMI Delaware Virtual Connection Recovery Support Group is meant as an online substitute to our in-person Connection Recovery Support Group meetings to allow individuals with a mental health condition the chance to connect and feel supported. \nOur Virtual Connection Recovery Support Group meets every 1st and 3rd Thursday of the month\, from 6:30pm-7:30pm. Adjustments will be made for national holidays.
URL:https://www.namidelaware.org/event/nami-delaware-virtual-connection-recovery-support-group-16/2023-12-21/
END:VEVENT
BEGIN:VEVENT
DTSTART;TZID=UTC:20231220T183000
DTEND;TZID=UTC:20231220T200000
DTSTAMP:20260420T032951
CREATED:20230707T165026Z
LAST-MODIFIED:20230707T165026Z
UID:10000460-1703097000-1703102400@www.namidelaware.org
SUMMARY:NAMI Delaware Family Support Group In Person (Lewes)
DESCRIPTION:Our in person Lewes family support group will meet the 3rd Wednesday of each month from 6:30pm-8:00pm at: \nLewes Presbyterian Church \n133 Kings Highway \nLewes\, DE 19958 \nThere is no charge to attend. No registration is required to attend our in person meetings.
URL:https://www.namidelaware.org/event/nami-delaware-family-support-group-in-person-lewes-6/2023-12-20/
END:VEVENT
BEGIN:VEVENT
DTSTART;TZID=UTC:20231218T190000
DTEND;TZID=UTC:20231218T200000
DTSTAMP:20260420T032951
CREATED:20230324T173358Z
LAST-MODIFIED:20230324T173358Z
UID:10000211-1702926000-1702929600@www.namidelaware.org
SUMMARY:NAMI Delaware Virtual Spouse/Partner Family Support Group
DESCRIPTION:Register Here \nNAMI Delaware’s Spouse/Partner Family Support Group will meet very 3rd Monday of the month\, from 7:00pm-8:00pm. Adjustments will be made for national holidays. \nThis support group will be facilitated by trained NAMI Delaware volunteers with lived experience and structured as closely to the original model of NAMI Family Support Group as possible via Zoom. It is open to all participants who identify as a spouse/partner of an individual with a mental health condition and are over the age of 18.
URL:https://www.namidelaware.org/event/nami-delaware-virtual-spouse-partner-family-support-group-7/2023-12-18/
END:VEVENT
BEGIN:VEVENT
DTSTART;TZID=UTC:20231214T190000
DTEND;TZID=UTC:20231214T200000
DTSTAMP:20260420T032951
CREATED:20230324T173851Z
LAST-MODIFIED:20230324T173851Z
UID:10000244-1702580400-1702584000@www.namidelaware.org
SUMMARY:NAMI Delaware Virtual Family Support Group
DESCRIPTION:NAMI Delaware Virtual Family Support Group is meant as an online substitute to our in-person Family Support Group meetings to allow family members and loved ones of individuals with a mental health condition the chance to connect and feel supported. \nOur Virtual Family Support Group meets every 1st Monday and every 2nd Thursday of the month\, from 7:00pm-8:00pm. Adjustments will be made for national holidays \nRegister at: https://fsgonline.eventbrite.com \n\n 
URL:https://www.namidelaware.org/event/nami-delaware-virtual-family-support-group-9/2023-12-14/
END:VEVENT
BEGIN:VEVENT
DTSTART;TZID=America/Halifax:20231207T183000
DTEND;TZID=America/Halifax:20231207T193000
DTSTAMP:20260420T032951
CREATED:20230324T174301Z
LAST-MODIFIED:20230324T174301Z
UID:10000266-1701973800-1701977400@www.namidelaware.org
SUMMARY:NAMI Delaware Virtual Connection Recovery Support Group
DESCRIPTION:Register Here \nNAMI Delaware Virtual Connection Recovery Support Group is meant as an online substitute to our in-person Connection Recovery Support Group meetings to allow individuals with a mental health condition the chance to connect and feel supported. \nOur Virtual Connection Recovery Support Group meets every 1st and 3rd Thursday of the month\, from 6:30pm-7:30pm. Adjustments will be made for national holidays.
URL:https://www.namidelaware.org/event/nami-delaware-virtual-connection-recovery-support-group-15/2023-12-07/
END:VEVENT
BEGIN:VEVENT
DTSTART;TZID=America/Halifax:20231204T190000
DTEND;TZID=America/Halifax:20231204T200000
DTSTAMP:20260420T032951
CREATED:20230324T173712Z
LAST-MODIFIED:20230324T183849Z
UID:10000222-1701716400-1701720000@www.namidelaware.org
SUMMARY:NAMI Delaware Virtual Family Support Group
DESCRIPTION:NAMI Delaware Virtual Family Support Group is meant as an online substitute to our in-person Family Support Group meetings to allow family members and loved ones of individuals with a mental health condition the chance to connect and feel supported. \nOur Virtual Family Support Group meets every 1st Monday and every 2nd Thursday of the month\, from 7:00pm-8:00pm. Adjustments will be made for national holidays \nRegister at: https://fsgonline.eventbrite.com \n\n 
URL:https://www.namidelaware.org/event/nami-delaware-virtual-family-support-group-8/2023-12-04/
END:VEVENT
BEGIN:VEVENT
DTSTART;TZID=UTC:20231130T180000
DTEND;TZID=UTC:20231130T190000
DTSTAMP:20260420T032951
CREATED:20231107T003141Z
LAST-MODIFIED:20231107T003141Z
UID:10000582-1701367200-1701370800@www.namidelaware.org
SUMMARY:Inspiring Hope Series: Dealing with Holiday Stress
DESCRIPTION:While the holiday season is known for being the most wonderful time of year\, it can also be stressful for individuals living with a mental illness and their family members and loved ones. \nAs part of our Inspiring Hope Series\, NAMI Delaware’s Kent County Committee has partnered with Dr. Michelle Ratcliff to discuss ways individuals can manage stress during the holidays. \nDate: November 30\, 2023\nTime: 6 pm – 7 pm\nLocation: Delaware State University\nAdministration Building\, 2nd Floor\, Room 206 \nTo register\, send an email to events@namide.org by November 29th.
URL:https://www.namidelaware.org/event/inspiring-hope-series-dealing-with-holiday-stress/
LOCATION:Delaware State University\, 1200 N Dupont Hwy\, Dover\, DE\, 19901\, United States
END:VEVENT
BEGIN:VEVENT
DTSTART;TZID=UTC:20231120T190000
DTEND;TZID=UTC:20231120T200000
DTSTAMP:20260420T032951
CREATED:20230324T173358Z
LAST-MODIFIED:20230324T173358Z
UID:10000210-1700506800-1700510400@www.namidelaware.org
SUMMARY:NAMI Delaware Virtual Spouse/Partner Family Support Group
DESCRIPTION:Register Here \nNAMI Delaware’s Spouse/Partner Family Support Group will meet very 3rd Monday of the month\, from 7:00pm-8:00pm. Adjustments will be made for national holidays. \nThis support group will be facilitated by trained NAMI Delaware volunteers with lived experience and structured as closely to the original model of NAMI Family Support Group as possible via Zoom. It is open to all participants who identify as a spouse/partner of an individual with a mental health condition and are over the age of 18.
URL:https://www.namidelaware.org/event/nami-delaware-virtual-spouse-partner-family-support-group-7/2023-11-20/
END:VEVENT
BEGIN:VEVENT
DTSTART;TZID=America/Halifax:20231116T183000
DTEND;TZID=America/Halifax:20231116T193000
DTSTAMP:20260420T032951
CREATED:20230324T174555Z
LAST-MODIFIED:20230324T174555Z
UID:10000287-1700159400-1700163000@www.namidelaware.org
SUMMARY:NAMI Delaware Virtual Connection Recovery Support Group
DESCRIPTION:Register Here \nNAMI Delaware Virtual Connection Recovery Support Group is meant as an online substitute to our in-person Connection Recovery Support Group meetings to allow individuals with a mental health condition the chance to connect and feel supported. \nOur Virtual Connection Recovery Support Group meets every 1st and 3rd Thursday of the month\, from 6:30pm-7:30pm. Adjustments will be made for national holidays.
URL:https://www.namidelaware.org/event/nami-delaware-virtual-connection-recovery-support-group-16/2023-11-16/
END:VEVENT
BEGIN:VEVENT
DTSTART;TZID=UTC:20231115T183000
DTEND;TZID=UTC:20231115T200000
DTSTAMP:20260420T032951
CREATED:20231030T210452Z
LAST-MODIFIED:20231030T210453Z
UID:10000459-1700073000-1700078400@www.namidelaware.org
SUMMARY:CANCELLED: NAMI Delaware Family Support Group In Person (Lewes)
DESCRIPTION:Unfortunately\, our in-person NAMI Family Support Group has been cancelled for the month of November. We apologize for this inconvenience. We will be back for the next meeting on December 20th\, 2023. \nOur in person Lewes NAMI Family Support Group will meet the 3rd Wednesday of each month from 6:30pm-8:00pm at: \nLewes Presbyterian Church \n133 Kings Highway \nLewes\, DE 19958 \nThere is no charge to attend. No registration is required to attend our in person meetings.
URL:https://www.namidelaware.org/event/nami-delaware-family-support-group-in-person-lewes-6-2/
END:VEVENT
BEGIN:VEVENT
DTSTART;TZID=UTC:20231109T190000
DTEND;TZID=UTC:20231109T200000
DTSTAMP:20260420T032951
CREATED:20230324T173851Z
LAST-MODIFIED:20230324T173851Z
UID:10000243-1699556400-1699560000@www.namidelaware.org
SUMMARY:NAMI Delaware Virtual Family Support Group
DESCRIPTION:NAMI Delaware Virtual Family Support Group is meant as an online substitute to our in-person Family Support Group meetings to allow family members and loved ones of individuals with a mental health condition the chance to connect and feel supported. \nOur Virtual Family Support Group meets every 1st Monday and every 2nd Thursday of the month\, from 7:00pm-8:00pm. Adjustments will be made for national holidays \nRegister at: https://fsgonline.eventbrite.com \n\n 
URL:https://www.namidelaware.org/event/nami-delaware-virtual-family-support-group-9/2023-11-09/
END:VEVENT
BEGIN:VEVENT
DTSTART;TZID=America/Halifax:20231106T190000
DTEND;TZID=America/Halifax:20231106T200000
DTSTAMP:20260420T032951
CREATED:20230324T173712Z
LAST-MODIFIED:20230324T183849Z
UID:10000221-1699297200-1699300800@www.namidelaware.org
SUMMARY:NAMI Delaware Virtual Family Support Group
DESCRIPTION:NAMI Delaware Virtual Family Support Group is meant as an online substitute to our in-person Family Support Group meetings to allow family members and loved ones of individuals with a mental health condition the chance to connect and feel supported. \nOur Virtual Family Support Group meets every 1st Monday and every 2nd Thursday of the month\, from 7:00pm-8:00pm. Adjustments will be made for national holidays \nRegister at: https://fsgonline.eventbrite.com \n\n 
URL:https://www.namidelaware.org/event/nami-delaware-virtual-family-support-group-8/2023-11-06/
END:VEVENT
BEGIN:VEVENT
DTSTART;TZID=America/Halifax:20231102T183000
DTEND;TZID=America/Halifax:20231102T193000
DTSTAMP:20260420T032951
CREATED:20230324T174301Z
LAST-MODIFIED:20230324T174301Z
UID:10000265-1698949800-1698953400@www.namidelaware.org
SUMMARY:NAMI Delaware Virtual Connection Recovery Support Group
DESCRIPTION:Register Here \nNAMI Delaware Virtual Connection Recovery Support Group is meant as an online substitute to our in-person Connection Recovery Support Group meetings to allow individuals with a mental health condition the chance to connect and feel supported. \nOur Virtual Connection Recovery Support Group meets every 1st and 3rd Thursday of the month\, from 6:30pm-7:30pm. Adjustments will be made for national holidays.
URL:https://www.namidelaware.org/event/nami-delaware-virtual-connection-recovery-support-group-15/2023-11-02/
END:VEVENT
BEGIN:VEVENT
DTSTART;TZID=America/New_York:20231025T120000
DTEND;TZID=America/New_York:20231025T130000
DTSTAMP:20260420T032951
CREATED:20230918T211320Z
LAST-MODIFIED:20230918T211320Z
UID:10000576-1698235200-1698238800@www.namidelaware.org
SUMMARY:QPR Gatekeeper Suicide Prevention Training
DESCRIPTION:Content Warning: Discussion of suicide\, suicidal ideation & potential means. Also includes interactive discussion portion regarding a fictional scenario describing an individual exhibiting warning signs of suicidality. \nNAMI Delaware is offering a free virtual QPR Gatekeeper Training over Zoom! \nNow more than ever\, suicide prevention awareness and training is needed in our communities. QPR Gatekeeper Training is a virtual\, 1 hour training meant to guide participants on how to recognize an individual who may be in a suicide crisis and how to guide them to proper treatment/services. QPR is a mnemonic that stands for Question\, Persuade and Refer to help you remember the 3 easy steps to helping a person who may be suicidal. \nThere are limited seats so register now to reserve your spot in this life saving course: https://namideqpr.eventbrite.com 
URL:https://www.namidelaware.org/event/qpr/
END:VEVENT
BEGIN:VEVENT
DTSTART;TZID=America/Halifax:20231019T183000
DTEND;TZID=America/Halifax:20231019T193000
DTSTAMP:20260420T032951
CREATED:20230324T174555Z
LAST-MODIFIED:20230324T174555Z
UID:10000286-1697740200-1697743800@www.namidelaware.org
SUMMARY:NAMI Delaware Virtual Connection Recovery Support Group
DESCRIPTION:Register Here \nNAMI Delaware Virtual Connection Recovery Support Group is meant as an online substitute to our in-person Connection Recovery Support Group meetings to allow individuals with a mental health condition the chance to connect and feel supported. \nOur Virtual Connection Recovery Support Group meets every 1st and 3rd Thursday of the month\, from 6:30pm-7:30pm. Adjustments will be made for national holidays.
URL:https://www.namidelaware.org/event/nami-delaware-virtual-connection-recovery-support-group-16/2023-10-19/
END:VEVENT
BEGIN:VEVENT
DTSTART;TZID=UTC:20231018T183000
DTEND;TZID=UTC:20231018T200000
DTSTAMP:20260420T032951
CREATED:20230707T165026Z
LAST-MODIFIED:20230707T165026Z
UID:10000458-1697653800-1697659200@www.namidelaware.org
SUMMARY:NAMI Delaware Family Support Group In Person (Lewes)
DESCRIPTION:Our in person Lewes family support group will meet the 3rd Wednesday of each month from 6:30pm-8:00pm at: \nLewes Presbyterian Church \n133 Kings Highway \nLewes\, DE 19958 \nThere is no charge to attend. No registration is required to attend our in person meetings.
URL:https://www.namidelaware.org/event/nami-delaware-family-support-group-in-person-lewes-6/2023-10-18/
END:VEVENT
BEGIN:VEVENT
DTSTART;TZID=UTC:20231016T190000
DTEND;TZID=UTC:20231016T200000
DTSTAMP:20260420T032952
CREATED:20231012T164838Z
LAST-MODIFIED:20231012T164838Z
UID:10000209-1697482800-1697486400@www.namidelaware.org
SUMMARY:CANCELLED: NAMI Delaware Virtual Spouse/Partner Family Support Group
DESCRIPTION:Unfortunately\, our Spouse/Partner Family Support Group has been cancelled for the m0nth of October. We will see you all next month on November 20th! \nNAMI Delaware’s Spouse/Partner Family Support Group will meet very 3rd Monday of the month\, from 7:00pm-8:00pm. Adjustments will be made for national holidays. \nThis support group will be facilitated by trained NAMI Delaware volunteers with lived experience and structured as closely to the original model of NAMI Family Support Group as possible via Zoom. It is open to all participants who identify as a spouse/partner of an individual with a mental health condition and are over the age of 18.
URL:https://www.namidelaware.org/event/nami-delaware-virtual-spouse-partner-family-support-group-7-2/
END:VEVENT
BEGIN:VEVENT
DTSTART;TZID=UTC:20231012T190000
DTEND;TZID=UTC:20231012T200000
DTSTAMP:20260420T032952
CREATED:20230324T173851Z
LAST-MODIFIED:20230324T173851Z
UID:10000242-1697137200-1697140800@www.namidelaware.org
SUMMARY:NAMI Delaware Virtual Family Support Group
DESCRIPTION:NAMI Delaware Virtual Family Support Group is meant as an online substitute to our in-person Family Support Group meetings to allow family members and loved ones of individuals with a mental health condition the chance to connect and feel supported. \nOur Virtual Family Support Group meets every 1st Monday and every 2nd Thursday of the month\, from 7:00pm-8:00pm. Adjustments will be made for national holidays \nRegister at: https://fsgonline.eventbrite.com \n\n 
URL:https://www.namidelaware.org/event/nami-delaware-virtual-family-support-group-9/2023-10-12/
END:VEVENT
BEGIN:VEVENT
DTSTART;TZID=America/Halifax:20231005T183000
DTEND;TZID=America/Halifax:20231005T193000
DTSTAMP:20260420T032952
CREATED:20230324T174301Z
LAST-MODIFIED:20230324T174301Z
UID:10000264-1696530600-1696534200@www.namidelaware.org
SUMMARY:NAMI Delaware Virtual Connection Recovery Support Group
DESCRIPTION:Register Here \nNAMI Delaware Virtual Connection Recovery Support Group is meant as an online substitute to our in-person Connection Recovery Support Group meetings to allow individuals with a mental health condition the chance to connect and feel supported. \nOur Virtual Connection Recovery Support Group meets every 1st and 3rd Thursday of the month\, from 6:30pm-7:30pm. Adjustments will be made for national holidays.
URL:https://www.namidelaware.org/event/nami-delaware-virtual-connection-recovery-support-group-15/2023-10-05/
END:VEVENT
BEGIN:VEVENT
DTSTART;TZID=UTC:20231005T081500
DTEND;TZID=UTC:20231005T150000
DTSTAMP:20260420T032952
CREATED:20230719T230501Z
LAST-MODIFIED:20230719T230501Z
UID:10000573-1696493700-1696518000@www.namidelaware.org
SUMMARY:Inspiring Hope Conference
DESCRIPTION:Join NAMI Delaware at an event you can’t miss! \nLearn about the latest research\, discover resources\, develop advocacy skills\, and foster a better understanding of issues relating to metal illness. \nInformation on key note speakers and breakout sessions soon to be released. Check back soon for the latest updates! \nGain hope\, ideas and new skills with the Inspiring Hope Conference!
URL:https://www.namidelaware.org/event/inspiring-hope-conference/
LOCATION:Clayton Hall (University of Delaware)\, 100 David Hollowell Dr\, Newark\, DE\, 19716\, United States
END:VEVENT
BEGIN:VEVENT
DTSTART;TZID=America/Halifax:20231002T190000
DTEND;TZID=America/Halifax:20231002T200000
DTSTAMP:20260420T032952
CREATED:20230324T173712Z
LAST-MODIFIED:20230324T183849Z
UID:10000220-1696273200-1696276800@www.namidelaware.org
SUMMARY:NAMI Delaware Virtual Family Support Group
DESCRIPTION:NAMI Delaware Virtual Family Support Group is meant as an online substitute to our in-person Family Support Group meetings to allow family members and loved ones of individuals with a mental health condition the chance to connect and feel supported. \nOur Virtual Family Support Group meets every 1st Monday and every 2nd Thursday of the month\, from 7:00pm-8:00pm. Adjustments will be made for national holidays \nRegister at: https://fsgonline.eventbrite.com \n\n 
URL:https://www.namidelaware.org/event/nami-delaware-virtual-family-support-group-8/2023-10-02/
END:VEVENT
BEGIN:VEVENT
DTSTART;TZID=America/Halifax:20230921T183000
DTEND;TZID=America/Halifax:20230921T193000
DTSTAMP:20260420T032952
CREATED:20230324T174555Z
LAST-MODIFIED:20230324T174555Z
UID:10000285-1695321000-1695324600@www.namidelaware.org
SUMMARY:NAMI Delaware Virtual Connection Recovery Support Group
DESCRIPTION:Register Here \nNAMI Delaware Virtual Connection Recovery Support Group is meant as an online substitute to our in-person Connection Recovery Support Group meetings to allow individuals with a mental health condition the chance to connect and feel supported. \nOur Virtual Connection Recovery Support Group meets every 1st and 3rd Thursday of the month\, from 6:30pm-7:30pm. Adjustments will be made for national holidays.
URL:https://www.namidelaware.org/event/nami-delaware-virtual-connection-recovery-support-group-16/2023-09-21/
END:VEVENT
BEGIN:VEVENT
DTSTART;TZID=UTC:20230920T183000
DTEND;TZID=UTC:20230920T200000
DTSTAMP:20260420T032952
CREATED:20230707T165026Z
LAST-MODIFIED:20230707T165026Z
UID:10000457-1695234600-1695240000@www.namidelaware.org
SUMMARY:NAMI Delaware Family Support Group In Person (Lewes)
DESCRIPTION:Our in person Lewes family support group will meet the 3rd Wednesday of each month from 6:30pm-8:00pm at: \nLewes Presbyterian Church \n133 Kings Highway \nLewes\, DE 19958 \nThere is no charge to attend. No registration is required to attend our in person meetings.
URL:https://www.namidelaware.org/event/nami-delaware-family-support-group-in-person-lewes-6/2023-09-20/
END:VEVENT
BEGIN:VEVENT
DTSTART;TZID=UTC:20230918T190000
DTEND;TZID=UTC:20230918T200000
DTSTAMP:20260420T032952
CREATED:20230324T173358Z
LAST-MODIFIED:20230324T173358Z
UID:10000208-1695063600-1695067200@www.namidelaware.org
SUMMARY:NAMI Delaware Virtual Spouse/Partner Family Support Group
DESCRIPTION:Register Here \nNAMI Delaware’s Spouse/Partner Family Support Group will meet very 3rd Monday of the month\, from 7:00pm-8:00pm. Adjustments will be made for national holidays. \nThis support group will be facilitated by trained NAMI Delaware volunteers with lived experience and structured as closely to the original model of NAMI Family Support Group as possible via Zoom. It is open to all participants who identify as a spouse/partner of an individual with a mental health condition and are over the age of 18.
URL:https://www.namidelaware.org/event/nami-delaware-virtual-spouse-partner-family-support-group-7/2023-09-18/
END:VEVENT
BEGIN:VEVENT
DTSTART;TZID=UTC:20230914T190000
DTEND;TZID=UTC:20230914T200000
DTSTAMP:20260420T032952
CREATED:20230324T173851Z
LAST-MODIFIED:20230324T173851Z
UID:10000241-1694718000-1694721600@www.namidelaware.org
SUMMARY:NAMI Delaware Virtual Family Support Group
DESCRIPTION:NAMI Delaware Virtual Family Support Group is meant as an online substitute to our in-person Family Support Group meetings to allow family members and loved ones of individuals with a mental health condition the chance to connect and feel supported. \nOur Virtual Family Support Group meets every 1st Monday and every 2nd Thursday of the month\, from 7:00pm-8:00pm. Adjustments will be made for national holidays \nRegister at: https://fsgonline.eventbrite.com \n\n 
URL:https://www.namidelaware.org/event/nami-delaware-virtual-family-support-group-9/2023-09-14/
END:VEVENT
BEGIN:VEVENT
DTSTART;TZID=America/Halifax:20230907T183000
DTEND;TZID=America/Halifax:20230907T193000
DTSTAMP:20260420T032952
CREATED:20230324T174301Z
LAST-MODIFIED:20230324T174301Z
UID:10000263-1694111400-1694115000@www.namidelaware.org
SUMMARY:NAMI Delaware Virtual Connection Recovery Support Group
DESCRIPTION:Register Here \nNAMI Delaware Virtual Connection Recovery Support Group is meant as an online substitute to our in-person Connection Recovery Support Group meetings to allow individuals with a mental health condition the chance to connect and feel supported. \nOur Virtual Connection Recovery Support Group meets every 1st and 3rd Thursday of the month\, from 6:30pm-7:30pm. Adjustments will be made for national holidays.
URL:https://www.namidelaware.org/event/nami-delaware-virtual-connection-recovery-support-group-15/2023-09-07/
END:VEVENT
END:VCALENDAR