BEGIN:VCALENDAR
VERSION:2.0
PRODID:-//NAMI - ECPv6.15.20//NONSGML v1.0//EN
CALSCALE:GREGORIAN
METHOD:PUBLISH
X-WR-CALNAME:NAMI
X-ORIGINAL-URL:https://www.namidelaware.org
X-WR-CALDESC:Events for NAMI
REFRESH-INTERVAL;VALUE=DURATION:PT1H
X-Robots-Tag:noindex
X-PUBLISHED-TTL:PT1H
BEGIN:VTIMEZONE
TZID:America/Halifax
BEGIN:DAYLIGHT
TZOFFSETFROM:-0400
TZOFFSETTO:-0300
TZNAME:ADT
DTSTART:20220313T060000
END:DAYLIGHT
BEGIN:STANDARD
TZOFFSETFROM:-0300
TZOFFSETTO:-0400
TZNAME:AST
DTSTART:20221106T050000
END:STANDARD
BEGIN:DAYLIGHT
TZOFFSETFROM:-0400
TZOFFSETTO:-0300
TZNAME:ADT
DTSTART:20230312T060000
END:DAYLIGHT
BEGIN:STANDARD
TZOFFSETFROM:-0300
TZOFFSETTO:-0400
TZNAME:AST
DTSTART:20231105T050000
END:STANDARD
BEGIN:DAYLIGHT
TZOFFSETFROM:-0400
TZOFFSETTO:-0300
TZNAME:ADT
DTSTART:20240310T060000
END:DAYLIGHT
BEGIN:STANDARD
TZOFFSETFROM:-0300
TZOFFSETTO:-0400
TZNAME:AST
DTSTART:20241103T050000
END:STANDARD
END:VTIMEZONE
BEGIN:VTIMEZONE
TZID:UTC
BEGIN:STANDARD
TZOFFSETFROM:+0000
TZOFFSETTO:+0000
TZNAME:UTC
DTSTART:20220101T000000
END:STANDARD
END:VTIMEZONE
BEGIN:VEVENT
DTSTART;TZID=America/Halifax:20230921T183000
DTEND;TZID=America/Halifax:20230921T193000
DTSTAMP:20260420T023353
CREATED:20230324T174555Z
LAST-MODIFIED:20230324T174555Z
UID:10000285-1695321000-1695324600@www.namidelaware.org
SUMMARY:NAMI Delaware Virtual Connection Recovery Support Group
DESCRIPTION:Register Here \nNAMI Delaware Virtual Connection Recovery Support Group is meant as an online substitute to our in-person Connection Recovery Support Group meetings to allow individuals with a mental health condition the chance to connect and feel supported. \nOur Virtual Connection Recovery Support Group meets every 1st and 3rd Thursday of the month\, from 6:30pm-7:30pm. Adjustments will be made for national holidays.
URL:https://www.namidelaware.org/event/nami-delaware-virtual-connection-recovery-support-group-16/2023-09-21/
END:VEVENT
BEGIN:VEVENT
DTSTART;TZID=UTC:20230920T183000
DTEND;TZID=UTC:20230920T200000
DTSTAMP:20260420T023353
CREATED:20230707T165026Z
LAST-MODIFIED:20230707T165026Z
UID:10000457-1695234600-1695240000@www.namidelaware.org
SUMMARY:NAMI Delaware Family Support Group In Person (Lewes)
DESCRIPTION:Our in person Lewes family support group will meet the 3rd Wednesday of each month from 6:30pm-8:00pm at: \nLewes Presbyterian Church \n133 Kings Highway \nLewes\, DE 19958 \nThere is no charge to attend. No registration is required to attend our in person meetings.
URL:https://www.namidelaware.org/event/nami-delaware-family-support-group-in-person-lewes-6/2023-09-20/
END:VEVENT
BEGIN:VEVENT
DTSTART;TZID=UTC:20230918T190000
DTEND;TZID=UTC:20230918T200000
DTSTAMP:20260420T023353
CREATED:20230324T173358Z
LAST-MODIFIED:20230324T173358Z
UID:10000208-1695063600-1695067200@www.namidelaware.org
SUMMARY:NAMI Delaware Virtual Spouse/Partner Family Support Group
DESCRIPTION:Register Here \nNAMI Delaware’s Spouse/Partner Family Support Group will meet very 3rd Monday of the month\, from 7:00pm-8:00pm. Adjustments will be made for national holidays. \nThis support group will be facilitated by trained NAMI Delaware volunteers with lived experience and structured as closely to the original model of NAMI Family Support Group as possible via Zoom. It is open to all participants who identify as a spouse/partner of an individual with a mental health condition and are over the age of 18.
URL:https://www.namidelaware.org/event/nami-delaware-virtual-spouse-partner-family-support-group-7/2023-09-18/
END:VEVENT
BEGIN:VEVENT
DTSTART;TZID=UTC:20230914T190000
DTEND;TZID=UTC:20230914T200000
DTSTAMP:20260420T023353
CREATED:20230324T173851Z
LAST-MODIFIED:20230324T173851Z
UID:10000241-1694718000-1694721600@www.namidelaware.org
SUMMARY:NAMI Delaware Virtual Family Support Group
DESCRIPTION:NAMI Delaware Virtual Family Support Group is meant as an online substitute to our in-person Family Support Group meetings to allow family members and loved ones of individuals with a mental health condition the chance to connect and feel supported. \nOur Virtual Family Support Group meets every 1st Monday and every 2nd Thursday of the month\, from 7:00pm-8:00pm. Adjustments will be made for national holidays \nRegister at: https://fsgonline.eventbrite.com \n\n 
URL:https://www.namidelaware.org/event/nami-delaware-virtual-family-support-group-9/2023-09-14/
END:VEVENT
BEGIN:VEVENT
DTSTART;TZID=America/Halifax:20230907T183000
DTEND;TZID=America/Halifax:20230907T193000
DTSTAMP:20260420T023353
CREATED:20230324T174301Z
LAST-MODIFIED:20230324T174301Z
UID:10000263-1694111400-1694115000@www.namidelaware.org
SUMMARY:NAMI Delaware Virtual Connection Recovery Support Group
DESCRIPTION:Register Here \nNAMI Delaware Virtual Connection Recovery Support Group is meant as an online substitute to our in-person Connection Recovery Support Group meetings to allow individuals with a mental health condition the chance to connect and feel supported. \nOur Virtual Connection Recovery Support Group meets every 1st and 3rd Thursday of the month\, from 6:30pm-7:30pm. Adjustments will be made for national holidays.
URL:https://www.namidelaware.org/event/nami-delaware-virtual-connection-recovery-support-group-15/2023-09-07/
END:VEVENT
BEGIN:VEVENT
DTSTART;TZID=UTC:20230904T190000
DTEND;TZID=UTC:20230904T200000
DTSTAMP:20260420T023353
CREATED:20230504T185412Z
LAST-MODIFIED:20230504T185431Z
UID:10000345-1693854000-1693857600@www.namidelaware.org
SUMMARY:*Cancelled* NAMI Delaware Virtual Family Support Group
DESCRIPTION:Unfortunately\, our family support group on September 4th has been cancelled due to Labor Day. We apologize for any inconvenience. \nNAMI Delaware Virtual Family Support Group is meant as an online substitute to our in-person Family Support Group meetings to allow family members and loved ones of individuals with a mental health condition the chance to connect and feel supported. \nOur Virtual Family Support Group meets every 1st Monday and every 2nd Thursday of the month\, from 7:00pm-8:00pm. Adjustments will be made for national holidays \nFor other family support group dates\, please visit this link: https://fsgonline.eventbrite.com \n\n 
URL:https://www.namidelaware.org/event/nami-delaware-virtual-family-support-group-16/
END:VEVENT
BEGIN:VEVENT
DTSTART;TZID=UTC:20230821T190000
DTEND;TZID=UTC:20230821T200000
DTSTAMP:20260420T023353
CREATED:20230324T173358Z
LAST-MODIFIED:20230324T173358Z
UID:10000207-1692644400-1692648000@www.namidelaware.org
SUMMARY:NAMI Delaware Virtual Spouse/Partner Family Support Group
DESCRIPTION:Register Here \nNAMI Delaware’s Spouse/Partner Family Support Group will meet very 3rd Monday of the month\, from 7:00pm-8:00pm. Adjustments will be made for national holidays. \nThis support group will be facilitated by trained NAMI Delaware volunteers with lived experience and structured as closely to the original model of NAMI Family Support Group as possible via Zoom. It is open to all participants who identify as a spouse/partner of an individual with a mental health condition and are over the age of 18.
URL:https://www.namidelaware.org/event/nami-delaware-virtual-spouse-partner-family-support-group-7/2023-08-21/
END:VEVENT
BEGIN:VEVENT
DTSTART;TZID=America/Halifax:20230817T183000
DTEND;TZID=America/Halifax:20230817T193000
DTSTAMP:20260420T023353
CREATED:20230324T174555Z
LAST-MODIFIED:20230324T174555Z
UID:10000284-1692297000-1692300600@www.namidelaware.org
SUMMARY:NAMI Delaware Virtual Connection Recovery Support Group
DESCRIPTION:Register Here \nNAMI Delaware Virtual Connection Recovery Support Group is meant as an online substitute to our in-person Connection Recovery Support Group meetings to allow individuals with a mental health condition the chance to connect and feel supported. \nOur Virtual Connection Recovery Support Group meets every 1st and 3rd Thursday of the month\, from 6:30pm-7:30pm. Adjustments will be made for national holidays.
URL:https://www.namidelaware.org/event/nami-delaware-virtual-connection-recovery-support-group-16/2023-08-17/
END:VEVENT
BEGIN:VEVENT
DTSTART;TZID=UTC:20230816T183000
DTEND;TZID=UTC:20230816T200000
DTSTAMP:20260420T023353
CREATED:20230707T165026Z
LAST-MODIFIED:20230707T165026Z
UID:10000456-1692210600-1692216000@www.namidelaware.org
SUMMARY:NAMI Delaware Family Support Group In Person (Lewes)
DESCRIPTION:Our in person Lewes family support group will meet the 3rd Wednesday of each month from 6:30pm-8:00pm at: \nLewes Presbyterian Church \n133 Kings Highway \nLewes\, DE 19958 \nThere is no charge to attend. No registration is required to attend our in person meetings.
URL:https://www.namidelaware.org/event/nami-delaware-family-support-group-in-person-lewes-6/2023-08-16/
END:VEVENT
BEGIN:VEVENT
DTSTART;TZID=UTC:20230810T190000
DTEND;TZID=UTC:20230810T200000
DTSTAMP:20260420T023353
CREATED:20230504T184547Z
LAST-MODIFIED:20230504T184547Z
UID:10000344-1691694000-1691697600@www.namidelaware.org
SUMMARY:NAMI Delaware Virtual Family Support Group
DESCRIPTION:NAMI Delaware Virtual Family Support Group is meant as an online substitute to our in-person Family Support Group meetings to allow family members and loved ones of individuals with a mental health condition the chance to connect and feel supported. \nOur Virtual Family Support Group meets every 1st Monday and every 2nd Thursday of the month\, from 7:00pm-8:00pm. Adjustments will be made for national holidays \nRegister at: https://fsgonline.eventbrite.com \n\n 
URL:https://www.namidelaware.org/event/nami-delaware-virtual-family-support-group-18/
END:VEVENT
BEGIN:VEVENT
DTSTART;TZID=UTC:20230810T190000
DTEND;TZID=UTC:20230810T200000
DTSTAMP:20260420T023353
CREATED:20230324T173851Z
LAST-MODIFIED:20230324T173851Z
UID:10000240-1691694000-1691697600@www.namidelaware.org
SUMMARY:NAMI Delaware Virtual Family Support Group
DESCRIPTION:NAMI Delaware Virtual Family Support Group is meant as an online substitute to our in-person Family Support Group meetings to allow family members and loved ones of individuals with a mental health condition the chance to connect and feel supported. \nOur Virtual Family Support Group meets every 1st Monday and every 2nd Thursday of the month\, from 7:00pm-8:00pm. Adjustments will be made for national holidays \nRegister at: https://fsgonline.eventbrite.com \n\n 
URL:https://www.namidelaware.org/event/nami-delaware-virtual-family-support-group-9/2023-08-10/
END:VEVENT
BEGIN:VEVENT
DTSTART;TZID=America/Halifax:20230807T190000
DTEND;TZID=America/Halifax:20230807T200000
DTSTAMP:20260420T023353
CREATED:20230324T173712Z
LAST-MODIFIED:20230324T183849Z
UID:10000218-1691434800-1691438400@www.namidelaware.org
SUMMARY:NAMI Delaware Virtual Family Support Group
DESCRIPTION:NAMI Delaware Virtual Family Support Group is meant as an online substitute to our in-person Family Support Group meetings to allow family members and loved ones of individuals with a mental health condition the chance to connect and feel supported. \nOur Virtual Family Support Group meets every 1st Monday and every 2nd Thursday of the month\, from 7:00pm-8:00pm. Adjustments will be made for national holidays \nRegister at: https://fsgonline.eventbrite.com \n\n 
URL:https://www.namidelaware.org/event/nami-delaware-virtual-family-support-group-8/2023-08-07/
END:VEVENT
BEGIN:VEVENT
DTSTART;TZID=America/Halifax:20230803T183000
DTEND;TZID=America/Halifax:20230803T193000
DTSTAMP:20260420T023353
CREATED:20230324T174301Z
LAST-MODIFIED:20230324T174301Z
UID:10000262-1691087400-1691091000@www.namidelaware.org
SUMMARY:NAMI Delaware Virtual Connection Recovery Support Group
DESCRIPTION:Register Here \nNAMI Delaware Virtual Connection Recovery Support Group is meant as an online substitute to our in-person Connection Recovery Support Group meetings to allow individuals with a mental health condition the chance to connect and feel supported. \nOur Virtual Connection Recovery Support Group meets every 1st and 3rd Thursday of the month\, from 6:30pm-7:30pm. Adjustments will be made for national holidays.
URL:https://www.namidelaware.org/event/nami-delaware-virtual-connection-recovery-support-group-15/2023-08-03/
END:VEVENT
BEGIN:VEVENT
DTSTART;TZID=America/Halifax:20230720T183000
DTEND;TZID=America/Halifax:20230720T193000
DTSTAMP:20260420T023353
CREATED:20230324T174555Z
LAST-MODIFIED:20230324T174555Z
UID:10000283-1689877800-1689881400@www.namidelaware.org
SUMMARY:NAMI Delaware Virtual Connection Recovery Support Group
DESCRIPTION:Register Here \nNAMI Delaware Virtual Connection Recovery Support Group is meant as an online substitute to our in-person Connection Recovery Support Group meetings to allow individuals with a mental health condition the chance to connect and feel supported. \nOur Virtual Connection Recovery Support Group meets every 1st and 3rd Thursday of the month\, from 6:30pm-7:30pm. Adjustments will be made for national holidays.
URL:https://www.namidelaware.org/event/nami-delaware-virtual-connection-recovery-support-group-16/2023-07-20/
END:VEVENT
BEGIN:VEVENT
DTSTART;TZID=UTC:20230719T183000
DTEND;TZID=UTC:20230719T200000
DTSTAMP:20260420T023353
CREATED:20230707T165026Z
LAST-MODIFIED:20230707T165026Z
UID:10000455-1689791400-1689796800@www.namidelaware.org
SUMMARY:NAMI Delaware Family Support Group In Person (Lewes)
DESCRIPTION:Our in person Lewes family support group will meet the 3rd Wednesday of each month from 6:30pm-8:00pm at: \nLewes Presbyterian Church \n133 Kings Highway \nLewes\, DE 19958 \nThere is no charge to attend. No registration is required to attend our in person meetings.
URL:https://www.namidelaware.org/event/nami-delaware-family-support-group-in-person-lewes-6/2023-07-19/
END:VEVENT
BEGIN:VEVENT
DTSTART;TZID=UTC:20230717T190000
DTEND;TZID=UTC:20230717T200000
DTSTAMP:20260420T023353
CREATED:20230324T173358Z
LAST-MODIFIED:20230324T173358Z
UID:10000206-1689620400-1689624000@www.namidelaware.org
SUMMARY:NAMI Delaware Virtual Spouse/Partner Family Support Group
DESCRIPTION:Register Here \nNAMI Delaware’s Spouse/Partner Family Support Group will meet very 3rd Monday of the month\, from 7:00pm-8:00pm. Adjustments will be made for national holidays. \nThis support group will be facilitated by trained NAMI Delaware volunteers with lived experience and structured as closely to the original model of NAMI Family Support Group as possible via Zoom. It is open to all participants who identify as a spouse/partner of an individual with a mental health condition and are over the age of 18.
URL:https://www.namidelaware.org/event/nami-delaware-virtual-spouse-partner-family-support-group-7/2023-07-17/
END:VEVENT
BEGIN:VEVENT
DTSTART;TZID=UTC:20230713T190000
DTEND;TZID=UTC:20230713T200000
DTSTAMP:20260420T023353
CREATED:20230324T173851Z
LAST-MODIFIED:20230324T173851Z
UID:10000239-1689274800-1689278400@www.namidelaware.org
SUMMARY:NAMI Delaware Virtual Family Support Group
DESCRIPTION:NAMI Delaware Virtual Family Support Group is meant as an online substitute to our in-person Family Support Group meetings to allow family members and loved ones of individuals with a mental health condition the chance to connect and feel supported. \nOur Virtual Family Support Group meets every 1st Monday and every 2nd Thursday of the month\, from 7:00pm-8:00pm. Adjustments will be made for national holidays \nRegister at: https://fsgonline.eventbrite.com \n\n 
URL:https://www.namidelaware.org/event/nami-delaware-virtual-family-support-group-9/2023-07-13/
END:VEVENT
BEGIN:VEVENT
DTSTART;TZID=America/Halifax:20230706T183000
DTEND;TZID=America/Halifax:20230706T193000
DTSTAMP:20260420T023353
CREATED:20230324T174301Z
LAST-MODIFIED:20230324T174301Z
UID:10000261-1688668200-1688671800@www.namidelaware.org
SUMMARY:NAMI Delaware Virtual Connection Recovery Support Group
DESCRIPTION:Register Here \nNAMI Delaware Virtual Connection Recovery Support Group is meant as an online substitute to our in-person Connection Recovery Support Group meetings to allow individuals with a mental health condition the chance to connect and feel supported. \nOur Virtual Connection Recovery Support Group meets every 1st and 3rd Thursday of the month\, from 6:30pm-7:30pm. Adjustments will be made for national holidays.
URL:https://www.namidelaware.org/event/nami-delaware-virtual-connection-recovery-support-group-15/2023-07-06/
END:VEVENT
BEGIN:VEVENT
DTSTART;TZID=UTC:20230703T190000
DTEND;TZID=UTC:20230703T200000
DTSTAMP:20260420T023353
CREATED:20230504T184343Z
LAST-MODIFIED:20230504T184343Z
UID:10000342-1688410800-1688414400@www.namidelaware.org
SUMMARY:*Cancelled* NAMI Delaware Virtual Family Support Group
DESCRIPTION:Unfortunately\, our family support group on July 3 has been cancelled. We apologize for any inconvenience. \nNAMI Delaware Virtual Family Support Group is meant as an online substitute to our in-person Family Support Group meetings to allow family members and loved ones of individuals with a mental health condition the chance to connect and feel supported. \nOur Virtual Family Support Group meets every 1st Monday and every 2nd Thursday of the month\, from 7:00pm-8:00pm. Adjustments will be made for national holidays \nFor other family support group dates\, please visit this link: https://fsgonline.eventbrite.com \n\n 
URL:https://www.namidelaware.org/event/cancelled-nami-delaware-virtual-family-support-group/
END:VEVENT
BEGIN:VEVENT
DTSTART;TZID=America/Halifax:20230629T183000
DTEND;TZID=America/Halifax:20230629T200000
DTSTAMP:20260420T023353
CREATED:20230626T180649Z
LAST-MODIFIED:20230626T180650Z
UID:10000328-1688063400-1688068800@www.namidelaware.org
SUMMARY:Sharing Hope: Community Conversations
DESCRIPTION:June’s Topic: Dealing with Rejection from Friends & Family\nGuests: Phoenix (Artist & Advocate for mental health awareness\, especially focused on the black and/or queer communities)\n\nSharing Hope: Community Conversations is an interactive Zoom call discussing various topics relevant to mental health and stigma in the Black community. It is based off of the program created by NAMI National called Sharing Hope. In this call\, community members can speak with specialized guest speakers that are relevant to the topic of the month. Our moderator is peer advocate and NAMI Delaware Diversity & Equity Fellow\, Nyemade Boiwu (she/her).\n\nRegister now! https://sharinghopeonline.eventbrite.com
URL:https://www.namidelaware.org/event/sharing-hope-community-conversations-5-3/
END:VEVENT
BEGIN:VEVENT
DTSTART;TZID=UTC:20230621T183000
DTEND;TZID=UTC:20230621T200000
DTSTAMP:20260420T023353
CREATED:20221213T211806Z
LAST-MODIFIED:20221213T215350Z
UID:10000076-1687372200-1687377600@www.namidelaware.org
SUMMARY:NAMI Delaware Family Support Group In Person (Lewes)
DESCRIPTION:Our in person Lewes family support group will meet the 3rd Wednesday of each month from 6:30pm-8:00pm at: \nLewes Presbyterian Church \n133 Kings Highway \nLewes\, DE 19958 \nThere is no charge to attend. No registration is required to attend our in person meetings.
URL:https://www.namidelaware.org/event/nami-delaware-family-support-group-in-person-lewes-5/
END:VEVENT
BEGIN:VEVENT
DTSTART;TZID=UTC:20230619T190000
DTEND;TZID=UTC:20230619T200000
DTSTAMP:20260420T023353
CREATED:20230606T180607Z
LAST-MODIFIED:20230606T180607Z
UID:10000346-1687201200-1687204800@www.namidelaware.org
SUMMARY:NAMI Delaware Virtual Spouse/Partner Family Support Group
DESCRIPTION:NAMI Delaware’s Spouse/Partner Family Support Group will meet very 3rd Monday of the month\, from 7:00pm-8:00pm. Adjustments may be made for national holidays. \nThis support group will be facilitated by trained NAMI Delaware volunteers with lived experience and structured as closely to the original model of NAMI Family Support Group as possible via Zoom. It is open to all participants who identify as a spouse/partner of an individual with a mental health condition and are over the age of 18. \nRegister Now: https://spousefsgonline.eventbrite.com
URL:https://www.namidelaware.org/event/nami-delaware-virtual-spouse-partner-family-support-group-8/
END:VEVENT
BEGIN:VEVENT
DTSTART;TZID=UTC:20230615T183000
DTEND;TZID=UTC:20230615T193000
DTSTAMP:20260420T023353
CREATED:20221212T234849Z
LAST-MODIFIED:20221212T234849Z
UID:10000056-1686853800-1686857400@www.namidelaware.org
SUMMARY:NAMI Delaware Virtual Connection Recovery Support Group
DESCRIPTION:Register Here \nNAMI Delaware Virtual Connection Recovery Support Group is meant as an online substitute to our in-person Connection Recovery Support Group meetings to allow individuals with a mental health condition the chance to connect and feel supported. \nOur Virtual Connection Recovery Support Group meets every 1st and 3rd Thursday of the month\, from 6:30pm-7:30pm. Adjustments will be made for national holidays.
URL:https://www.namidelaware.org/event/nami-delaware-virtual-connection-recovery-support-group-14/
END:VEVENT
BEGIN:VEVENT
DTSTART;TZID=UTC:20230608T190000
DTEND;TZID=UTC:20230608T200000
DTSTAMP:20260420T023353
CREATED:20221213T184841Z
LAST-MODIFIED:20221213T184841Z
UID:10000066-1686250800-1686254400@www.namidelaware.org
SUMMARY:NAMI Delaware Virtual Family Support Group
DESCRIPTION:NAMI Delaware Virtual Family Support Group is meant as an online substitute to our in-person Family Support Group meetings to allow family members and loved ones of individuals with a mental health condition the chance to connect and feel supported. \nOur Virtual Family Support Group meets every 1st Monday and every 2nd Thursday of the month\, from 7:00pm-8:00pm. Adjustments will be made for national holidays \nRegister at: https://fsgonline.eventbrite.com \n\n 
URL:https://www.namidelaware.org/event/nami-delaware-virtual-family-support-group-7/
END:VEVENT
BEGIN:VEVENT
DTSTART;TZID=UTC:20230605T190000
DTEND;TZID=UTC:20230605T200000
DTSTAMP:20260420T023353
CREATED:20221213T001106Z
LAST-MODIFIED:20221213T001720Z
UID:10000062-1685991600-1685995200@www.namidelaware.org
SUMMARY:NAMI Delaware Virtual Family Support Group
DESCRIPTION:NAMI Delaware Virtual Family Support Group is meant as an online substitute to our in-person Family Support Group meetings to allow family members and loved ones of individuals with a mental health condition the chance to connect and feel supported. \nOur Virtual Family Support Group meets every 1st Monday and every 2nd Thursday of the month\, from 7:00pm-8:00pm. Adjustments will be made for national holidays \nRegister at: https://fsgonline.eventbrite.com \n\n 
URL:https://www.namidelaware.org/event/nami-delaware-virtual-family-support-group-15/
END:VEVENT
BEGIN:VEVENT
DTSTART;TZID=UTC:20230601T183000
DTEND;TZID=UTC:20230601T193000
DTSTAMP:20260420T023353
CREATED:20221212T234813Z
LAST-MODIFIED:20221212T234813Z
UID:10000055-1685644200-1685647800@www.namidelaware.org
SUMMARY:NAMI Delaware Virtual Connection Recovery Support Group
DESCRIPTION:Register Here \nNAMI Delaware Virtual Connection Recovery Support Group is meant as an online substitute to our in-person Connection Recovery Support Group meetings to allow individuals with a mental health condition the chance to connect and feel supported. \nOur Virtual Connection Recovery Support Group meets every 1st and 3rd Thursday of the month\, from 6:30pm-7:30pm. Adjustments will be made for national holidays.
URL:https://www.namidelaware.org/event/nami-delaware-virtual-connection-recovery-support-group-13/
END:VEVENT
BEGIN:VEVENT
DTSTART;TZID=UTC:20230518T183000
DTEND;TZID=UTC:20230518T193000
DTSTAMP:20260420T023353
CREATED:20221212T234650Z
LAST-MODIFIED:20221212T234650Z
UID:10000054-1684434600-1684438200@www.namidelaware.org
SUMMARY:NAMI Delaware Virtual Connection Recovery Support Group
DESCRIPTION:Register Here \nNAMI Delaware Virtual Connection Recovery Support Group is meant as an online substitute to our in-person Connection Recovery Support Group meetings to allow individuals with a mental health condition the chance to connect and feel supported. \nOur Virtual Connection Recovery Support Group meets every 1st and 3rd Thursday of the month\, from 6:30pm-7:30pm. Adjustments will be made for national holidays.
URL:https://www.namidelaware.org/event/nami-delaware-virtual-connection-recovery-support-group-12/
END:VEVENT
BEGIN:VEVENT
DTSTART;TZID=UTC:20230517T183000
DTEND;TZID=UTC:20230517T200000
DTSTAMP:20260420T023353
CREATED:20221213T211651Z
LAST-MODIFIED:20221213T211651Z
UID:10000075-1684348200-1684353600@www.namidelaware.org
SUMMARY:NAMI Delaware Family Support Group In Person (Lewes)
DESCRIPTION:Our in person Lewes family support group will meet the 3rd Wednesday of each month from 6:30pm-8:00pm at: \nLewes Presbyterian Church \n133 Kings Highway \nLewes\, DE 19958 \nThere is no charge to attend. No registration is required to attend our in person meetings.
URL:https://www.namidelaware.org/event/nami-delaware-family-support-group-in-person-lewes-4/
END:VEVENT
BEGIN:VEVENT
DTSTART;TZID=UTC:20230515T190000
DTEND;TZID=UTC:20230515T200000
DTSTAMP:20260420T023353
CREATED:20221216T191132Z
LAST-MODIFIED:20221216T191132Z
UID:10000078-1684177200-1684180800@www.namidelaware.org
SUMMARY:NAMI Delaware Virtual Spouse/Partner Family Support Group
DESCRIPTION:Register Here \nNAMI Delaware’s Spouse/Partner Family Support Group will meet very 3rd Monday of the month\, from 7:00pm-8:00pm. Adjustments will be made for national holidays. \nThis support group will be facilitated by trained NAMI Delaware volunteers with lived experience and structured as closely to the original model of NAMI Family Support Group as possible via Zoom. It is open to all participants who identify as a spouse/partner of an individual with a mental health condition and are over the age of 18.
URL:https://www.namidelaware.org/event/nami-delaware-virtual-spouse-partner-family-support-group-6/
END:VEVENT
BEGIN:VEVENT
DTSTART;TZID=UTC:20230513T093000
DTEND;TZID=UTC:20230513T120000
DTSTAMP:20260420T023353
CREATED:20230227T212354Z
LAST-MODIFIED:20230310T173746Z
UID:10000174-1683970200-1683979200@www.namidelaware.org
SUMMARY:NAMIWalks Delaware 2023
DESCRIPTION:We hope you will join us for our annual NAMIWalks Delaware! \nDate: Saturday\, May 13 9:30am-12:00pm \nLocation: 2360 Lower Lot Rd Wilmington\, DE 19809 \nTo Register\, donate and for more information\, visit our walk website: HERE \nEnjoy time with others passionate about mental health\, while raising funds for NAMI Delaware. Your support ensures that we can continue to offer no cost support groups for peers and families\, trainings on suicide prevention and safe\, affordable housing for those who live with a mental illness in Delaware. \nIn addition to the walk itself\, we will have face painting\, delicious food from Blue Hen BBQ and Taco Jardin\, a photo booth\, raffle baskets\, therapy dogs from PAWS for People and exhibitors from other local organizations and businesses. \nRaise $100.00 and win a NAMI Walk T Shirt! The full list of fundraising prizes can be found HERE \nWe hope to see you there! \nPlease reach out to NAMIWalks Manager Greg Nemes at: gnemes@namide.org for more information\, or for any questions or concerns. \n 
URL:https://www.namidelaware.org/event/namiwalks-delaware-2023/
END:VEVENT
END:VCALENDAR