BEGIN:VCALENDAR
VERSION:2.0
PRODID:-//NAMI - ECPv6.15.20//NONSGML v1.0//EN
CALSCALE:GREGORIAN
METHOD:PUBLISH
X-WR-CALNAME:NAMI
X-ORIGINAL-URL:https://www.namidelaware.org
X-WR-CALDESC:Events for NAMI
REFRESH-INTERVAL;VALUE=DURATION:PT1H
X-Robots-Tag:noindex
X-PUBLISHED-TTL:PT1H
BEGIN:VTIMEZONE
TZID:UTC
BEGIN:STANDARD
TZOFFSETFROM:+0000
TZOFFSETTO:+0000
TZNAME:UTC
DTSTART:20230101T000000
END:STANDARD
END:VTIMEZONE
BEGIN:VTIMEZONE
TZID:America/Halifax
BEGIN:DAYLIGHT
TZOFFSETFROM:-0400
TZOFFSETTO:-0300
TZNAME:ADT
DTSTART:20230312T060000
END:DAYLIGHT
BEGIN:STANDARD
TZOFFSETFROM:-0300
TZOFFSETTO:-0400
TZNAME:AST
DTSTART:20231105T050000
END:STANDARD
BEGIN:DAYLIGHT
TZOFFSETFROM:-0400
TZOFFSETTO:-0300
TZNAME:ADT
DTSTART:20240310T060000
END:DAYLIGHT
BEGIN:STANDARD
TZOFFSETFROM:-0300
TZOFFSETTO:-0400
TZNAME:AST
DTSTART:20241103T050000
END:STANDARD
BEGIN:DAYLIGHT
TZOFFSETFROM:-0400
TZOFFSETTO:-0300
TZNAME:ADT
DTSTART:20250309T060000
END:DAYLIGHT
BEGIN:STANDARD
TZOFFSETFROM:-0300
TZOFFSETTO:-0400
TZNAME:AST
DTSTART:20251102T050000
END:STANDARD
BEGIN:DAYLIGHT
TZOFFSETFROM:-0400
TZOFFSETTO:-0300
TZNAME:ADT
DTSTART:20260308T060000
END:DAYLIGHT
BEGIN:STANDARD
TZOFFSETFROM:-0300
TZOFFSETTO:-0400
TZNAME:AST
DTSTART:20261101T050000
END:STANDARD
END:VTIMEZONE
BEGIN:VTIMEZONE
TZID:America/New_York
BEGIN:DAYLIGHT
TZOFFSETFROM:-0500
TZOFFSETTO:-0400
TZNAME:EDT
DTSTART:20230312T070000
END:DAYLIGHT
BEGIN:STANDARD
TZOFFSETFROM:-0400
TZOFFSETTO:-0500
TZNAME:EST
DTSTART:20231105T060000
END:STANDARD
BEGIN:DAYLIGHT
TZOFFSETFROM:-0500
TZOFFSETTO:-0400
TZNAME:EDT
DTSTART:20240310T070000
END:DAYLIGHT
BEGIN:STANDARD
TZOFFSETFROM:-0400
TZOFFSETTO:-0500
TZNAME:EST
DTSTART:20241103T060000
END:STANDARD
BEGIN:DAYLIGHT
TZOFFSETFROM:-0500
TZOFFSETTO:-0400
TZNAME:EDT
DTSTART:20250309T070000
END:DAYLIGHT
BEGIN:STANDARD
TZOFFSETFROM:-0400
TZOFFSETTO:-0500
TZNAME:EST
DTSTART:20251102T060000
END:STANDARD
END:VTIMEZONE
BEGIN:VEVENT
DTSTART;TZID=UTC:20250319T183000
DTEND;TZID=UTC:20250319T200000
DTSTAMP:20260419T222556
CREATED:20230707T165026Z
LAST-MODIFIED:20230707T165026Z
UID:10000475-1742409000-1742414400@www.namidelaware.org
SUMMARY:NAMI Delaware Family Support Group In Person (Lewes)
DESCRIPTION:Our in person Lewes family support group will meet the 3rd Wednesday of each month from 6:30pm-8:00pm at: \nLewes Presbyterian Church \n133 Kings Highway \nLewes\, DE 19958 \nThere is no charge to attend. No registration is required to attend our in person meetings.
URL:https://www.namidelaware.org/event/nami-delaware-family-support-group-in-person-lewes-6/2025-03-19/
END:VEVENT
BEGIN:VEVENT
DTSTART;TZID=UTC:20250313T190000
DTEND;TZID=UTC:20250313T200000
DTSTAMP:20260419T222556
CREATED:20230324T173851Z
LAST-MODIFIED:20230324T173851Z
UID:10000259-1741892400-1741896000@www.namidelaware.org
SUMMARY:NAMI Delaware Virtual Family Support Group
DESCRIPTION:NAMI Delaware Virtual Family Support Group is meant as an online substitute to our in-person Family Support Group meetings to allow family members and loved ones of individuals with a mental health condition the chance to connect and feel supported. \nOur Virtual Family Support Group meets every 1st Monday and every 2nd Thursday of the month\, from 7:00pm-8:00pm. Adjustments will be made for national holidays \nRegister at: https://fsgonline.eventbrite.com \n\n 
URL:https://www.namidelaware.org/event/nami-delaware-virtual-family-support-group-9/2025-03-13/
END:VEVENT
BEGIN:VEVENT
DTSTART;TZID=America/Halifax:20250306T183000
DTEND;TZID=America/Halifax:20250306T193000
DTSTAMP:20260419T222556
CREATED:20230324T174301Z
LAST-MODIFIED:20230324T174301Z
UID:10000281-1741285800-1741289400@www.namidelaware.org
SUMMARY:NAMI Delaware Virtual Connection Recovery Support Group
DESCRIPTION:Register Here \nNAMI Delaware Virtual Connection Recovery Support Group is meant as an online substitute to our in-person Connection Recovery Support Group meetings to allow individuals with a mental health condition the chance to connect and feel supported. \nOur Virtual Connection Recovery Support Group meets every 1st and 3rd Thursday of the month\, from 6:30pm-7:30pm. Adjustments will be made for national holidays.
URL:https://www.namidelaware.org/event/nami-delaware-virtual-connection-recovery-support-group-15/2025-03-06/
END:VEVENT
BEGIN:VEVENT
DTSTART;TZID=America/Halifax:20250303T190000
DTEND;TZID=America/Halifax:20250303T200000
DTSTAMP:20260419T222556
CREATED:20230324T173712Z
LAST-MODIFIED:20230324T183849Z
UID:10000237-1741028400-1741032000@www.namidelaware.org
SUMMARY:NAMI Delaware Virtual Family Support Group
DESCRIPTION:NAMI Delaware Virtual Family Support Group is meant as an online substitute to our in-person Family Support Group meetings to allow family members and loved ones of individuals with a mental health condition the chance to connect and feel supported. \nOur Virtual Family Support Group meets every 1st Monday and every 2nd Thursday of the month\, from 7:00pm-8:00pm. Adjustments will be made for national holidays \nRegister at: https://fsgonline.eventbrite.com \n\n 
URL:https://www.namidelaware.org/event/nami-delaware-virtual-family-support-group-8/2025-03-03/
END:VEVENT
BEGIN:VEVENT
DTSTART;TZID=America/Halifax:20250220T183000
DTEND;TZID=America/Halifax:20250220T193000
DTSTAMP:20260419T222556
CREATED:20230324T174555Z
LAST-MODIFIED:20230324T174555Z
UID:10000302-1740076200-1740079800@www.namidelaware.org
SUMMARY:NAMI Delaware Virtual Connection Recovery Support Group
DESCRIPTION:Register Here \nNAMI Delaware Virtual Connection Recovery Support Group is meant as an online substitute to our in-person Connection Recovery Support Group meetings to allow individuals with a mental health condition the chance to connect and feel supported. \nOur Virtual Connection Recovery Support Group meets every 1st and 3rd Thursday of the month\, from 6:30pm-7:30pm. Adjustments will be made for national holidays.
URL:https://www.namidelaware.org/event/nami-delaware-virtual-connection-recovery-support-group-16/2025-02-20/
END:VEVENT
BEGIN:VEVENT
DTSTART;TZID=UTC:20250219T183000
DTEND;TZID=UTC:20250219T200000
DTSTAMP:20260419T222556
CREATED:20230707T165026Z
LAST-MODIFIED:20230707T165026Z
UID:10000474-1739989800-1739995200@www.namidelaware.org
SUMMARY:NAMI Delaware Family Support Group In Person (Lewes)
DESCRIPTION:Our in person Lewes family support group will meet the 3rd Wednesday of each month from 6:30pm-8:00pm at: \nLewes Presbyterian Church \n133 Kings Highway \nLewes\, DE 19958 \nThere is no charge to attend. No registration is required to attend our in person meetings.
URL:https://www.namidelaware.org/event/nami-delaware-family-support-group-in-person-lewes-6/2025-02-19/
END:VEVENT
BEGIN:VEVENT
DTSTART;TZID=UTC:20250213T190000
DTEND;TZID=UTC:20250213T200000
DTSTAMP:20260419T222556
CREATED:20230324T173851Z
LAST-MODIFIED:20230324T173851Z
UID:10000258-1739473200-1739476800@www.namidelaware.org
SUMMARY:NAMI Delaware Virtual Family Support Group
DESCRIPTION:NAMI Delaware Virtual Family Support Group is meant as an online substitute to our in-person Family Support Group meetings to allow family members and loved ones of individuals with a mental health condition the chance to connect and feel supported. \nOur Virtual Family Support Group meets every 1st Monday and every 2nd Thursday of the month\, from 7:00pm-8:00pm. Adjustments will be made for national holidays \nRegister at: https://fsgonline.eventbrite.com \n\n 
URL:https://www.namidelaware.org/event/nami-delaware-virtual-family-support-group-9/2025-02-13/
END:VEVENT
BEGIN:VEVENT
DTSTART;TZID=America/Halifax:20250206T183000
DTEND;TZID=America/Halifax:20250206T193000
DTSTAMP:20260419T222556
CREATED:20230324T174301Z
LAST-MODIFIED:20230324T174301Z
UID:10000280-1738866600-1738870200@www.namidelaware.org
SUMMARY:NAMI Delaware Virtual Connection Recovery Support Group
DESCRIPTION:Register Here \nNAMI Delaware Virtual Connection Recovery Support Group is meant as an online substitute to our in-person Connection Recovery Support Group meetings to allow individuals with a mental health condition the chance to connect and feel supported. \nOur Virtual Connection Recovery Support Group meets every 1st and 3rd Thursday of the month\, from 6:30pm-7:30pm. Adjustments will be made for national holidays.
URL:https://www.namidelaware.org/event/nami-delaware-virtual-connection-recovery-support-group-15/2025-02-06/
END:VEVENT
BEGIN:VEVENT
DTSTART;TZID=America/Halifax:20250203T190000
DTEND;TZID=America/Halifax:20250203T200000
DTSTAMP:20260419T222556
CREATED:20230324T173712Z
LAST-MODIFIED:20230324T183849Z
UID:10000236-1738609200-1738612800@www.namidelaware.org
SUMMARY:NAMI Delaware Virtual Family Support Group
DESCRIPTION:NAMI Delaware Virtual Family Support Group is meant as an online substitute to our in-person Family Support Group meetings to allow family members and loved ones of individuals with a mental health condition the chance to connect and feel supported. \nOur Virtual Family Support Group meets every 1st Monday and every 2nd Thursday of the month\, from 7:00pm-8:00pm. Adjustments will be made for national holidays \nRegister at: https://fsgonline.eventbrite.com \n\n 
URL:https://www.namidelaware.org/event/nami-delaware-virtual-family-support-group-8/2025-02-03/
END:VEVENT
BEGIN:VEVENT
DTSTART;TZID=America/Halifax:20250116T183000
DTEND;TZID=America/Halifax:20250116T193000
DTSTAMP:20260419T222556
CREATED:20230324T174555Z
LAST-MODIFIED:20230324T174555Z
UID:10000301-1737052200-1737055800@www.namidelaware.org
SUMMARY:NAMI Delaware Virtual Connection Recovery Support Group
DESCRIPTION:Register Here \nNAMI Delaware Virtual Connection Recovery Support Group is meant as an online substitute to our in-person Connection Recovery Support Group meetings to allow individuals with a mental health condition the chance to connect and feel supported. \nOur Virtual Connection Recovery Support Group meets every 1st and 3rd Thursday of the month\, from 6:30pm-7:30pm. Adjustments will be made for national holidays.
URL:https://www.namidelaware.org/event/nami-delaware-virtual-connection-recovery-support-group-16/2025-01-16/
END:VEVENT
BEGIN:VEVENT
DTSTART;TZID=UTC:20250115T183000
DTEND;TZID=UTC:20250115T200000
DTSTAMP:20260419T222556
CREATED:20230707T165026Z
LAST-MODIFIED:20230707T165026Z
UID:10000473-1736965800-1736971200@www.namidelaware.org
SUMMARY:NAMI Delaware Family Support Group In Person (Lewes)
DESCRIPTION:Our in person Lewes family support group will meet the 3rd Wednesday of each month from 6:30pm-8:00pm at: \nLewes Presbyterian Church \n133 Kings Highway \nLewes\, DE 19958 \nThere is no charge to attend. No registration is required to attend our in person meetings.
URL:https://www.namidelaware.org/event/nami-delaware-family-support-group-in-person-lewes-6/2025-01-15/
END:VEVENT
BEGIN:VEVENT
DTSTART;TZID=UTC:20250109T190000
DTEND;TZID=UTC:20250109T200000
DTSTAMP:20260419T222556
CREATED:20230324T173851Z
LAST-MODIFIED:20230324T173851Z
UID:10000257-1736449200-1736452800@www.namidelaware.org
SUMMARY:NAMI Delaware Virtual Family Support Group
DESCRIPTION:NAMI Delaware Virtual Family Support Group is meant as an online substitute to our in-person Family Support Group meetings to allow family members and loved ones of individuals with a mental health condition the chance to connect and feel supported. \nOur Virtual Family Support Group meets every 1st Monday and every 2nd Thursday of the month\, from 7:00pm-8:00pm. Adjustments will be made for national holidays \nRegister at: https://fsgonline.eventbrite.com \n\n 
URL:https://www.namidelaware.org/event/nami-delaware-virtual-family-support-group-9/2025-01-09/
END:VEVENT
BEGIN:VEVENT
DTSTART;TZID=America/Halifax:20250106T190000
DTEND;TZID=America/Halifax:20250106T200000
DTSTAMP:20260419T222556
CREATED:20230324T173712Z
LAST-MODIFIED:20230324T183849Z
UID:10000235-1736190000-1736193600@www.namidelaware.org
SUMMARY:NAMI Delaware Virtual Family Support Group
DESCRIPTION:NAMI Delaware Virtual Family Support Group is meant as an online substitute to our in-person Family Support Group meetings to allow family members and loved ones of individuals with a mental health condition the chance to connect and feel supported. \nOur Virtual Family Support Group meets every 1st Monday and every 2nd Thursday of the month\, from 7:00pm-8:00pm. Adjustments will be made for national holidays \nRegister at: https://fsgonline.eventbrite.com \n\n 
URL:https://www.namidelaware.org/event/nami-delaware-virtual-family-support-group-8/2025-01-06/
END:VEVENT
BEGIN:VEVENT
DTSTART;TZID=America/Halifax:20250102T183000
DTEND;TZID=America/Halifax:20250102T193000
DTSTAMP:20260419T222556
CREATED:20230324T174301Z
LAST-MODIFIED:20230324T174301Z
UID:10000279-1735842600-1735846200@www.namidelaware.org
SUMMARY:NAMI Delaware Virtual Connection Recovery Support Group
DESCRIPTION:Register Here \nNAMI Delaware Virtual Connection Recovery Support Group is meant as an online substitute to our in-person Connection Recovery Support Group meetings to allow individuals with a mental health condition the chance to connect and feel supported. \nOur Virtual Connection Recovery Support Group meets every 1st and 3rd Thursday of the month\, from 6:30pm-7:30pm. Adjustments will be made for national holidays.
URL:https://www.namidelaware.org/event/nami-delaware-virtual-connection-recovery-support-group-15/2025-01-02/
END:VEVENT
BEGIN:VEVENT
DTSTART;TZID=America/Halifax:20241219T183000
DTEND;TZID=America/Halifax:20241219T193000
DTSTAMP:20260419T222556
CREATED:20230324T174555Z
LAST-MODIFIED:20230324T174555Z
UID:10000300-1734633000-1734636600@www.namidelaware.org
SUMMARY:NAMI Delaware Virtual Connection Recovery Support Group
DESCRIPTION:Register Here \nNAMI Delaware Virtual Connection Recovery Support Group is meant as an online substitute to our in-person Connection Recovery Support Group meetings to allow individuals with a mental health condition the chance to connect and feel supported. \nOur Virtual Connection Recovery Support Group meets every 1st and 3rd Thursday of the month\, from 6:30pm-7:30pm. Adjustments will be made for national holidays.
URL:https://www.namidelaware.org/event/nami-delaware-virtual-connection-recovery-support-group-16/2024-12-19/
END:VEVENT
BEGIN:VEVENT
DTSTART;TZID=UTC:20241218T183000
DTEND;TZID=UTC:20241218T200000
DTSTAMP:20260419T222556
CREATED:20230707T165026Z
LAST-MODIFIED:20230707T165026Z
UID:10000472-1734546600-1734552000@www.namidelaware.org
SUMMARY:NAMI Delaware Family Support Group In Person (Lewes)
DESCRIPTION:Our in person Lewes family support group will meet the 3rd Wednesday of each month from 6:30pm-8:00pm at: \nLewes Presbyterian Church \n133 Kings Highway \nLewes\, DE 19958 \nThere is no charge to attend. No registration is required to attend our in person meetings.
URL:https://www.namidelaware.org/event/nami-delaware-family-support-group-in-person-lewes-6/2024-12-18/
END:VEVENT
BEGIN:VEVENT
DTSTART;TZID=UTC:20241212T190000
DTEND;TZID=UTC:20241212T200000
DTSTAMP:20260419T222556
CREATED:20230324T173851Z
LAST-MODIFIED:20230324T173851Z
UID:10000256-1734030000-1734033600@www.namidelaware.org
SUMMARY:NAMI Delaware Virtual Family Support Group
DESCRIPTION:NAMI Delaware Virtual Family Support Group is meant as an online substitute to our in-person Family Support Group meetings to allow family members and loved ones of individuals with a mental health condition the chance to connect and feel supported. \nOur Virtual Family Support Group meets every 1st Monday and every 2nd Thursday of the month\, from 7:00pm-8:00pm. Adjustments will be made for national holidays \nRegister at: https://fsgonline.eventbrite.com \n\n 
URL:https://www.namidelaware.org/event/nami-delaware-virtual-family-support-group-9/2024-12-12/
END:VEVENT
BEGIN:VEVENT
DTSTART;TZID=America/Halifax:20241205T183000
DTEND;TZID=America/Halifax:20241205T193000
DTSTAMP:20260419T222556
CREATED:20230324T174301Z
LAST-MODIFIED:20230324T174301Z
UID:10000278-1733423400-1733427000@www.namidelaware.org
SUMMARY:NAMI Delaware Virtual Connection Recovery Support Group
DESCRIPTION:Register Here \nNAMI Delaware Virtual Connection Recovery Support Group is meant as an online substitute to our in-person Connection Recovery Support Group meetings to allow individuals with a mental health condition the chance to connect and feel supported. \nOur Virtual Connection Recovery Support Group meets every 1st and 3rd Thursday of the month\, from 6:30pm-7:30pm. Adjustments will be made for national holidays.
URL:https://www.namidelaware.org/event/nami-delaware-virtual-connection-recovery-support-group-15/2024-12-05/
END:VEVENT
BEGIN:VEVENT
DTSTART;TZID=America/Halifax:20241202T190000
DTEND;TZID=America/Halifax:20241202T200000
DTSTAMP:20260419T222556
CREATED:20230324T173712Z
LAST-MODIFIED:20230324T183849Z
UID:10000234-1733166000-1733169600@www.namidelaware.org
SUMMARY:NAMI Delaware Virtual Family Support Group
DESCRIPTION:NAMI Delaware Virtual Family Support Group is meant as an online substitute to our in-person Family Support Group meetings to allow family members and loved ones of individuals with a mental health condition the chance to connect and feel supported. \nOur Virtual Family Support Group meets every 1st Monday and every 2nd Thursday of the month\, from 7:00pm-8:00pm. Adjustments will be made for national holidays \nRegister at: https://fsgonline.eventbrite.com \n\n 
URL:https://www.namidelaware.org/event/nami-delaware-virtual-family-support-group-8/2024-12-02/
END:VEVENT
BEGIN:VEVENT
DTSTART;TZID=America/Halifax:20241121T183000
DTEND;TZID=America/Halifax:20241121T193000
DTSTAMP:20260419T222556
CREATED:20230324T174555Z
LAST-MODIFIED:20230324T174555Z
UID:10000299-1732213800-1732217400@www.namidelaware.org
SUMMARY:NAMI Delaware Virtual Connection Recovery Support Group
DESCRIPTION:Register Here \nNAMI Delaware Virtual Connection Recovery Support Group is meant as an online substitute to our in-person Connection Recovery Support Group meetings to allow individuals with a mental health condition the chance to connect and feel supported. \nOur Virtual Connection Recovery Support Group meets every 1st and 3rd Thursday of the month\, from 6:30pm-7:30pm. Adjustments will be made for national holidays.
URL:https://www.namidelaware.org/event/nami-delaware-virtual-connection-recovery-support-group-16/2024-11-21/
END:VEVENT
BEGIN:VEVENT
DTSTART;TZID=UTC:20241120T183000
DTEND;TZID=UTC:20241120T200000
DTSTAMP:20260419T222556
CREATED:20230707T165026Z
LAST-MODIFIED:20230707T165026Z
UID:10000471-1732127400-1732132800@www.namidelaware.org
SUMMARY:NAMI Delaware Family Support Group In Person (Lewes)
DESCRIPTION:Our in person Lewes family support group will meet the 3rd Wednesday of each month from 6:30pm-8:00pm at: \nLewes Presbyterian Church \n133 Kings Highway \nLewes\, DE 19958 \nThere is no charge to attend. No registration is required to attend our in person meetings.
URL:https://www.namidelaware.org/event/nami-delaware-family-support-group-in-person-lewes-6/2024-11-20/
END:VEVENT
BEGIN:VEVENT
DTSTART;TZID=UTC:20241114T190000
DTEND;TZID=UTC:20241114T200000
DTSTAMP:20260419T222556
CREATED:20230324T173851Z
LAST-MODIFIED:20230324T173851Z
UID:10000255-1731610800-1731614400@www.namidelaware.org
SUMMARY:NAMI Delaware Virtual Family Support Group
DESCRIPTION:NAMI Delaware Virtual Family Support Group is meant as an online substitute to our in-person Family Support Group meetings to allow family members and loved ones of individuals with a mental health condition the chance to connect and feel supported. \nOur Virtual Family Support Group meets every 1st Monday and every 2nd Thursday of the month\, from 7:00pm-8:00pm. Adjustments will be made for national holidays \nRegister at: https://fsgonline.eventbrite.com \n\n 
URL:https://www.namidelaware.org/event/nami-delaware-virtual-family-support-group-9/2024-11-14/
END:VEVENT
BEGIN:VEVENT
DTSTART;TZID=America/Halifax:20241107T183000
DTEND;TZID=America/Halifax:20241107T193000
DTSTAMP:20260419T222556
CREATED:20230324T174301Z
LAST-MODIFIED:20230324T174301Z
UID:10000277-1731004200-1731007800@www.namidelaware.org
SUMMARY:NAMI Delaware Virtual Connection Recovery Support Group
DESCRIPTION:Register Here \nNAMI Delaware Virtual Connection Recovery Support Group is meant as an online substitute to our in-person Connection Recovery Support Group meetings to allow individuals with a mental health condition the chance to connect and feel supported. \nOur Virtual Connection Recovery Support Group meets every 1st and 3rd Thursday of the month\, from 6:30pm-7:30pm. Adjustments will be made for national holidays.
URL:https://www.namidelaware.org/event/nami-delaware-virtual-connection-recovery-support-group-15/2024-11-07/
END:VEVENT
BEGIN:VEVENT
DTSTART;TZID=America/Halifax:20241104T190000
DTEND;TZID=America/Halifax:20241104T200000
DTSTAMP:20260419T222556
CREATED:20230324T173712Z
LAST-MODIFIED:20230324T183849Z
UID:10000233-1730746800-1730750400@www.namidelaware.org
SUMMARY:NAMI Delaware Virtual Family Support Group
DESCRIPTION:NAMI Delaware Virtual Family Support Group is meant as an online substitute to our in-person Family Support Group meetings to allow family members and loved ones of individuals with a mental health condition the chance to connect and feel supported. \nOur Virtual Family Support Group meets every 1st Monday and every 2nd Thursday of the month\, from 7:00pm-8:00pm. Adjustments will be made for national holidays \nRegister at: https://fsgonline.eventbrite.com \n\n 
URL:https://www.namidelaware.org/event/nami-delaware-virtual-family-support-group-8/2024-11-04/
END:VEVENT
BEGIN:VEVENT
DTSTART;TZID=America/New_York:20241029T080000
DTEND;TZID=America/New_York:20241030T170000
DTSTAMP:20260419T222556
CREATED:20240731T171709Z
LAST-MODIFIED:20240731T171709Z
UID:10000746-1730188800-1730307600@www.namidelaware.org
SUMMARY:Crisis Intervention Partners (CIP)
DESCRIPTION:As Crisis Intervention Team (CIT) training has grown in popularity\, there has been increasing interest in the training by those outside of the law enforcement field. Because of this\, we are now piloting a 16-hour (2-day) course of Crisis Intervention Partners (CIP) for the general community! \nIf you are not law enforcement and looking to get a more in-depth understanding of mental illness\, along with techniques to help verbally de-escalate an individual\, this is the class for you! This would be best for those working customer service or other client-facing professions\, but we feel that anyone\, regardless of career\, would benefit from this knowledge. \nBoth days of this training\, October 29th & 30th\, are required for this class. This is an in-person class held at the PODD Church at 4462 W. Denneys Rd\, Dover\, DE 19904. Each participant that completes both days of training will receive a certificate and a pin. \nA huge thank you to NAMI Wisconsin for their guidance in the creation of this course. \nREGISTRATION REQUIRED! https://namide-cip.eventbrite.com
URL:https://www.namidelaware.org/event/crisis-intervention-partners-cip/
LOCATION:PODD Church\, 4462 W. Denneys Rd\, Dover\, DE\, 19904\, United States
END:VEVENT
BEGIN:VEVENT
DTSTART;TZID=America/New_York:20241021T190000
DTEND;TZID=America/New_York:20241021T200000
DTSTAMP:20260419T222556
CREATED:20240822T192322Z
LAST-MODIFIED:20240822T192534Z
UID:10000806-1729537200-1729540800@www.namidelaware.org
SUMMARY:NAMI Delaware Virtual Spouse/Partner Family Support Group
DESCRIPTION:Update: The September 2024 meeting will meet on Wednesday\, September 25\, 7pm-8pm. We apologize for this inconvenience.  \nNAMI Delaware’s Spouse/Partner Family Support Group will meet on the 3rd Monday of the month\, from 7:00pm-8:00pm. Adjustments will be made for national holidays. \nRegistration required in order to access Zoom link. Register now at: https://spousefsgonline.eventbrite.com  \nThis support group will be facilitated by trained NAMI Delaware volunteers with lived experience and structured as closely to the original model of NAMI Family Support Group as possible via Zoom. It is open to all participants who identify as a spouse/partner of an individual with a mental health condition and are over the age of 18. \nParticipants may participate by using a phone or web connection. If connecting online\, participants may show or hide their webcam. They may choose to mute their line and use headphones to listen only\, and they may choose to respond silently by typing into the chat feature if they prefer.
URL:https://www.namidelaware.org/event/nami-delaware-virtual-spouse-partner-family-support-group-9-2/
END:VEVENT
BEGIN:VEVENT
DTSTART;TZID=America/Halifax:20241017T183000
DTEND;TZID=America/Halifax:20241017T193000
DTSTAMP:20260419T222556
CREATED:20230324T174555Z
LAST-MODIFIED:20230324T174555Z
UID:10000298-1729189800-1729193400@www.namidelaware.org
SUMMARY:NAMI Delaware Virtual Connection Recovery Support Group
DESCRIPTION:Register Here \nNAMI Delaware Virtual Connection Recovery Support Group is meant as an online substitute to our in-person Connection Recovery Support Group meetings to allow individuals with a mental health condition the chance to connect and feel supported. \nOur Virtual Connection Recovery Support Group meets every 1st and 3rd Thursday of the month\, from 6:30pm-7:30pm. Adjustments will be made for national holidays.
URL:https://www.namidelaware.org/event/nami-delaware-virtual-connection-recovery-support-group-16/2024-10-17/
END:VEVENT
BEGIN:VEVENT
DTSTART;TZID=UTC:20241016T183000
DTEND;TZID=UTC:20241016T200000
DTSTAMP:20260419T222556
CREATED:20230707T165026Z
LAST-MODIFIED:20230707T165026Z
UID:10000470-1729103400-1729108800@www.namidelaware.org
SUMMARY:NAMI Delaware Family Support Group In Person (Lewes)
DESCRIPTION:Our in person Lewes family support group will meet the 3rd Wednesday of each month from 6:30pm-8:00pm at: \nLewes Presbyterian Church \n133 Kings Highway \nLewes\, DE 19958 \nThere is no charge to attend. No registration is required to attend our in person meetings.
URL:https://www.namidelaware.org/event/nami-delaware-family-support-group-in-person-lewes-6/2024-10-16/
END:VEVENT
BEGIN:VEVENT
DTSTART;TZID=UTC:20241010T190000
DTEND;TZID=UTC:20241010T200000
DTSTAMP:20260419T222556
CREATED:20230324T173851Z
LAST-MODIFIED:20230324T173851Z
UID:10000254-1728586800-1728590400@www.namidelaware.org
SUMMARY:NAMI Delaware Virtual Family Support Group
DESCRIPTION:NAMI Delaware Virtual Family Support Group is meant as an online substitute to our in-person Family Support Group meetings to allow family members and loved ones of individuals with a mental health condition the chance to connect and feel supported. \nOur Virtual Family Support Group meets every 1st Monday and every 2nd Thursday of the month\, from 7:00pm-8:00pm. Adjustments will be made for national holidays \nRegister at: https://fsgonline.eventbrite.com \n\n 
URL:https://www.namidelaware.org/event/nami-delaware-virtual-family-support-group-9/2024-10-10/
END:VEVENT
BEGIN:VEVENT
DTSTART;TZID=America/Halifax:20241007T190000
DTEND;TZID=America/Halifax:20241007T200000
DTSTAMP:20260419T222556
CREATED:20230324T173712Z
LAST-MODIFIED:20230324T183849Z
UID:10000232-1728327600-1728331200@www.namidelaware.org
SUMMARY:NAMI Delaware Virtual Family Support Group
DESCRIPTION:NAMI Delaware Virtual Family Support Group is meant as an online substitute to our in-person Family Support Group meetings to allow family members and loved ones of individuals with a mental health condition the chance to connect and feel supported. \nOur Virtual Family Support Group meets every 1st Monday and every 2nd Thursday of the month\, from 7:00pm-8:00pm. Adjustments will be made for national holidays \nRegister at: https://fsgonline.eventbrite.com \n\n 
URL:https://www.namidelaware.org/event/nami-delaware-virtual-family-support-group-8/2024-10-07/
END:VEVENT
END:VCALENDAR