BEGIN:VCALENDAR
VERSION:2.0
PRODID:-//NAMI - ECPv6.15.20//NONSGML v1.0//EN
CALSCALE:GREGORIAN
METHOD:PUBLISH
X-WR-CALNAME:NAMI
X-ORIGINAL-URL:https://www.namidelaware.org
X-WR-CALDESC:Events for NAMI
REFRESH-INTERVAL;VALUE=DURATION:PT1H
X-Robots-Tag:noindex
X-PUBLISHED-TTL:PT1H
BEGIN:VTIMEZONE
TZID:UTC
BEGIN:STANDARD
TZOFFSETFROM:+0000
TZOFFSETTO:+0000
TZNAME:UTC
DTSTART:20210101T000000
END:STANDARD
END:VTIMEZONE
BEGIN:VEVENT
DTSTART;TZID=UTC:20230109T190000
DTEND;TZID=UTC:20230109T203000
DTSTAMP:20260420T164531
CREATED:20221206T190718Z
LAST-MODIFIED:20230109T215416Z
UID:10000029-1673290800-1673296200@www.namidelaware.org
SUMMARY:NAMI Delaware In Person Family Support Group (Wilmington)
DESCRIPTION:Our last in person Wilmington family support group meeting will be on Monday\, February 13. Our virtual family support group meetings\, as well as our monthly Family Support Group in Lewes\, will continue as scheduled. We apologize for any inconvenience. Please see the list of upcoming Virtual Family Support Group Meetings HERE \nOur family support group meetings are open to anyone 18 years or older who identify as being a family member or someone that lives with a mental illness. For our peer support groups\, please see our “NAMI Connection” virtual meetings on our events calendar. \nOur in person Wilmington family support group will meet the 2nd Monday of each month from 7pm-8:30pm at: \nBrandywine Valley Church \n7 Mt Lebanon Road \nWilmington\, DE 19801 \nThere is no charge to attend. No registration is required to attend our in person meetings. \n 
URL:https://www.namidelaware.org/event/nami-delaware-in-person-family-support-group-wilmington-2/
LOCATION:Brandywine Valley Church\, 7 Mt Lebanon Road\, Wilmington\, DE\, 19801
END:VEVENT
BEGIN:VEVENT
DTSTART;TZID=UTC:20230105T183000
DTEND;TZID=UTC:20230105T193000
DTSTAMP:20260420T164531
CREATED:20221209T215648Z
LAST-MODIFIED:20221209T215648Z
UID:10000033-1672943400-1672947000@www.namidelaware.org
SUMMARY:NAMI Delaware Virtual Connection Recovery Support Group
DESCRIPTION:Register Here \nNAMI Delaware Virtual Connection Recovery Support Group is meant as an online substitute to our in-person Connection Recovery Support Group meetings to allow individuals with a mental health condition the chance to connect and feel supported. \nOur Virtual Connection Recovery Support Group meets every 1st and 3rd Thursday of the month\, from 6:30pm-7:30pm. Adjustments will be made for national holidays.
URL:https://www.namidelaware.org/event/nami-delaware-virtual-connection-recovery-support-group-3/
END:VEVENT
BEGIN:VEVENT
DTSTART;VALUE=DATE:20230102
DTEND;VALUE=DATE:20230103
DTSTAMP:20260420T164531
CREATED:20221215T201722Z
LAST-MODIFIED:20221221T175528Z
UID:10000077-1672617600-1672703999@www.namidelaware.org
SUMMARY:Office Closure (New Year's Holiday)
DESCRIPTION:NAMI Delaware will be closed for the New Year’s Holiday on Friday\, December 30th as well as Monday\, January 2nd. We hope you have a safe and happy New Year!
URL:https://www.namidelaware.org/event/office-closure-new-years-holiday-2/
END:VEVENT
BEGIN:VEVENT
DTSTART;VALUE=DATE:20221230
DTEND;VALUE=DATE:20221231
DTSTAMP:20260420T164531
CREATED:20221206T191353Z
LAST-MODIFIED:20221221T175559Z
UID:10000032-1672358400-1672444799@www.namidelaware.org
SUMMARY:Office Closure (New Year's Holiday)
DESCRIPTION:NAMI Delaware will be closed for the New Year’s Holiday on Friday\, December 30th as well as Monday\, January 2nd. We hope you have a safe and happy New Year!
URL:https://www.namidelaware.org/event/office-closure-new-years-holiday/
END:VEVENT
BEGIN:VEVENT
DTSTART;VALUE=DATE:20221226
DTEND;VALUE=DATE:20221227
DTSTAMP:20260420T164531
CREATED:20221206T191214Z
LAST-MODIFIED:20221206T191214Z
UID:10000031-1672012800-1672099199@www.namidelaware.org
SUMMARY:Office Closure (Winter Holiday)
DESCRIPTION:NAMI Delaware will be closed for the Holidays on Friday\, December 23 and Monday\, December 26th. Happy Holidays!
URL:https://www.namidelaware.org/event/office-closure-winter-holiday-2/
END:VEVENT
BEGIN:VEVENT
DTSTART;VALUE=DATE:20221223
DTEND;VALUE=DATE:20221224
DTSTAMP:20260420T164531
CREATED:20221206T191106Z
LAST-MODIFIED:20221206T191106Z
UID:10000030-1671753600-1671839999@www.namidelaware.org
SUMMARY:Office Closure (Winter Holiday)
DESCRIPTION:NAMI Delaware will be closed for the Holidays on Friday\, December 23 and Monday\, December 26th. Happy Holidays!
URL:https://www.namidelaware.org/event/office-closure-winter-holiday/
END:VEVENT
BEGIN:VEVENT
DTSTART;TZID=UTC:20221222T183000
DTEND;TZID=UTC:20221222T200000
DTSTAMP:20260420T164531
CREATED:20221221T172444Z
LAST-MODIFIED:20221221T172444Z
UID:10000081-1671733800-1671739200@www.namidelaware.org
SUMMARY:Sharing Hope: Community Conversations
DESCRIPTION:Sharing Hope: Community Conversations is an interactive Zoom call discussing various topics relevant to mental health and stigma in the Black community. It is based off of the program created by NAMI National called Sharing Hope. In this call\, community members can speak with specialized guest speakers that are relevant to the topic of the month. Our moderator is peer advocate and NAMI Delaware Diversity & Equity Fellow\, Nyemade Boiwu (she/her).\n\nDecember’s meeting will be held on Thursday\, December 22nd from 6:30pm-8:00pm over zoom!\n\nDecember’s Topic: Coping With The Holidays\n\nGuest: Kenyon O. Wilson (Metropolitan Urban League Young Professionals)\n\nRegister now! https://sharinghopeonline.eventbrite.com
URL:https://www.namidelaware.org/event/sharing-hope-community-conversations-4/
END:VEVENT
BEGIN:VEVENT
DTSTART;TZID=UTC:20221221T183000
DTEND;TZID=UTC:20221221T193000
DTSTAMP:20260420T164531
CREATED:20221127T195937Z
LAST-MODIFIED:20221213T210910Z
UID:10000024-1671647400-1671651000@www.namidelaware.org
SUMMARY:NAMI Delaware In Person Family Support Group (Lewes)
DESCRIPTION:Our in person Lewes family support group will meet the 3rd Wednesday of each month from 6:30pm-8:00pm at: \nLewes Presbyterian Church \n133 Kings Highway \nLewes\, DE 19958 \nThere is no charge to attend. No registration is required to attend our in person meetings.
URL:https://www.namidelaware.org/event/nami-delaware-in-person-family-support-group-lewes/
LOCATION:Lewes Presbyterian Church\, 133 Kings Highway\, Lewes\, DE\, 19958
END:VEVENT
BEGIN:VEVENT
DTSTART;TZID=UTC:20221219T190000
DTEND;TZID=UTC:20221219T200000
DTSTAMP:20260420T164531
CREATED:20221127T200739Z
LAST-MODIFIED:20221127T200739Z
UID:10000026-1671476400-1671480000@www.namidelaware.org
SUMMARY:NAMI Delaware Virtual Spouse/Partner Family Support Group
DESCRIPTION:Register Here \nNAMI Delaware’s Spouse/Partner Family Support Group will meet very 3rd Monday of the month\, from 7:00pm-8:00pm. Adjustments will be made for national holidays. \nThis support group will be facilitated by trained NAMI Delaware volunteers with lived experience and structured as closely to the original model of NAMI Family Support Group as possible via Zoom. It is open to all participants who identify as a spouse/partner of an individual with a mental health condition and are over the age of 18.
URL:https://www.namidelaware.org/event/nami-delaware-virtual-spouse-partner-family-support-group/
END:VEVENT
BEGIN:VEVENT
DTSTART;TZID=UTC:20221215T183000
DTEND;TZID=UTC:20221215T193000
DTSTAMP:20260420T164531
CREATED:20221127T194309Z
LAST-MODIFIED:20221127T194309Z
UID:10000022-1671129000-1671132600@www.namidelaware.org
SUMMARY:NAMI Delaware Virtual Connection Recovery Support Group
DESCRIPTION:Register Here \nNAMI Delaware Virtual Connection Recovery Support Group is meant as an online substitute to our in-person Connection Recovery Support Group meetings to allow individuals with a mental health condition the chance to connect and feel supported. \nOur Virtual Connection Recovery Support Group meets every 1st and 3rd Thursday of the month\, from 6:30pm-7:30pm. Adjustments will be made for national holidays.
URL:https://www.namidelaware.org/event/nami-delaware-virtual-connection-recovery-support-group-2/
END:VEVENT
BEGIN:VEVENT
DTSTART;TZID=UTC:20221215T180000
DTEND;TZID=UTC:20221215T190000
DTSTAMP:20260420T164531
CREATED:20221127T201043Z
LAST-MODIFIED:20221127T201043Z
UID:10000027-1671127200-1671130800@www.namidelaware.org
SUMMARY:LGBTQ+ Young Adult Discussion Group
DESCRIPTION:CAMP Rehoboth and NAMI Delaware are pleased to announce a new\, virtual discussion group designed specifically for young 18 to 25 year old LGBTQ+ adults. This group will meet virtually by zoom every third Thursday of the month at 6:00pm. This group is free\, confidential\, and peer-led. \nPeer-led discussion group offers a safe space for young adults to share experiences and explore their own understandings of gender and sexuality. The discussion group may include topics such as Healthy Relationships\, Coming Out\, Creative Writing\, Bullying\, LGBTQ History\, Self-Image\, and Systems of Oppression\, among many other topics. \nRegister Here
URL:https://www.namidelaware.org/event/lgbtq-young-adult-discussion-group-2/
END:VEVENT
BEGIN:VEVENT
DTSTART;TZID=UTC:20221213T160000
DTEND;TZID=UTC:20221213T170000
DTSTAMP:20260420T164531
CREATED:20221117T212703Z
LAST-MODIFIED:20221117T212703Z
UID:10000015-1670947200-1670950800@www.namidelaware.org
SUMMARY:QPR Gatekeeper Training
DESCRIPTION:QPR Gatekeeper Training is a virtual\, 1 hour training meant to guide participants on how to recognize an individual who may be in a suicide crisis and how to guide them to proper treatment/services. QPR is a mnemonic that stands for Question\, Persuade and Refer to help you remember the 3 easy steps to helping a person who may be suicidal.\n\nRegister at: https://namideqpr.eventbrite.com
URL:https://www.namidelaware.org/event/qpr-gatekeeper-training-2/
END:VEVENT
BEGIN:VEVENT
DTSTART;TZID=UTC:20221212T190000
DTEND;TZID=UTC:20221212T200000
DTSTAMP:20260420T164531
CREATED:20221127T195438Z
LAST-MODIFIED:20221209T173724Z
UID:10000023-1670871600-1670875200@www.namidelaware.org
SUMMARY:NAMI Delaware In Person Family Support Group (Wilmington)
DESCRIPTION:Our family support group meetings are open to anyone 18 years or older who identify as being a family member or someone that lives with a mental illness. For our peer support groups\, please see our “NAMI Connection” virtual meetings on our events calendar. \nOur in person Wilmington family support group will meet the 2nd Monday of each month from 7pm-8pm at: \nBrandywine Valley Church \n7 Mt Lebanon Road \nWilmington\, DE 19801 \nThere is no charge to attend. No registration is required to attend our in person meetings. \n 
URL:https://www.namidelaware.org/event/nami-delaware-in-person-family-support-group-wilmington/
LOCATION:Brandywine Valley Church\, 7 Mt Lebanon Road\, Wilmington\, DE\, 19801
END:VEVENT
BEGIN:VEVENT
DTSTART;TZID=UTC:20221208T190000
DTEND;TZID=UTC:20221208T200000
DTSTAMP:20260420T164531
CREATED:20221119T000217Z
LAST-MODIFIED:20221119T005714Z
UID:10000019-1670526000-1670529600@www.namidelaware.org
SUMMARY:NAMI Delaware Virtual Family Support Group
DESCRIPTION:NAMI Delaware Virtual Family Support Group is meant as an online substitute to our in-person Family Support Group meetings to allow family members and loved ones of individuals with a mental health condition the chance to connect and feel supported. \nOur Virtual Family Support Group meets every 1st Monday and every 2nd Thursday of the month\, from 7:00pm-8:00pm. Adjustments will be made for national holidays \nRegister at: https://namidefsg.eventbrite.com \n\n 
URL:https://www.namidelaware.org/event/nami-delaware-virtual-family-support-group/
END:VEVENT
BEGIN:VEVENT
DTSTART;TZID=UTC:20221205T190000
DTEND;TZID=UTC:20221205T200000
DTSTAMP:20260420T164531
CREATED:20221119T000023Z
LAST-MODIFIED:20221119T005759Z
UID:10000018-1670266800-1670270400@www.namidelaware.org
SUMMARY:NAMI Delaware Virtual Family Support Group
DESCRIPTION:NAMI Delaware Virtual Family Support Group is meant as an online substitute to our in-person Family Support Group meetings to allow family members and loved ones of individuals with a mental health condition the chance to connect and feel supported. \nOur Virtual Family Support Group meets every 1st Monday and every 2nd Thursday of the month\, from 7:00pm-8:00pm. Adjustments will be made for national holidays \nRegister at: https://namidefsg.eventbrite.com \n\n 
URL:https://www.namidelaware.org/event/virtual-family-support-group/
END:VEVENT
BEGIN:VEVENT
DTSTART;TZID=UTC:20221201T183000
DTEND;TZID=UTC:20221201T193000
DTSTAMP:20260420T164531
CREATED:20221127T194050Z
LAST-MODIFIED:20221127T194050Z
UID:10000021-1669919400-1669923000@www.namidelaware.org
SUMMARY:NAMI Delaware Virtual Connection Recovery Support Group
DESCRIPTION:Register Here \nNAMI Delaware Virtual Connection Recovery Support Group is meant as an online substitute to our in-person Connection Recovery Support Group meetings to allow individuals with a mental health condition the chance to connect and feel supported. \nOur Virtual Connection Recovery Support Group meets every 1st and 3rd Thursday of the month\, from 6:30pm-7:30pm. Adjustments will be made for national holidays.
URL:https://www.namidelaware.org/event/nami-delaware-virtual-connection-recovery-support-group/
END:VEVENT
BEGIN:VEVENT
DTSTART;TZID=UTC:20221130T183000
DTEND;TZID=UTC:20221130T200000
DTSTAMP:20260420T164531
CREATED:20221119T014652Z
LAST-MODIFIED:20221119T014652Z
UID:10000020-1669833000-1669838400@www.namidelaware.org
SUMMARY:Sharing Hope: Community Conversations
DESCRIPTION:Sharing Hope: Community Conversations is an interactive Zoom call discussing various topics relevant to mental health and stigma in the Black community. It is based off of the program created by NAMI National called Sharing Hope. In this call\, community members can speak with specialized guest speakers that are relevant to the topic of the month. Our moderator is peer advocate and NAMI Delaware Diversity & Equity Fellow\, Nyemade Boiwu (she/her).\n\nNovember’s meeting will be held on Wednesday\, November 30th over Zoom!\n\nNovember’s Topic: Coping with the Holidays\n\nGuests: Aisha Monroe M.S.\, CFLE (Associate Direct of Student Success\, and Miss Wilmington) and Lisa R. Savage\, LCSW (CEO & Founder of the Center for Child Development)\n\nRegister now! https://sharinghopeonline.eventbrite.com
URL:https://www.namidelaware.org/event/sharing-hope-community-conversations-2/
END:VEVENT
BEGIN:VEVENT
DTSTART;VALUE=DATE:20221121
DTEND;VALUE=DATE:20221127
DTSTAMP:20260420T164531
CREATED:20221117T221137Z
LAST-MODIFIED:20221117T221137Z
UID:10000016-1668988800-1669507199@www.namidelaware.org
SUMMARY:Office Closure: Thanksgiving Holiday
DESCRIPTION:NAMI Delaware will be closed for the Thanksgiving Holiday from Monday\, November 21 through Friday\, November 25. This is part of our commitment to encouraging self-care for our team and to demonstrate our gratitude for all our team contributes every year. Happy Thanksgiving!
URL:https://www.namidelaware.org/event/office-closure-thanksgiving-holiday/
END:VEVENT
BEGIN:VEVENT
DTSTART;TZID=UTC:20221027T183000
DTEND;TZID=UTC:20221027T200000
DTSTAMP:20260420T164531
CREATED:20221013T163901Z
LAST-MODIFIED:20221013T163901Z
UID:10000013-1666895400-1666900800@www.namidelaware.org
SUMMARY:Sharing Hope: Community Conversations
DESCRIPTION:Sharing Hope: Community Conversations is an interactive Zoom call discussing various topics relevant to mental health and stigma in the Black community. It is based off of the program created by NAMI National called Sharing Hope. In this call\, community members can speak with specialized guest speakers that are relevant to the topic of the month. Our moderator is peer advocate and NAMI Delaware Diversity & Equity Fellow\, Nyemade Boiwu (she/her).
URL:https://www.namidelaware.org/event/sharing-hope-community-conversations/
END:VEVENT
BEGIN:VEVENT
DTSTART;TZID=UTC:20221020T183000
DTEND;TZID=UTC:20221020T190000
DTSTAMP:20260420T164531
CREATED:20221013T163811Z
LAST-MODIFIED:20221013T163811Z
UID:10000012-1666290600-1666292400@www.namidelaware.org
SUMMARY:NAMI Connection Recovery Support Group
DESCRIPTION:NAMI Delaware Virtual Connection Recovery Support Group is meant as an online substitute to our in-person Connection Recovery Support Group meetings to allow individuals with a mental health condition the chance to connect and feel supported. \nThis support group will be facilitated by trained NAMI Delaware volunteers with lived experience and structured as closely to the original model of NAMI Connection Recovery Support Group as possible via Zoom. It is open to all participants who identify as a peer and are over the age of 18.
URL:https://www.namidelaware.org/event/nami-connection-recovery-support-group-2/
END:VEVENT
BEGIN:VEVENT
DTSTART;TZID=UTC:20221020T180000
DTEND;TZID=UTC:20221020T190000
DTSTAMP:20260420T164531
CREATED:20221013T163639Z
LAST-MODIFIED:20221013T163639Z
UID:10000011-1666288800-1666292400@www.namidelaware.org
SUMMARY:LGBTQ+ Young Adult Discussion Group
DESCRIPTION:CAMP Rehoboth and NAMI Delaware are pleased to announce a new\, virtual discussion group designed specifically for LGBTQ+ young adults. This group is free\, confidential\, and peer-led. \nPeer-led discussion group offers a safe space for young adults to share experiences and explore their own understandings of gender and sexuality.  The discussion group will include topics such as Healthy Relationships\, Coming Out\, Creative Writing\, Bullying\, LGBTQ History\, Self-Image\, and Systems of Oppression\, among many other topics.
URL:https://www.namidelaware.org/event/lgbtq-young-adult-discussion-group/
END:VEVENT
BEGIN:VEVENT
DTSTART;TZID=UTC:20221019T183000
DTEND;TZID=UTC:20221019T190000
DTSTAMP:20260420T164531
CREATED:20221013T163539Z
LAST-MODIFIED:20221013T163539Z
UID:10000010-1666204200-1666206000@www.namidelaware.org
SUMMARY:NAMI Family Support Group
DESCRIPTION:In-person at Lewes Presbyterian Church (133 Kings Highway\, Lewes\, DE 19958) \nThis Family Support Group will meet in person every 3rd Wednesday of the month from 6:30pm-8pm at the Lewes Presbyterian Church in Lewes. We will continue to monitor the situation to assure the safety of facilitators and participants. In accordance with CDC guidelines\, individuals who are not fully vaccinated are required to wear masks while attending this in person meeting.   No registration is required to attend this group. \nNAMI Family Support Group is a peer-led support group for any adult with a loved one who has experienced symptoms of a mental health condition. Each group is led by trained facilitators who also have lived experience as a family member/loved one.
URL:https://www.namidelaware.org/event/nami-family-support-group-3/
END:VEVENT
BEGIN:VEVENT
DTSTART;TZID=UTC:20221019T090000
DTEND;TZID=UTC:20221019T150000
DTSTAMP:20260420T164531
CREATED:20221013T163450Z
LAST-MODIFIED:20221013T163450Z
UID:10000009-1666170000-1666191600@www.namidelaware.org
SUMMARY:Adult Mental Health First Aid
DESCRIPTION:Virtual\, class filled \nThis course is offered at NO COST to you thanks to a generous grant from the state of Delaware. \nMental Health First Aid for Adults teaches people how to recognize signs of mental health or substance use challenges in adults ages 18 and older\, how to offer and provide initial help\, and how to guide a person toward appropriate care if necessary. For more information on the course\, go to MentalHealthFirstAid.org. \nIf you have any other questions regarding this class\, please contact Sue Mulhern at smulhern@namide.org
URL:https://www.namidelaware.org/event/adult-mental-health-first-aid/
END:VEVENT
BEGIN:VEVENT
DTSTART;TZID=UTC:20221017T190000
DTEND;TZID=UTC:20221017T200000
DTSTAMP:20260420T164531
CREATED:20221013T163353Z
LAST-MODIFIED:20221013T163353Z
UID:10000008-1666033200-1666036800@www.namidelaware.org
SUMMARY:Spouse/Partner NAMI Family Support Group
DESCRIPTION:This support group will be facilitated by trained NAMI Delaware volunteers with lived experience and structured as closely to the original model of NAMI Family Support Group as possible via Zoom. It is open to all participants who identify as a spouse/partner of an individual with a mental health condition and are over the age of 18.
URL:https://www.namidelaware.org/event/spouse-partner-nami-family-support-group/
END:VEVENT
BEGIN:VEVENT
DTSTART;TZID=UTC:20221013T190000
DTEND;TZID=UTC:20221013T200000
DTSTAMP:20260420T164531
CREATED:20221013T163232Z
LAST-MODIFIED:20221013T163232Z
UID:10000007-1665687600-1665691200@www.namidelaware.org
SUMMARY:NAMI Family Support Group
DESCRIPTION:NAMI Delaware Virtual Family Support Group is meant as an online substitute to our in-personal Family Support Group meetings to allow family members and loved ones of individuals with a mental health condition the chance to connect and feel supported. \nThis support group will be facilitated by trained NAMI Delaware volunteers with lived experience and structured as closely to the original model of NAMI Family Support Group as possible via Zoom. It is open to all participants who identify as a family member/loved one and are over the age of 18.
URL:https://www.namidelaware.org/event/nami-family-support-group-2/
END:VEVENT
BEGIN:VEVENT
DTSTART;TZID=UTC:20221013T090000
DTEND;TZID=UTC:20221013T140000
DTSTAMP:20260420T164531
CREATED:20221013T163102Z
LAST-MODIFIED:20221013T163102Z
UID:10000006-1665651600-1665669600@www.namidelaware.org
SUMMARY:Youth Mental Health First Aid
DESCRIPTION:Virtual\, course filled \nWe are grateful to have access to grant funding\, from the Wawa Foundation\, that allows us to offer limited seats at no cost to U.S. residents\, with preference to Delaware residents. \nYouth Mental Health First Aid is designed to teach parents\, family members\, caregivers\, teachers\, school staff\, peers\, neighbors\, health and human services workers\, and other caring citizens how to help youth and adolescents (age 12-18) who are experiencing a mental health or addictions challenge or is in crisis. For more information on the course itself\, please access:  mentalhealthfirstaid.org \nIf you have any other questions regarding this class\, please contact smulhern@namide.org
URL:https://www.namidelaware.org/event/youth-mental-health-first-aid/
END:VEVENT
BEGIN:VEVENT
DTSTART;TZID=UTC:20221006T190000
DTEND;TZID=UTC:20221006T200000
DTSTAMP:20260420T164531
CREATED:20221013T162957Z
LAST-MODIFIED:20221013T162957Z
UID:10000005-1665082800-1665086400@www.namidelaware.org
SUMMARY:NAMI Delaware Family Support Group
DESCRIPTION:In-person at Brandywine Valley Baptist Church (7 Mount Lebanon Road\, Wilmington\, DE 19803) \nThis Family Support Group will meet in person every 2nd Monday of the month from 7pm-8pm at the Brandywine Valley Baptist Church in Wilmington. We will continue to monitor the situation to assure the safety of facilitators and participants. In accordance with CDC guidelines\, individuals who are not fully vaccinated are required to wear masks while attending this in person meeting.   No registration is required to attend this group. \nNAMI Family Support Group is a peer-led support group for any adult with a loved one who has experienced symptoms of a mental health condition. Each group is led by trained facilitators who also have lived experience as a family member/loved one. \nVirtual group meetings will continue as scheduled at https://fsgonline.eventbrite.com
URL:https://www.namidelaware.org/event/nami-delaware-family-support-group/
END:VEVENT
BEGIN:VEVENT
DTSTART;TZID=UTC:20221006T183000
DTEND;TZID=UTC:20221006T193000
DTSTAMP:20260420T164531
CREATED:20221013T162854Z
LAST-MODIFIED:20221013T162854Z
UID:10000004-1665081000-1665084600@www.namidelaware.org
SUMMARY:NAMI Connection Recovery Support Group
DESCRIPTION:NAMI Delaware Virtual Connection Recovery Support Group is meant as an online substitute to our in-person Connection Recovery Support Group meetings to allow individuals with a mental health condition the chance to connect and feel supported. \nThis support group will be facilitated by trained NAMI Delaware volunteers with lived experience and structured as closely to the original model of NAMI Connection Recovery Support Group as possible via Zoom. It is open to all participants who identify as a peer and are over the age of 18.
URL:https://www.namidelaware.org/event/nami-connection-recovery-support-group/
END:VEVENT
BEGIN:VEVENT
DTSTART;TZID=UTC:20221006T120000
DTEND;TZID=UTC:20221006T130000
DTSTAMP:20260420T164531
CREATED:20221013T162731Z
LAST-MODIFIED:20221013T162731Z
UID:10000003-1665057600-1665061200@www.namidelaware.org
SUMMARY:QPR Gatekeeper Training
DESCRIPTION:Now more than ever\, suicide prevention awareness and training is needed in our communities. QPR Gatekeeper Training is a virtual\, 1 hour training meant to guide participants on how to recognize an individual who may be in a suicide crisis and how to guide them to proper treatment/services. QPR is a mnemonic that stands for Question\, Persuade and Refer to help you remember the 3 easy steps to helping a person who may be suicidal. Thanks to funding through the Delaware DSAMH\, by the DHSS\, SAMHSA\, Center for Substance Abuse Treatment\, Substance Abuse Block Grant\, NAMI Delaware is able to offer this training at no cost to participants. \nContent Warning: Discussion of suicide\, suicidal ideation & potential means. Also includes interactive discussion portion regarding a fictional scenario describing an individual exhibiting warning signs of suicidality.
URL:https://www.namidelaware.org/event/qpr-gatekeeper-training/
END:VEVENT
BEGIN:VEVENT
DTSTART;TZID=UTC:20221005T180000
DTEND;TZID=UTC:20221005T200000
DTSTAMP:20260420T164531
CREATED:20221013T160821Z
LAST-MODIFIED:20221013T162634Z
UID:10000002-1664992800-1665000000@www.namidelaware.org
SUMMARY:NAMI Family-to-Family
DESCRIPTION:Virtual\, course closed \nThis class runs every Wednesday from 6pm-8pm until November 9th. \nNAMI Family-to-Family is an 8-session education program for family\, significant others and friends of people with mental health conditions. The facilitators are NAMI-trained family members who have been there and open to sharing their lived experiences. \nThe group setting of NAMI Family-to-Family provides mutual support and shared positive impact—experience compassion and reinforcement from people who understand your situation. Sharing your own experience may help others in your class. In the program\, you’ll learn about: \n\nHow to solve problems and communicate effectively\nTaking care of yourself and managing your stress\nSupporting your loved one with compassion\nFinding and using local supports and services\nUp-to-date information on mental health conditions and how they affect the brain\nHow to handle a crisis\nCurrent treatments and therapies\nThe impact of mental health conditions on the entire family
URL:https://www.namidelaware.org/event/nami-family-to-family/
END:VEVENT
END:VCALENDAR