BEGIN:VCALENDAR
VERSION:2.0
PRODID:-//NAMI - ECPv6.15.20//NONSGML v1.0//EN
CALSCALE:GREGORIAN
METHOD:PUBLISH
X-ORIGINAL-URL:https://www.namidelaware.org
X-WR-CALDESC:Events for NAMI
REFRESH-INTERVAL;VALUE=DURATION:PT1H
X-Robots-Tag:noindex
X-PUBLISHED-TTL:PT1H
BEGIN:VTIMEZONE
TZID:America/New_York
BEGIN:DAYLIGHT
TZOFFSETFROM:-0500
TZOFFSETTO:-0400
TZNAME:EDT
DTSTART:20240310T070000
END:DAYLIGHT
BEGIN:STANDARD
TZOFFSETFROM:-0400
TZOFFSETTO:-0500
TZNAME:EST
DTSTART:20241103T060000
END:STANDARD
BEGIN:DAYLIGHT
TZOFFSETFROM:-0500
TZOFFSETTO:-0400
TZNAME:EDT
DTSTART:20250309T070000
END:DAYLIGHT
BEGIN:STANDARD
TZOFFSETFROM:-0400
TZOFFSETTO:-0500
TZNAME:EST
DTSTART:20251102T060000
END:STANDARD
BEGIN:DAYLIGHT
TZOFFSETFROM:-0500
TZOFFSETTO:-0400
TZNAME:EDT
DTSTART:20260308T070000
END:DAYLIGHT
BEGIN:STANDARD
TZOFFSETFROM:-0400
TZOFFSETTO:-0500
TZNAME:EST
DTSTART:20261101T060000
END:STANDARD
END:VTIMEZONE
BEGIN:VTIMEZONE
TZID:America/Halifax
BEGIN:DAYLIGHT
TZOFFSETFROM:-0400
TZOFFSETTO:-0300
TZNAME:ADT
DTSTART:20240310T060000
END:DAYLIGHT
BEGIN:STANDARD
TZOFFSETFROM:-0300
TZOFFSETTO:-0400
TZNAME:AST
DTSTART:20241103T050000
END:STANDARD
BEGIN:DAYLIGHT
TZOFFSETFROM:-0400
TZOFFSETTO:-0300
TZNAME:ADT
DTSTART:20250309T060000
END:DAYLIGHT
BEGIN:STANDARD
TZOFFSETFROM:-0300
TZOFFSETTO:-0400
TZNAME:AST
DTSTART:20251102T050000
END:STANDARD
BEGIN:DAYLIGHT
TZOFFSETFROM:-0400
TZOFFSETTO:-0300
TZNAME:ADT
DTSTART:20260308T060000
END:DAYLIGHT
BEGIN:STANDARD
TZOFFSETFROM:-0300
TZOFFSETTO:-0400
TZNAME:AST
DTSTART:20261101T050000
END:STANDARD
END:VTIMEZONE
BEGIN:VTIMEZONE
TZID:UTC
BEGIN:STANDARD
TZOFFSETFROM:+0000
TZOFFSETTO:+0000
TZNAME:UTC
DTSTART:20240101T000000
END:STANDARD
END:VTIMEZONE
BEGIN:VEVENT
DTSTART;TZID=America/New_York:20250602T160000
DTEND;TZID=America/New_York:20250602T170000
DTSTAMP:20260419T152501
CREATED:20250512T210736Z
LAST-MODIFIED:20250512T210736Z
UID:10000869-1748880000-1748883600@www.namidelaware.org
SUMMARY:Mental Health & Police Response
DESCRIPTION:When someone has a mental health crisis\, sometimes there is no choice but to call 911 and receive a police response. What are the circumstances that require this? What can individuals and their families expect when something like this happens? What can the family/loved ones who are present do to help in this situation? Get the answers to these questions\, as well as more resources\, from this presentation given by representatives from NAMI Delaware and the Milford Police Department! \nThis event is in-person at the Milford Police Department. Free Narcan training and kits will also be available thanks to Partners in Public Safety Solutions. \nHave questions? Please reach out to Wesley Ingram at wingram@namide.org. \nThis project was supported by Grant No. 15PBJA-21-GG-04295-MENT awarded by the Bureau of Justice Assistance. The Bureau of Justice Assistance is a component of the Department of Justice’s Office of Justice Programs\, which also includes the Bureau of Justice Statistics\, the National Institute of Justice\, the Office of Juvenile Justice and Delinquency Prevention\, the Office for Victims of Crime\, and the SMART Office. Points of view or opinions are those of the presenters and do not necessarily represent the official position or policies of the U.S. Department of Justice.
URL:https://www.namidelaware.org/event/mentalhealth-policeresponse/
LOCATION:Milford Police Department\, 401 NE Front St\, Milford\, 19963\, United States
END:VEVENT
BEGIN:VEVENT
DTSTART;TZID=America/Halifax:20250602T190000
DTEND;TZID=America/Halifax:20250602T200000
DTSTAMP:20260419T152501
CREATED:20230324T173712Z
LAST-MODIFIED:20230324T183849Z
UID:10000585-1748890800-1748894400@www.namidelaware.org
SUMMARY:NAMI Delaware Virtual Family Support Group
DESCRIPTION:NAMI Delaware Virtual Family Support Group is meant as an online substitute to our in-person Family Support Group meetings to allow family members and loved ones of individuals with a mental health condition the chance to connect and feel supported. \nOur Virtual Family Support Group meets every 1st Monday and every 2nd Thursday of the month\, from 7:00pm-8:00pm. Adjustments will be made for national holidays \nRegister at: https://fsgonline.eventbrite.com \n\n 
URL:https://www.namidelaware.org/event/nami-delaware-virtual-family-support-group-8/2025-06-02/
END:VEVENT
BEGIN:VEVENT
DTSTART;TZID=America/Halifax:20250605T183000
DTEND;TZID=America/Halifax:20250605T193000
DTSTAMP:20260419T152501
CREATED:20230324T174301Z
LAST-MODIFIED:20230324T174301Z
UID:10000630-1749148200-1749151800@www.namidelaware.org
SUMMARY:NAMI Delaware Virtual Connection Recovery Support Group
DESCRIPTION:Register Here \nNAMI Delaware Virtual Connection Recovery Support Group is meant as an online substitute to our in-person Connection Recovery Support Group meetings to allow individuals with a mental health condition the chance to connect and feel supported. \nOur Virtual Connection Recovery Support Group meets every 1st and 3rd Thursday of the month\, from 6:30pm-7:30pm. Adjustments will be made for national holidays.
URL:https://www.namidelaware.org/event/nami-delaware-virtual-connection-recovery-support-group-15/2025-06-05/
END:VEVENT
BEGIN:VEVENT
DTSTART;TZID=UTC:20250612T190000
DTEND;TZID=UTC:20250612T200000
DTSTAMP:20260419T152501
CREATED:20250516T173326Z
LAST-MODIFIED:20250516T173326Z
UID:10000976-1749754800-1749758400@www.namidelaware.org
SUMMARY:NAMI Delaware Virtual Family Support Group
DESCRIPTION:NAMI Delaware Virtual Family Support Group is meant as an online substitute to our in-person Family Support Group meetings to allow family members and loved ones of individuals with a mental health condition the chance to connect and feel supported. \nOur Virtual Family Support Group meets every 1st Monday and every 2nd Thursday of the month\, from 7:00pm-8:00pm. Adjustments will be made for national holidays \nRegister at: https://fsgonline.eventbrite.com \n\n 
URL:https://www.namidelaware.org/event/nami-delaware-virtual-family-support-group-17/2025-06-12/
END:VEVENT
BEGIN:VEVENT
DTSTART;TZID=UTC:20250618T183000
DTEND;TZID=UTC:20250618T200000
DTSTAMP:20260419T152501
CREATED:20230707T165026Z
LAST-MODIFIED:20230707T165026Z
UID:10000478-1750271400-1750276800@www.namidelaware.org
SUMMARY:NAMI Delaware Family Support Group In Person (Lewes)
DESCRIPTION:Our in person Lewes family support group will meet the 3rd Wednesday of each month from 6:30pm-8:00pm at: \nLewes Presbyterian Church \n133 Kings Highway \nLewes\, DE 19958 \nThere is no charge to attend. No registration is required to attend our in person meetings.
URL:https://www.namidelaware.org/event/nami-delaware-family-support-group-in-person-lewes-6/2025-06-18/
END:VEVENT
BEGIN:VEVENT
DTSTART;TZID=America/Halifax:20250619T183000
DTEND;TZID=America/Halifax:20250619T193000
DTSTAMP:20260419T152501
CREATED:20250516T173211Z
LAST-MODIFIED:20251215T203928Z
UID:10001061-1750357800-1750361400@www.namidelaware.org
SUMMARY:NAMI Delaware Virtual Connection Recovery Support Group
DESCRIPTION:Register Here \nNAMI Delaware Virtual Connection Recovery Support Group is meant as an online substitute to our in-person Connection Recovery Support Group meetings to allow individuals with a mental health condition the chance to connect and feel supported. \nOur Virtual Connection Recovery Support Group meets every 1st and 3rd Thursday of the month\, from 6:30pm-7:30pm. Adjustments will be made for national holidays.
URL:https://www.namidelaware.org/event/nami-delaware-virtual-connection-recovery-support-group-17/2025-06-19/
END:VEVENT
BEGIN:VEVENT
DTSTART;TZID=America/New_York:20250626T183000
DTEND;TZID=America/New_York:20250626T193000
DTSTAMP:20260419T152501
CREATED:20250612T210102Z
LAST-MODIFIED:20250612T210102Z
UID:10001037-1750962600-1750966200@www.namidelaware.org
SUMMARY:NAMI Delaware Virtual Connection Recovery Support Group
DESCRIPTION:Update: Due to the Juneteenth holiday\, our usual 3rd Thursday meeting is moved to the following week\, June 26. \nRegister Here \nNAMI Delaware Virtual Connection Recovery Support Group is meant as an online substitute to our in-person Connection Recovery Support Group meetings to allow individuals with a mental health condition the chance to connect and feel supported. \nOur Virtual Connection Recovery Support Group meets every 1st and 3rd Thursday of the month\, from 6:30pm-7:30pm. Adjustments will be made for national holidays.
URL:https://www.namidelaware.org/event/nami-delaware-virtual-connection-recovery-support-group-18/
END:VEVENT
END:VCALENDAR