BEGIN:VCALENDAR
VERSION:2.0
PRODID:-//NAMI - ECPv6.15.20//NONSGML v1.0//EN
CALSCALE:GREGORIAN
METHOD:PUBLISH
X-ORIGINAL-URL:https://www.namidelaware.org
X-WR-CALDESC:Events for NAMI
REFRESH-INTERVAL;VALUE=DURATION:PT1H
X-Robots-Tag:noindex
X-PUBLISHED-TTL:PT1H
BEGIN:VTIMEZONE
TZID:America/Halifax
BEGIN:DAYLIGHT
TZOFFSETFROM:-0400
TZOFFSETTO:-0300
TZNAME:ADT
DTSTART:20240310T060000
END:DAYLIGHT
BEGIN:STANDARD
TZOFFSETFROM:-0300
TZOFFSETTO:-0400
TZNAME:AST
DTSTART:20241103T050000
END:STANDARD
BEGIN:DAYLIGHT
TZOFFSETFROM:-0400
TZOFFSETTO:-0300
TZNAME:ADT
DTSTART:20250309T060000
END:DAYLIGHT
BEGIN:STANDARD
TZOFFSETFROM:-0300
TZOFFSETTO:-0400
TZNAME:AST
DTSTART:20251102T050000
END:STANDARD
BEGIN:DAYLIGHT
TZOFFSETFROM:-0400
TZOFFSETTO:-0300
TZNAME:ADT
DTSTART:20260308T060000
END:DAYLIGHT
BEGIN:STANDARD
TZOFFSETFROM:-0300
TZOFFSETTO:-0400
TZNAME:AST
DTSTART:20261101T050000
END:STANDARD
END:VTIMEZONE
BEGIN:VTIMEZONE
TZID:UTC
BEGIN:STANDARD
TZOFFSETFROM:+0000
TZOFFSETTO:+0000
TZNAME:UTC
DTSTART:20240101T000000
END:STANDARD
END:VTIMEZONE
BEGIN:VTIMEZONE
TZID:America/New_York
BEGIN:DAYLIGHT
TZOFFSETFROM:-0500
TZOFFSETTO:-0400
TZNAME:EDT
DTSTART:20240310T070000
END:DAYLIGHT
BEGIN:STANDARD
TZOFFSETFROM:-0400
TZOFFSETTO:-0500
TZNAME:EST
DTSTART:20241103T060000
END:STANDARD
BEGIN:DAYLIGHT
TZOFFSETFROM:-0500
TZOFFSETTO:-0400
TZNAME:EDT
DTSTART:20250309T070000
END:DAYLIGHT
BEGIN:STANDARD
TZOFFSETFROM:-0400
TZOFFSETTO:-0500
TZNAME:EST
DTSTART:20251102T060000
END:STANDARD
BEGIN:DAYLIGHT
TZOFFSETFROM:-0500
TZOFFSETTO:-0400
TZNAME:EDT
DTSTART:20260308T070000
END:DAYLIGHT
BEGIN:STANDARD
TZOFFSETFROM:-0400
TZOFFSETTO:-0500
TZNAME:EST
DTSTART:20261101T060000
END:STANDARD
END:VTIMEZONE
BEGIN:VEVENT
DTSTART;TZID=America/Halifax:20251002T183000
DTEND;TZID=America/Halifax:20251002T193000
DTSTAMP:20260419T093208
CREATED:20230324T174301Z
LAST-MODIFIED:20230324T174301Z
UID:10000634-1759429800-1759433400@www.namidelaware.org
SUMMARY:NAMI Delaware Virtual Connection Recovery Support Group
DESCRIPTION:Register Here \nNAMI Delaware Virtual Connection Recovery Support Group is meant as an online substitute to our in-person Connection Recovery Support Group meetings to allow individuals with a mental health condition the chance to connect and feel supported. \nOur Virtual Connection Recovery Support Group meets every 1st and 3rd Thursday of the month\, from 6:30pm-7:30pm. Adjustments will be made for national holidays.
URL:https://www.namidelaware.org/event/nami-delaware-virtual-connection-recovery-support-group-15/2025-10-02/
END:VEVENT
BEGIN:VEVENT
DTSTART;TZID=America/Halifax:20251006T190000
DTEND;TZID=America/Halifax:20251006T200000
DTSTAMP:20260419T093208
CREATED:20230324T173712Z
LAST-MODIFIED:20230324T183849Z
UID:10000589-1759777200-1759780800@www.namidelaware.org
SUMMARY:NAMI Delaware Virtual Family Support Group
DESCRIPTION:NAMI Delaware Virtual Family Support Group is meant as an online substitute to our in-person Family Support Group meetings to allow family members and loved ones of individuals with a mental health condition the chance to connect and feel supported. \nOur Virtual Family Support Group meets every 1st Monday and every 2nd Thursday of the month\, from 7:00pm-8:00pm. Adjustments will be made for national holidays \nRegister at: https://fsgonline.eventbrite.com \n\n 
URL:https://www.namidelaware.org/event/nami-delaware-virtual-family-support-group-8/2025-10-06/
END:VEVENT
BEGIN:VEVENT
DTSTART;TZID=UTC:20251009T190000
DTEND;TZID=UTC:20251009T200000
DTSTAMP:20260419T093208
CREATED:20250516T173326Z
LAST-MODIFIED:20250516T173326Z
UID:10000980-1760036400-1760040000@www.namidelaware.org
SUMMARY:NAMI Delaware Virtual Family Support Group
DESCRIPTION:NAMI Delaware Virtual Family Support Group is meant as an online substitute to our in-person Family Support Group meetings to allow family members and loved ones of individuals with a mental health condition the chance to connect and feel supported. \nOur Virtual Family Support Group meets every 1st Monday and every 2nd Thursday of the month\, from 7:00pm-8:00pm. Adjustments will be made for national holidays \nRegister at: https://fsgonline.eventbrite.com \n\n 
URL:https://www.namidelaware.org/event/nami-delaware-virtual-family-support-group-17/2025-10-09/
END:VEVENT
BEGIN:VEVENT
DTSTART;TZID=UTC:20251015T183000
DTEND;TZID=UTC:20251015T200000
DTSTAMP:20260419T093208
CREATED:20230707T165026Z
LAST-MODIFIED:20230707T165026Z
UID:10000482-1760553000-1760558400@www.namidelaware.org
SUMMARY:NAMI Delaware Family Support Group In Person (Lewes)
DESCRIPTION:Our in person Lewes family support group will meet the 3rd Wednesday of each month from 6:30pm-8:00pm at: \nLewes Presbyterian Church \n133 Kings Highway \nLewes\, DE 19958 \nThere is no charge to attend. No registration is required to attend our in person meetings.
URL:https://www.namidelaware.org/event/nami-delaware-family-support-group-in-person-lewes-6/2025-10-15/
END:VEVENT
BEGIN:VEVENT
DTSTART;TZID=America/New_York:20251016T083000
DTEND;TZID=America/New_York:20251016T170000
DTSTAMP:20260419T093208
CREATED:20250909T180520Z
LAST-MODIFIED:20250909T180520Z
UID:10001060-1760603400-1760634000@www.namidelaware.org
SUMMARY:Inspiring Hope Conference
DESCRIPTION:Join NAMI Delaware for our premier event of the year! Inspiring Hope is a statewide gathering centering on lived experience\, equity\, and innovation in mental health. This conference brings together advocates\, professionals\, first responders and community leaders to share stories\, spark solutions\, and build a more inclusive future for mental wellness. \n  \nThursday\, October 16\, 2025\, 8:30am-5:00pm\nRoyal Prime Events at Bally’s Casino in Dover\, DE\nTheme:  \nFlip the Script | Rewriting the Story of Mental Health  \nKeynote Speakers:  \nTamiko Tremaglio\, Former Executive Director of the National Basketball Player’s Association (NBPA) \nDr. Phil Roundtree\, Founder of Quadefy\, LLC \nGet your tickets today!
URL:https://www.namidelaware.org/event/inspiring-hope-conference-2/
LOCATION:Bally’s Casino\, 1131 N Dupont Hwy\, Dover\, DE\, 19901\, United States
END:VEVENT
BEGIN:VEVENT
DTSTART;TZID=America/Halifax:20251016T183000
DTEND;TZID=America/Halifax:20251016T193000
DTSTAMP:20260419T093208
CREATED:20250516T173211Z
LAST-MODIFIED:20251215T203928Z
UID:10000897-1760639400-1760643000@www.namidelaware.org
SUMMARY:NAMI Delaware Virtual Connection Recovery Support Group
DESCRIPTION:Register Here \nNAMI Delaware Virtual Connection Recovery Support Group is meant as an online substitute to our in-person Connection Recovery Support Group meetings to allow individuals with a mental health condition the chance to connect and feel supported. \nOur Virtual Connection Recovery Support Group meets every 1st and 3rd Thursday of the month\, from 6:30pm-7:30pm. Adjustments will be made for national holidays.
URL:https://www.namidelaware.org/event/nami-delaware-virtual-connection-recovery-support-group-17/2025-10-16/
END:VEVENT
END:VCALENDAR