BEGIN:VCALENDAR
VERSION:2.0
PRODID:-//NAMI - ECPv6.15.20//NONSGML v1.0//EN
CALSCALE:GREGORIAN
METHOD:PUBLISH
X-ORIGINAL-URL:https://www.namidelaware.org
X-WR-CALDESC:Events for NAMI
REFRESH-INTERVAL;VALUE=DURATION:PT1H
X-Robots-Tag:noindex
X-PUBLISHED-TTL:PT1H
BEGIN:VTIMEZONE
TZID:America/Halifax
BEGIN:DAYLIGHT
TZOFFSETFROM:-0400
TZOFFSETTO:-0300
TZNAME:ADT
DTSTART:20260308T060000
END:DAYLIGHT
BEGIN:STANDARD
TZOFFSETFROM:-0300
TZOFFSETTO:-0400
TZNAME:AST
DTSTART:20261101T050000
END:STANDARD
BEGIN:DAYLIGHT
TZOFFSETFROM:-0400
TZOFFSETTO:-0300
TZNAME:ADT
DTSTART:20270314T060000
END:DAYLIGHT
BEGIN:STANDARD
TZOFFSETFROM:-0300
TZOFFSETTO:-0400
TZNAME:AST
DTSTART:20271107T050000
END:STANDARD
BEGIN:DAYLIGHT
TZOFFSETFROM:-0400
TZOFFSETTO:-0300
TZNAME:ADT
DTSTART:20280312T060000
END:DAYLIGHT
BEGIN:STANDARD
TZOFFSETFROM:-0300
TZOFFSETTO:-0400
TZNAME:AST
DTSTART:20281105T050000
END:STANDARD
BEGIN:DAYLIGHT
TZOFFSETFROM:-0400
TZOFFSETTO:-0300
TZNAME:ADT
DTSTART:20290311T060000
END:DAYLIGHT
BEGIN:STANDARD
TZOFFSETFROM:-0300
TZOFFSETTO:-0400
TZNAME:AST
DTSTART:20291104T050000
END:STANDARD
BEGIN:DAYLIGHT
TZOFFSETFROM:-0400
TZOFFSETTO:-0300
TZNAME:ADT
DTSTART:20300310T060000
END:DAYLIGHT
BEGIN:STANDARD
TZOFFSETFROM:-0300
TZOFFSETTO:-0400
TZNAME:AST
DTSTART:20301103T050000
END:STANDARD
END:VTIMEZONE
BEGIN:VEVENT
DTSTART;TZID=America/Halifax:20271104T183000
DTEND;TZID=America/Halifax:20271104T193000
DTSTAMP:20260420T031633
CREATED:20230324T174301Z
LAST-MODIFIED:20230324T174301Z
UID:10000659-1825353000-1825356600@www.namidelaware.org
SUMMARY:NAMI Delaware Virtual Connection Recovery Support Group
DESCRIPTION:Register Here \nNAMI Delaware Virtual Connection Recovery Support Group is meant as an online substitute to our in-person Connection Recovery Support Group meetings to allow individuals with a mental health condition the chance to connect and feel supported. \nOur Virtual Connection Recovery Support Group meets every 1st and 3rd Thursday of the month\, from 6:30pm-7:30pm. Adjustments will be made for national holidays.
URL:https://www.namidelaware.org/event/nami-delaware-virtual-connection-recovery-support-group-15/2027-11-04/
END:VEVENT
BEGIN:VEVENT
DTSTART;TZID=America/Halifax:20271118T183000
DTEND;TZID=America/Halifax:20271118T193000
DTSTAMP:20260420T031633
CREATED:20250516T173211Z
LAST-MODIFIED:20251215T203928Z
UID:10000922-1826562600-1826566200@www.namidelaware.org
SUMMARY:NAMI Delaware Virtual Connection Recovery Support Group
DESCRIPTION:Register Here \nNAMI Delaware Virtual Connection Recovery Support Group is meant as an online substitute to our in-person Connection Recovery Support Group meetings to allow individuals with a mental health condition the chance to connect and feel supported. \nOur Virtual Connection Recovery Support Group meets every 1st and 3rd Thursday of the month\, from 6:30pm-7:30pm. Adjustments will be made for national holidays.
URL:https://www.namidelaware.org/event/nami-delaware-virtual-connection-recovery-support-group-17/2027-11-18/
END:VEVENT
BEGIN:VEVENT
DTSTART;TZID=America/Halifax:20271202T183000
DTEND;TZID=America/Halifax:20271202T193000
DTSTAMP:20260420T031633
CREATED:20230324T174301Z
LAST-MODIFIED:20230324T174301Z
UID:10000660-1827772200-1827775800@www.namidelaware.org
SUMMARY:NAMI Delaware Virtual Connection Recovery Support Group
DESCRIPTION:Register Here \nNAMI Delaware Virtual Connection Recovery Support Group is meant as an online substitute to our in-person Connection Recovery Support Group meetings to allow individuals with a mental health condition the chance to connect and feel supported. \nOur Virtual Connection Recovery Support Group meets every 1st and 3rd Thursday of the month\, from 6:30pm-7:30pm. Adjustments will be made for national holidays.
URL:https://www.namidelaware.org/event/nami-delaware-virtual-connection-recovery-support-group-15/2027-12-02/
END:VEVENT
BEGIN:VEVENT
DTSTART;TZID=America/Halifax:20271216T183000
DTEND;TZID=America/Halifax:20271216T193000
DTSTAMP:20260420T031633
CREATED:20250516T173211Z
LAST-MODIFIED:20251215T203928Z
UID:10000923-1828981800-1828985400@www.namidelaware.org
SUMMARY:NAMI Delaware Virtual Connection Recovery Support Group
DESCRIPTION:Register Here \nNAMI Delaware Virtual Connection Recovery Support Group is meant as an online substitute to our in-person Connection Recovery Support Group meetings to allow individuals with a mental health condition the chance to connect and feel supported. \nOur Virtual Connection Recovery Support Group meets every 1st and 3rd Thursday of the month\, from 6:30pm-7:30pm. Adjustments will be made for national holidays.
URL:https://www.namidelaware.org/event/nami-delaware-virtual-connection-recovery-support-group-17/2027-12-16/
END:VEVENT
BEGIN:VEVENT
DTSTART;TZID=America/Halifax:20280106T183000
DTEND;TZID=America/Halifax:20280106T193000
DTSTAMP:20260420T031633
CREATED:20230324T174301Z
LAST-MODIFIED:20230324T174301Z
UID:10000661-1830796200-1830799800@www.namidelaware.org
SUMMARY:NAMI Delaware Virtual Connection Recovery Support Group
DESCRIPTION:Register Here \nNAMI Delaware Virtual Connection Recovery Support Group is meant as an online substitute to our in-person Connection Recovery Support Group meetings to allow individuals with a mental health condition the chance to connect and feel supported. \nOur Virtual Connection Recovery Support Group meets every 1st and 3rd Thursday of the month\, from 6:30pm-7:30pm. Adjustments will be made for national holidays.
URL:https://www.namidelaware.org/event/nami-delaware-virtual-connection-recovery-support-group-15/2028-01-06/
END:VEVENT
BEGIN:VEVENT
DTSTART;TZID=America/Halifax:20280120T183000
DTEND;TZID=America/Halifax:20280120T193000
DTSTAMP:20260420T031633
CREATED:20250516T173211Z
LAST-MODIFIED:20251215T203928Z
UID:10000924-1832005800-1832009400@www.namidelaware.org
SUMMARY:NAMI Delaware Virtual Connection Recovery Support Group
DESCRIPTION:Register Here \nNAMI Delaware Virtual Connection Recovery Support Group is meant as an online substitute to our in-person Connection Recovery Support Group meetings to allow individuals with a mental health condition the chance to connect and feel supported. \nOur Virtual Connection Recovery Support Group meets every 1st and 3rd Thursday of the month\, from 6:30pm-7:30pm. Adjustments will be made for national holidays.
URL:https://www.namidelaware.org/event/nami-delaware-virtual-connection-recovery-support-group-17/2028-01-20/
END:VEVENT
BEGIN:VEVENT
DTSTART;TZID=America/Halifax:20280203T183000
DTEND;TZID=America/Halifax:20280203T193000
DTSTAMP:20260420T031633
CREATED:20230324T174301Z
LAST-MODIFIED:20230324T174301Z
UID:10000662-1833215400-1833219000@www.namidelaware.org
SUMMARY:NAMI Delaware Virtual Connection Recovery Support Group
DESCRIPTION:Register Here \nNAMI Delaware Virtual Connection Recovery Support Group is meant as an online substitute to our in-person Connection Recovery Support Group meetings to allow individuals with a mental health condition the chance to connect and feel supported. \nOur Virtual Connection Recovery Support Group meets every 1st and 3rd Thursday of the month\, from 6:30pm-7:30pm. Adjustments will be made for national holidays.
URL:https://www.namidelaware.org/event/nami-delaware-virtual-connection-recovery-support-group-15/2028-02-03/
END:VEVENT
BEGIN:VEVENT
DTSTART;TZID=America/Halifax:20280217T183000
DTEND;TZID=America/Halifax:20280217T193000
DTSTAMP:20260420T031633
CREATED:20250516T173211Z
LAST-MODIFIED:20251215T203928Z
UID:10000925-1834425000-1834428600@www.namidelaware.org
SUMMARY:NAMI Delaware Virtual Connection Recovery Support Group
DESCRIPTION:Register Here \nNAMI Delaware Virtual Connection Recovery Support Group is meant as an online substitute to our in-person Connection Recovery Support Group meetings to allow individuals with a mental health condition the chance to connect and feel supported. \nOur Virtual Connection Recovery Support Group meets every 1st and 3rd Thursday of the month\, from 6:30pm-7:30pm. Adjustments will be made for national holidays.
URL:https://www.namidelaware.org/event/nami-delaware-virtual-connection-recovery-support-group-17/2028-02-17/
END:VEVENT
BEGIN:VEVENT
DTSTART;TZID=America/Halifax:20280302T183000
DTEND;TZID=America/Halifax:20280302T193000
DTSTAMP:20260420T031633
CREATED:20230324T174301Z
LAST-MODIFIED:20230324T174301Z
UID:10000663-1835634600-1835638200@www.namidelaware.org
SUMMARY:NAMI Delaware Virtual Connection Recovery Support Group
DESCRIPTION:Register Here \nNAMI Delaware Virtual Connection Recovery Support Group is meant as an online substitute to our in-person Connection Recovery Support Group meetings to allow individuals with a mental health condition the chance to connect and feel supported. \nOur Virtual Connection Recovery Support Group meets every 1st and 3rd Thursday of the month\, from 6:30pm-7:30pm. Adjustments will be made for national holidays.
URL:https://www.namidelaware.org/event/nami-delaware-virtual-connection-recovery-support-group-15/2028-03-02/
END:VEVENT
BEGIN:VEVENT
DTSTART;TZID=America/Halifax:20280316T183000
DTEND;TZID=America/Halifax:20280316T193000
DTSTAMP:20260420T031633
CREATED:20250516T173211Z
LAST-MODIFIED:20251215T203928Z
UID:10000926-1836844200-1836847800@www.namidelaware.org
SUMMARY:NAMI Delaware Virtual Connection Recovery Support Group
DESCRIPTION:Register Here \nNAMI Delaware Virtual Connection Recovery Support Group is meant as an online substitute to our in-person Connection Recovery Support Group meetings to allow individuals with a mental health condition the chance to connect and feel supported. \nOur Virtual Connection Recovery Support Group meets every 1st and 3rd Thursday of the month\, from 6:30pm-7:30pm. Adjustments will be made for national holidays.
URL:https://www.namidelaware.org/event/nami-delaware-virtual-connection-recovery-support-group-17/2028-03-16/
END:VEVENT
BEGIN:VEVENT
DTSTART;TZID=America/Halifax:20280406T183000
DTEND;TZID=America/Halifax:20280406T193000
DTSTAMP:20260420T031633
CREATED:20230324T174301Z
LAST-MODIFIED:20230324T174301Z
UID:10000664-1838658600-1838662200@www.namidelaware.org
SUMMARY:NAMI Delaware Virtual Connection Recovery Support Group
DESCRIPTION:Register Here \nNAMI Delaware Virtual Connection Recovery Support Group is meant as an online substitute to our in-person Connection Recovery Support Group meetings to allow individuals with a mental health condition the chance to connect and feel supported. \nOur Virtual Connection Recovery Support Group meets every 1st and 3rd Thursday of the month\, from 6:30pm-7:30pm. Adjustments will be made for national holidays.
URL:https://www.namidelaware.org/event/nami-delaware-virtual-connection-recovery-support-group-15/2028-04-06/
END:VEVENT
BEGIN:VEVENT
DTSTART;TZID=America/Halifax:20280420T183000
DTEND;TZID=America/Halifax:20280420T193000
DTSTAMP:20260420T031633
CREATED:20250516T173211Z
LAST-MODIFIED:20251215T203928Z
UID:10000927-1839868200-1839871800@www.namidelaware.org
SUMMARY:NAMI Delaware Virtual Connection Recovery Support Group
DESCRIPTION:Register Here \nNAMI Delaware Virtual Connection Recovery Support Group is meant as an online substitute to our in-person Connection Recovery Support Group meetings to allow individuals with a mental health condition the chance to connect and feel supported. \nOur Virtual Connection Recovery Support Group meets every 1st and 3rd Thursday of the month\, from 6:30pm-7:30pm. Adjustments will be made for national holidays.
URL:https://www.namidelaware.org/event/nami-delaware-virtual-connection-recovery-support-group-17/2028-04-20/
END:VEVENT
BEGIN:VEVENT
DTSTART;TZID=America/Halifax:20280504T183000
DTEND;TZID=America/Halifax:20280504T193000
DTSTAMP:20260420T031633
CREATED:20230324T174301Z
LAST-MODIFIED:20230324T174301Z
UID:10000665-1841077800-1841081400@www.namidelaware.org
SUMMARY:NAMI Delaware Virtual Connection Recovery Support Group
DESCRIPTION:Register Here \nNAMI Delaware Virtual Connection Recovery Support Group is meant as an online substitute to our in-person Connection Recovery Support Group meetings to allow individuals with a mental health condition the chance to connect and feel supported. \nOur Virtual Connection Recovery Support Group meets every 1st and 3rd Thursday of the month\, from 6:30pm-7:30pm. Adjustments will be made for national holidays.
URL:https://www.namidelaware.org/event/nami-delaware-virtual-connection-recovery-support-group-15/2028-05-04/
END:VEVENT
BEGIN:VEVENT
DTSTART;TZID=America/Halifax:20280518T183000
DTEND;TZID=America/Halifax:20280518T193000
DTSTAMP:20260420T031633
CREATED:20250516T173211Z
LAST-MODIFIED:20251215T203928Z
UID:10000928-1842287400-1842291000@www.namidelaware.org
SUMMARY:NAMI Delaware Virtual Connection Recovery Support Group
DESCRIPTION:Register Here \nNAMI Delaware Virtual Connection Recovery Support Group is meant as an online substitute to our in-person Connection Recovery Support Group meetings to allow individuals with a mental health condition the chance to connect and feel supported. \nOur Virtual Connection Recovery Support Group meets every 1st and 3rd Thursday of the month\, from 6:30pm-7:30pm. Adjustments will be made for national holidays.
URL:https://www.namidelaware.org/event/nami-delaware-virtual-connection-recovery-support-group-17/2028-05-18/
END:VEVENT
BEGIN:VEVENT
DTSTART;TZID=America/Halifax:20280601T183000
DTEND;TZID=America/Halifax:20280601T193000
DTSTAMP:20260420T031633
CREATED:20230324T174301Z
LAST-MODIFIED:20230324T174301Z
UID:10000666-1843497000-1843500600@www.namidelaware.org
SUMMARY:NAMI Delaware Virtual Connection Recovery Support Group
DESCRIPTION:Register Here \nNAMI Delaware Virtual Connection Recovery Support Group is meant as an online substitute to our in-person Connection Recovery Support Group meetings to allow individuals with a mental health condition the chance to connect and feel supported. \nOur Virtual Connection Recovery Support Group meets every 1st and 3rd Thursday of the month\, from 6:30pm-7:30pm. Adjustments will be made for national holidays.
URL:https://www.namidelaware.org/event/nami-delaware-virtual-connection-recovery-support-group-15/2028-06-01/
END:VEVENT
BEGIN:VEVENT
DTSTART;TZID=America/Halifax:20280615T183000
DTEND;TZID=America/Halifax:20280615T193000
DTSTAMP:20260420T031633
CREATED:20250516T173211Z
LAST-MODIFIED:20251215T203928Z
UID:10000929-1844706600-1844710200@www.namidelaware.org
SUMMARY:NAMI Delaware Virtual Connection Recovery Support Group
DESCRIPTION:Register Here \nNAMI Delaware Virtual Connection Recovery Support Group is meant as an online substitute to our in-person Connection Recovery Support Group meetings to allow individuals with a mental health condition the chance to connect and feel supported. \nOur Virtual Connection Recovery Support Group meets every 1st and 3rd Thursday of the month\, from 6:30pm-7:30pm. Adjustments will be made for national holidays.
URL:https://www.namidelaware.org/event/nami-delaware-virtual-connection-recovery-support-group-17/2028-06-15/
END:VEVENT
BEGIN:VEVENT
DTSTART;TZID=America/Halifax:20280706T183000
DTEND;TZID=America/Halifax:20280706T193000
DTSTAMP:20260420T031633
CREATED:20230324T174301Z
LAST-MODIFIED:20230324T174301Z
UID:10000667-1846521000-1846524600@www.namidelaware.org
SUMMARY:NAMI Delaware Virtual Connection Recovery Support Group
DESCRIPTION:Register Here \nNAMI Delaware Virtual Connection Recovery Support Group is meant as an online substitute to our in-person Connection Recovery Support Group meetings to allow individuals with a mental health condition the chance to connect and feel supported. \nOur Virtual Connection Recovery Support Group meets every 1st and 3rd Thursday of the month\, from 6:30pm-7:30pm. Adjustments will be made for national holidays.
URL:https://www.namidelaware.org/event/nami-delaware-virtual-connection-recovery-support-group-15/2028-07-06/
END:VEVENT
BEGIN:VEVENT
DTSTART;TZID=America/Halifax:20280720T183000
DTEND;TZID=America/Halifax:20280720T193000
DTSTAMP:20260420T031633
CREATED:20250516T173211Z
LAST-MODIFIED:20251215T203928Z
UID:10000930-1847730600-1847734200@www.namidelaware.org
SUMMARY:NAMI Delaware Virtual Connection Recovery Support Group
DESCRIPTION:Register Here \nNAMI Delaware Virtual Connection Recovery Support Group is meant as an online substitute to our in-person Connection Recovery Support Group meetings to allow individuals with a mental health condition the chance to connect and feel supported. \nOur Virtual Connection Recovery Support Group meets every 1st and 3rd Thursday of the month\, from 6:30pm-7:30pm. Adjustments will be made for national holidays.
URL:https://www.namidelaware.org/event/nami-delaware-virtual-connection-recovery-support-group-17/2028-07-20/
END:VEVENT
BEGIN:VEVENT
DTSTART;TZID=America/Halifax:20280803T183000
DTEND;TZID=America/Halifax:20280803T193000
DTSTAMP:20260420T031633
CREATED:20230324T174301Z
LAST-MODIFIED:20230324T174301Z
UID:10000668-1848940200-1848943800@www.namidelaware.org
SUMMARY:NAMI Delaware Virtual Connection Recovery Support Group
DESCRIPTION:Register Here \nNAMI Delaware Virtual Connection Recovery Support Group is meant as an online substitute to our in-person Connection Recovery Support Group meetings to allow individuals with a mental health condition the chance to connect and feel supported. \nOur Virtual Connection Recovery Support Group meets every 1st and 3rd Thursday of the month\, from 6:30pm-7:30pm. Adjustments will be made for national holidays.
URL:https://www.namidelaware.org/event/nami-delaware-virtual-connection-recovery-support-group-15/2028-08-03/
END:VEVENT
BEGIN:VEVENT
DTSTART;TZID=America/Halifax:20280817T183000
DTEND;TZID=America/Halifax:20280817T193000
DTSTAMP:20260420T031633
CREATED:20250516T173211Z
LAST-MODIFIED:20251215T203928Z
UID:10000931-1850149800-1850153400@www.namidelaware.org
SUMMARY:NAMI Delaware Virtual Connection Recovery Support Group
DESCRIPTION:Register Here \nNAMI Delaware Virtual Connection Recovery Support Group is meant as an online substitute to our in-person Connection Recovery Support Group meetings to allow individuals with a mental health condition the chance to connect and feel supported. \nOur Virtual Connection Recovery Support Group meets every 1st and 3rd Thursday of the month\, from 6:30pm-7:30pm. Adjustments will be made for national holidays.
URL:https://www.namidelaware.org/event/nami-delaware-virtual-connection-recovery-support-group-17/2028-08-17/
END:VEVENT
BEGIN:VEVENT
DTSTART;TZID=America/Halifax:20280907T183000
DTEND;TZID=America/Halifax:20280907T193000
DTSTAMP:20260420T031633
CREATED:20230324T174301Z
LAST-MODIFIED:20230324T174301Z
UID:10000669-1851964200-1851967800@www.namidelaware.org
SUMMARY:NAMI Delaware Virtual Connection Recovery Support Group
DESCRIPTION:Register Here \nNAMI Delaware Virtual Connection Recovery Support Group is meant as an online substitute to our in-person Connection Recovery Support Group meetings to allow individuals with a mental health condition the chance to connect and feel supported. \nOur Virtual Connection Recovery Support Group meets every 1st and 3rd Thursday of the month\, from 6:30pm-7:30pm. Adjustments will be made for national holidays.
URL:https://www.namidelaware.org/event/nami-delaware-virtual-connection-recovery-support-group-15/2028-09-07/
END:VEVENT
BEGIN:VEVENT
DTSTART;TZID=America/Halifax:20280921T183000
DTEND;TZID=America/Halifax:20280921T193000
DTSTAMP:20260420T031633
CREATED:20250516T173211Z
LAST-MODIFIED:20251215T203928Z
UID:10000932-1853173800-1853177400@www.namidelaware.org
SUMMARY:NAMI Delaware Virtual Connection Recovery Support Group
DESCRIPTION:Register Here \nNAMI Delaware Virtual Connection Recovery Support Group is meant as an online substitute to our in-person Connection Recovery Support Group meetings to allow individuals with a mental health condition the chance to connect and feel supported. \nOur Virtual Connection Recovery Support Group meets every 1st and 3rd Thursday of the month\, from 6:30pm-7:30pm. Adjustments will be made for national holidays.
URL:https://www.namidelaware.org/event/nami-delaware-virtual-connection-recovery-support-group-17/2028-09-21/
END:VEVENT
BEGIN:VEVENT
DTSTART;TZID=America/Halifax:20281005T183000
DTEND;TZID=America/Halifax:20281005T193000
DTSTAMP:20260420T031633
CREATED:20230324T174301Z
LAST-MODIFIED:20230324T174301Z
UID:10000670-1854383400-1854387000@www.namidelaware.org
SUMMARY:NAMI Delaware Virtual Connection Recovery Support Group
DESCRIPTION:Register Here \nNAMI Delaware Virtual Connection Recovery Support Group is meant as an online substitute to our in-person Connection Recovery Support Group meetings to allow individuals with a mental health condition the chance to connect and feel supported. \nOur Virtual Connection Recovery Support Group meets every 1st and 3rd Thursday of the month\, from 6:30pm-7:30pm. Adjustments will be made for national holidays.
URL:https://www.namidelaware.org/event/nami-delaware-virtual-connection-recovery-support-group-15/2028-10-05/
END:VEVENT
BEGIN:VEVENT
DTSTART;TZID=America/Halifax:20281019T183000
DTEND;TZID=America/Halifax:20281019T193000
DTSTAMP:20260420T031633
CREATED:20250516T173211Z
LAST-MODIFIED:20251215T203928Z
UID:10000933-1855593000-1855596600@www.namidelaware.org
SUMMARY:NAMI Delaware Virtual Connection Recovery Support Group
DESCRIPTION:Register Here \nNAMI Delaware Virtual Connection Recovery Support Group is meant as an online substitute to our in-person Connection Recovery Support Group meetings to allow individuals with a mental health condition the chance to connect and feel supported. \nOur Virtual Connection Recovery Support Group meets every 1st and 3rd Thursday of the month\, from 6:30pm-7:30pm. Adjustments will be made for national holidays.
URL:https://www.namidelaware.org/event/nami-delaware-virtual-connection-recovery-support-group-17/2028-10-19/
END:VEVENT
BEGIN:VEVENT
DTSTART;TZID=America/Halifax:20281102T183000
DTEND;TZID=America/Halifax:20281102T193000
DTSTAMP:20260420T031633
CREATED:20230324T174301Z
LAST-MODIFIED:20230324T174301Z
UID:10000671-1856802600-1856806200@www.namidelaware.org
SUMMARY:NAMI Delaware Virtual Connection Recovery Support Group
DESCRIPTION:Register Here \nNAMI Delaware Virtual Connection Recovery Support Group is meant as an online substitute to our in-person Connection Recovery Support Group meetings to allow individuals with a mental health condition the chance to connect and feel supported. \nOur Virtual Connection Recovery Support Group meets every 1st and 3rd Thursday of the month\, from 6:30pm-7:30pm. Adjustments will be made for national holidays.
URL:https://www.namidelaware.org/event/nami-delaware-virtual-connection-recovery-support-group-15/2028-11-02/
END:VEVENT
BEGIN:VEVENT
DTSTART;TZID=America/Halifax:20281116T183000
DTEND;TZID=America/Halifax:20281116T193000
DTSTAMP:20260420T031633
CREATED:20250516T173211Z
LAST-MODIFIED:20251215T203928Z
UID:10000934-1858012200-1858015800@www.namidelaware.org
SUMMARY:NAMI Delaware Virtual Connection Recovery Support Group
DESCRIPTION:Register Here \nNAMI Delaware Virtual Connection Recovery Support Group is meant as an online substitute to our in-person Connection Recovery Support Group meetings to allow individuals with a mental health condition the chance to connect and feel supported. \nOur Virtual Connection Recovery Support Group meets every 1st and 3rd Thursday of the month\, from 6:30pm-7:30pm. Adjustments will be made for national holidays.
URL:https://www.namidelaware.org/event/nami-delaware-virtual-connection-recovery-support-group-17/2028-11-16/
END:VEVENT
BEGIN:VEVENT
DTSTART;TZID=America/Halifax:20281207T183000
DTEND;TZID=America/Halifax:20281207T193000
DTSTAMP:20260420T031633
CREATED:20230324T174301Z
LAST-MODIFIED:20230324T174301Z
UID:10000672-1859826600-1859830200@www.namidelaware.org
SUMMARY:NAMI Delaware Virtual Connection Recovery Support Group
DESCRIPTION:Register Here \nNAMI Delaware Virtual Connection Recovery Support Group is meant as an online substitute to our in-person Connection Recovery Support Group meetings to allow individuals with a mental health condition the chance to connect and feel supported. \nOur Virtual Connection Recovery Support Group meets every 1st and 3rd Thursday of the month\, from 6:30pm-7:30pm. Adjustments will be made for national holidays.
URL:https://www.namidelaware.org/event/nami-delaware-virtual-connection-recovery-support-group-15/2028-12-07/
END:VEVENT
BEGIN:VEVENT
DTSTART;TZID=America/Halifax:20281221T183000
DTEND;TZID=America/Halifax:20281221T193000
DTSTAMP:20260420T031633
CREATED:20250516T173211Z
LAST-MODIFIED:20251215T203928Z
UID:10000935-1861036200-1861039800@www.namidelaware.org
SUMMARY:NAMI Delaware Virtual Connection Recovery Support Group
DESCRIPTION:Register Here \nNAMI Delaware Virtual Connection Recovery Support Group is meant as an online substitute to our in-person Connection Recovery Support Group meetings to allow individuals with a mental health condition the chance to connect and feel supported. \nOur Virtual Connection Recovery Support Group meets every 1st and 3rd Thursday of the month\, from 6:30pm-7:30pm. Adjustments will be made for national holidays.
URL:https://www.namidelaware.org/event/nami-delaware-virtual-connection-recovery-support-group-17/2028-12-21/
END:VEVENT
BEGIN:VEVENT
DTSTART;TZID=America/Halifax:20290104T183000
DTEND;TZID=America/Halifax:20290104T193000
DTSTAMP:20260420T031633
CREATED:20230324T174301Z
LAST-MODIFIED:20230324T174301Z
UID:10001039-1862245800-1862249400@www.namidelaware.org
SUMMARY:NAMI Delaware Virtual Connection Recovery Support Group
DESCRIPTION:Register Here \nNAMI Delaware Virtual Connection Recovery Support Group is meant as an online substitute to our in-person Connection Recovery Support Group meetings to allow individuals with a mental health condition the chance to connect and feel supported. \nOur Virtual Connection Recovery Support Group meets every 1st and 3rd Thursday of the month\, from 6:30pm-7:30pm. Adjustments will be made for national holidays.
URL:https://www.namidelaware.org/event/nami-delaware-virtual-connection-recovery-support-group-15/2029-01-04/
END:VEVENT
BEGIN:VEVENT
DTSTART;TZID=America/Halifax:20290118T183000
DTEND;TZID=America/Halifax:20290118T193000
DTSTAMP:20260420T031633
CREATED:20250516T173211Z
LAST-MODIFIED:20251215T203928Z
UID:10000936-1863455400-1863459000@www.namidelaware.org
SUMMARY:NAMI Delaware Virtual Connection Recovery Support Group
DESCRIPTION:Register Here \nNAMI Delaware Virtual Connection Recovery Support Group is meant as an online substitute to our in-person Connection Recovery Support Group meetings to allow individuals with a mental health condition the chance to connect and feel supported. \nOur Virtual Connection Recovery Support Group meets every 1st and 3rd Thursday of the month\, from 6:30pm-7:30pm. Adjustments will be made for national holidays.
URL:https://www.namidelaware.org/event/nami-delaware-virtual-connection-recovery-support-group-17/2029-01-18/
END:VEVENT
END:VCALENDAR