BEGIN:VCALENDAR
VERSION:2.0
PRODID:-//NAMI - ECPv6.15.20//NONSGML v1.0//EN
CALSCALE:GREGORIAN
METHOD:PUBLISH
X-WR-CALNAME:NAMI
X-ORIGINAL-URL:https://www.namidelaware.org
X-WR-CALDESC:Events for NAMI
REFRESH-INTERVAL;VALUE=DURATION:PT1H
X-Robots-Tag:noindex
X-PUBLISHED-TTL:PT1H
BEGIN:VTIMEZONE
TZID:America/Halifax
BEGIN:DAYLIGHT
TZOFFSETFROM:-0400
TZOFFSETTO:-0300
TZNAME:ADT
DTSTART:20230312T060000
END:DAYLIGHT
BEGIN:STANDARD
TZOFFSETFROM:-0300
TZOFFSETTO:-0400
TZNAME:AST
DTSTART:20231105T050000
END:STANDARD
BEGIN:DAYLIGHT
TZOFFSETFROM:-0400
TZOFFSETTO:-0300
TZNAME:ADT
DTSTART:20240310T060000
END:DAYLIGHT
BEGIN:STANDARD
TZOFFSETFROM:-0300
TZOFFSETTO:-0400
TZNAME:AST
DTSTART:20241103T050000
END:STANDARD
BEGIN:DAYLIGHT
TZOFFSETFROM:-0400
TZOFFSETTO:-0300
TZNAME:ADT
DTSTART:20250309T060000
END:DAYLIGHT
BEGIN:STANDARD
TZOFFSETFROM:-0300
TZOFFSETTO:-0400
TZNAME:AST
DTSTART:20251102T050000
END:STANDARD
END:VTIMEZONE
BEGIN:VTIMEZONE
TZID:UTC
BEGIN:STANDARD
TZOFFSETFROM:+0000
TZOFFSETTO:+0000
TZNAME:UTC
DTSTART:20230101T000000
END:STANDARD
END:VTIMEZONE
BEGIN:VTIMEZONE
TZID:America/New_York
BEGIN:DAYLIGHT
TZOFFSETFROM:-0500
TZOFFSETTO:-0400
TZNAME:EDT
DTSTART:20230312T070000
END:DAYLIGHT
BEGIN:STANDARD
TZOFFSETFROM:-0400
TZOFFSETTO:-0500
TZNAME:EST
DTSTART:20231105T060000
END:STANDARD
BEGIN:DAYLIGHT
TZOFFSETFROM:-0500
TZOFFSETTO:-0400
TZNAME:EDT
DTSTART:20240310T070000
END:DAYLIGHT
BEGIN:STANDARD
TZOFFSETFROM:-0400
TZOFFSETTO:-0500
TZNAME:EST
DTSTART:20241103T060000
END:STANDARD
BEGIN:DAYLIGHT
TZOFFSETFROM:-0500
TZOFFSETTO:-0400
TZNAME:EDT
DTSTART:20250309T070000
END:DAYLIGHT
BEGIN:STANDARD
TZOFFSETFROM:-0400
TZOFFSETTO:-0500
TZNAME:EST
DTSTART:20251102T060000
END:STANDARD
END:VTIMEZONE
BEGIN:VEVENT
DTSTART;TZID=America/Halifax:20240502T183000
DTEND;TZID=America/Halifax:20240502T193000
DTSTAMP:20260422T200441
CREATED:20230324T174301Z
LAST-MODIFIED:20230324T174301Z
UID:10000271-1714674600-1714678200@www.namidelaware.org
SUMMARY:NAMI Delaware Virtual Connection Recovery Support Group
DESCRIPTION:Register Here \nNAMI Delaware Virtual Connection Recovery Support Group is meant as an online substitute to our in-person Connection Recovery Support Group meetings to allow individuals with a mental health condition the chance to connect and feel supported. \nOur Virtual Connection Recovery Support Group meets every 1st and 3rd Thursday of the month\, from 6:30pm-7:30pm. Adjustments will be made for national holidays.
URL:https://www.namidelaware.org/event/nami-delaware-virtual-connection-recovery-support-group-15/2024-05-02/
END:VEVENT
BEGIN:VEVENT
DTSTART;TZID=America/Halifax:20240506T190000
DTEND;TZID=America/Halifax:20240506T200000
DTSTAMP:20260422T200441
CREATED:20230324T173712Z
LAST-MODIFIED:20230324T183849Z
UID:10000227-1715022000-1715025600@www.namidelaware.org
SUMMARY:NAMI Delaware Virtual Family Support Group
DESCRIPTION:NAMI Delaware Virtual Family Support Group is meant as an online substitute to our in-person Family Support Group meetings to allow family members and loved ones of individuals with a mental health condition the chance to connect and feel supported. \nOur Virtual Family Support Group meets every 1st Monday and every 2nd Thursday of the month\, from 7:00pm-8:00pm. Adjustments will be made for national holidays \nRegister at: https://fsgonline.eventbrite.com \n\n 
URL:https://www.namidelaware.org/event/nami-delaware-virtual-family-support-group-8/2024-05-06/
END:VEVENT
BEGIN:VEVENT
DTSTART;TZID=UTC:20240509T190000
DTEND;TZID=UTC:20240509T200000
DTSTAMP:20260422T200441
CREATED:20230324T173851Z
LAST-MODIFIED:20230324T173851Z
UID:10000249-1715281200-1715284800@www.namidelaware.org
SUMMARY:NAMI Delaware Virtual Family Support Group
DESCRIPTION:NAMI Delaware Virtual Family Support Group is meant as an online substitute to our in-person Family Support Group meetings to allow family members and loved ones of individuals with a mental health condition the chance to connect and feel supported. \nOur Virtual Family Support Group meets every 1st Monday and every 2nd Thursday of the month\, from 7:00pm-8:00pm. Adjustments will be made for national holidays \nRegister at: https://fsgonline.eventbrite.com \n\n 
URL:https://www.namidelaware.org/event/nami-delaware-virtual-family-support-group-9/2024-05-09/
END:VEVENT
BEGIN:VEVENT
DTSTART;TZID=America/Halifax:20240516T183000
DTEND;TZID=America/Halifax:20240516T193000
DTSTAMP:20260422T200441
CREATED:20230324T174555Z
LAST-MODIFIED:20230324T174555Z
UID:10000293-1715884200-1715887800@www.namidelaware.org
SUMMARY:NAMI Delaware Virtual Connection Recovery Support Group
DESCRIPTION:Register Here \nNAMI Delaware Virtual Connection Recovery Support Group is meant as an online substitute to our in-person Connection Recovery Support Group meetings to allow individuals with a mental health condition the chance to connect and feel supported. \nOur Virtual Connection Recovery Support Group meets every 1st and 3rd Thursday of the month\, from 6:30pm-7:30pm. Adjustments will be made for national holidays.
URL:https://www.namidelaware.org/event/nami-delaware-virtual-connection-recovery-support-group-16/2024-05-16/
END:VEVENT
BEGIN:VEVENT
DTSTART;TZID=America/New_York:20240521T170000
DTEND;TZID=America/New_York:20240521T180000
DTSTAMP:20260422T200441
CREATED:20240418T190502Z
LAST-MODIFIED:20240418T190502Z
UID:10000681-1716310800-1716314400@www.namidelaware.org
SUMMARY:NAMI Family & Friends
DESCRIPTION:NAMI Family & Friends is a FREE virtual presentation on the best ways to support your loved one with a diagnosed mental health condition. It’s led by trained NAMI Delaware staff & volunteers who have lived experiences as family members. It will discuss topics such as: \n\nunderstanding diagnoses\, treatment and recovery\neffective communication strategies\nthe importance of self-care\ncrisis preparation strategies\nNAMI and community resources.\n\nRegister now to receive the zoom link to attend this session: https://namide-fnf.eventbrite.com
URL:https://www.namidelaware.org/event/nami-family-friends/
END:VEVENT
END:VCALENDAR