BEGIN:VCALENDAR
VERSION:2.0
PRODID:-//NAMI - ECPv6.15.20//NONSGML v1.0//EN
CALSCALE:GREGORIAN
METHOD:PUBLISH
X-ORIGINAL-URL:https://www.namidelaware.org
X-WR-CALDESC:Events for NAMI
REFRESH-INTERVAL;VALUE=DURATION:PT1H
X-Robots-Tag:noindex
X-PUBLISHED-TTL:PT1H
BEGIN:VTIMEZONE
TZID:America/Halifax
BEGIN:DAYLIGHT
TZOFFSETFROM:-0400
TZOFFSETTO:-0300
TZNAME:ADT
DTSTART:20240310T060000
END:DAYLIGHT
BEGIN:STANDARD
TZOFFSETFROM:-0300
TZOFFSETTO:-0400
TZNAME:AST
DTSTART:20241103T050000
END:STANDARD
BEGIN:DAYLIGHT
TZOFFSETFROM:-0400
TZOFFSETTO:-0300
TZNAME:ADT
DTSTART:20250309T060000
END:DAYLIGHT
BEGIN:STANDARD
TZOFFSETFROM:-0300
TZOFFSETTO:-0400
TZNAME:AST
DTSTART:20251102T050000
END:STANDARD
BEGIN:DAYLIGHT
TZOFFSETFROM:-0400
TZOFFSETTO:-0300
TZNAME:ADT
DTSTART:20260308T060000
END:DAYLIGHT
BEGIN:STANDARD
TZOFFSETFROM:-0300
TZOFFSETTO:-0400
TZNAME:AST
DTSTART:20261101T050000
END:STANDARD
END:VTIMEZONE
BEGIN:VTIMEZONE
TZID:UTC
BEGIN:STANDARD
TZOFFSETFROM:+0000
TZOFFSETTO:+0000
TZNAME:UTC
DTSTART:20240101T000000
END:STANDARD
END:VTIMEZONE
BEGIN:VEVENT
DTSTART;TZID=America/Halifax:20250703T183000
DTEND;TZID=America/Halifax:20250703T193000
DTSTAMP:20260420T134706
CREATED:20250701T155611Z
LAST-MODIFIED:20250701T155611Z
UID:10000631-1751567400-1751571000@www.namidelaware.org
SUMMARY:CANCELLED - NAMI Delaware Virtual Connection Recovery Support Group
DESCRIPTION:Cancelled until July 17th. \nNAMI Delaware Virtual Connection Recovery Support Group is meant as an online substitute to our in-person Connection Recovery Support Group meetings to allow individuals with a mental health condition the chance to connect and feel supported. \nOur Virtual Connection Recovery Support Group meets every 1st and 3rd Thursday of the month\, from 6:30pm-7:30pm. Adjustments will be made for national holidays.
URL:https://www.namidelaware.org/event/nami-delaware-virtual-connection-recovery-support-group-15-3/
END:VEVENT
BEGIN:VEVENT
DTSTART;TZID=America/Halifax:20250707T190000
DTEND;TZID=America/Halifax:20250707T200000
DTSTAMP:20260420T134706
CREATED:20230324T173712Z
LAST-MODIFIED:20230324T183849Z
UID:10000586-1751914800-1751918400@www.namidelaware.org
SUMMARY:NAMI Delaware Virtual Family Support Group
DESCRIPTION:NAMI Delaware Virtual Family Support Group is meant as an online substitute to our in-person Family Support Group meetings to allow family members and loved ones of individuals with a mental health condition the chance to connect and feel supported. \nOur Virtual Family Support Group meets every 1st Monday and every 2nd Thursday of the month\, from 7:00pm-8:00pm. Adjustments will be made for national holidays \nRegister at: https://fsgonline.eventbrite.com \n\n 
URL:https://www.namidelaware.org/event/nami-delaware-virtual-family-support-group-8/2025-07-07/
END:VEVENT
BEGIN:VEVENT
DTSTART;TZID=UTC:20250710T190000
DTEND;TZID=UTC:20250710T200000
DTSTAMP:20260420T134706
CREATED:20250516T173326Z
LAST-MODIFIED:20250516T173326Z
UID:10000977-1752174000-1752177600@www.namidelaware.org
SUMMARY:NAMI Delaware Virtual Family Support Group
DESCRIPTION:NAMI Delaware Virtual Family Support Group is meant as an online substitute to our in-person Family Support Group meetings to allow family members and loved ones of individuals with a mental health condition the chance to connect and feel supported. \nOur Virtual Family Support Group meets every 1st Monday and every 2nd Thursday of the month\, from 7:00pm-8:00pm. Adjustments will be made for national holidays \nRegister at: https://fsgonline.eventbrite.com \n\n 
URL:https://www.namidelaware.org/event/nami-delaware-virtual-family-support-group-17/2025-07-10/
END:VEVENT
BEGIN:VEVENT
DTSTART;TZID=America/Halifax:20250717T183000
DTEND;TZID=America/Halifax:20250717T193000
DTSTAMP:20260420T134706
CREATED:20250516T173211Z
LAST-MODIFIED:20251215T203928Z
UID:10000894-1752777000-1752780600@www.namidelaware.org
SUMMARY:NAMI Delaware Virtual Connection Recovery Support Group
DESCRIPTION:Register Here \nNAMI Delaware Virtual Connection Recovery Support Group is meant as an online substitute to our in-person Connection Recovery Support Group meetings to allow individuals with a mental health condition the chance to connect and feel supported. \nOur Virtual Connection Recovery Support Group meets every 1st and 3rd Thursday of the month\, from 6:30pm-7:30pm. Adjustments will be made for national holidays.
URL:https://www.namidelaware.org/event/nami-delaware-virtual-connection-recovery-support-group-17/2025-07-17/
END:VEVENT
END:VCALENDAR