BEGIN:VCALENDAR
VERSION:2.0
PRODID:-//NAMI - ECPv6.15.20//NONSGML v1.0//EN
CALSCALE:GREGORIAN
METHOD:PUBLISH
X-ORIGINAL-URL:https://www.namidelaware.org
X-WR-CALDESC:Events for NAMI
REFRESH-INTERVAL;VALUE=DURATION:PT1H
X-Robots-Tag:noindex
X-PUBLISHED-TTL:PT1H
BEGIN:VTIMEZONE
TZID:UTC
BEGIN:STANDARD
TZOFFSETFROM:+0000
TZOFFSETTO:+0000
TZNAME:UTC
DTSTART:20230101T000000
END:STANDARD
END:VTIMEZONE
BEGIN:VEVENT
DTSTART;TZID=UTC:20240220T190000
DTEND;TZID=UTC:20240220T200000
DTSTAMP:20260423T033523
CREATED:20240109T195800Z
LAST-MODIFIED:20240109T201725Z
UID:10000213-1708455600-1708459200@www.namidelaware.org
SUMMARY:UPDATED: NAMI Delaware Virtual Spouse/Partner Family Support Group
DESCRIPTION:Update: Due to the President’s Day holiday\, we are moving the February meeting date to Tuesday\, February 20th at the usual time of 7pm EST. We hope you can still join us then! \nRegister Here \nNAMI Delaware’s Spouse/Partner Family Support Group will meet very 3rd Monday of the month\, from 7:00pm-8:00pm. Adjustments will be made for national holidays. \nThis support group will be facilitated by trained NAMI Delaware volunteers with lived experience and structured as closely to the original model of NAMI Family Support Group as possible via Zoom. It is open to all participants who identify as a spouse/partner of an individual with a mental health condition and are over the age of 18.
URL:https://www.namidelaware.org/event/nami-delaware-virtual-spouse-partner-family-support-group-7-3/
END:VEVENT
END:VCALENDAR