BEGIN:VCALENDAR
VERSION:2.0
PRODID:-//NAMI - ECPv6.15.20//NONSGML v1.0//EN
CALSCALE:GREGORIAN
METHOD:PUBLISH
X-WR-CALNAME:NAMI
X-ORIGINAL-URL:https://www.namidelaware.org
X-WR-CALDESC:Events for NAMI
REFRESH-INTERVAL;VALUE=DURATION:PT1H
X-Robots-Tag:noindex
X-PUBLISHED-TTL:PT1H
BEGIN:VTIMEZONE
TZID:America/New_York
BEGIN:DAYLIGHT
TZOFFSETFROM:-0500
TZOFFSETTO:-0400
TZNAME:EDT
DTSTART:20230312T070000
END:DAYLIGHT
BEGIN:STANDARD
TZOFFSETFROM:-0400
TZOFFSETTO:-0500
TZNAME:EST
DTSTART:20231105T060000
END:STANDARD
BEGIN:DAYLIGHT
TZOFFSETFROM:-0500
TZOFFSETTO:-0400
TZNAME:EDT
DTSTART:20240310T070000
END:DAYLIGHT
BEGIN:STANDARD
TZOFFSETFROM:-0400
TZOFFSETTO:-0500
TZNAME:EST
DTSTART:20241103T060000
END:STANDARD
BEGIN:DAYLIGHT
TZOFFSETFROM:-0500
TZOFFSETTO:-0400
TZNAME:EDT
DTSTART:20250309T070000
END:DAYLIGHT
BEGIN:STANDARD
TZOFFSETFROM:-0400
TZOFFSETTO:-0500
TZNAME:EST
DTSTART:20251102T060000
END:STANDARD
END:VTIMEZONE
BEGIN:VEVENT
DTSTART;TZID=America/New_York:20240521T170000
DTEND;TZID=America/New_York:20240521T180000
DTSTAMP:20260422T212750
CREATED:20240418T190502Z
LAST-MODIFIED:20240418T190502Z
UID:10000681-1716310800-1716314400@www.namidelaware.org
SUMMARY:NAMI Family & Friends
DESCRIPTION:NAMI Family & Friends is a FREE virtual presentation on the best ways to support your loved one with a diagnosed mental health condition. It’s led by trained NAMI Delaware staff & volunteers who have lived experiences as family members. It will discuss topics such as: \n\nunderstanding diagnoses\, treatment and recovery\neffective communication strategies\nthe importance of self-care\ncrisis preparation strategies\nNAMI and community resources.\n\nRegister now to receive the zoom link to attend this session: https://namide-fnf.eventbrite.com
URL:https://www.namidelaware.org/event/nami-family-friends/
END:VEVENT
END:VCALENDAR