BEGIN:VCALENDAR
VERSION:2.0
PRODID:-//NAMI - ECPv6.15.20//NONSGML v1.0//EN
CALSCALE:GREGORIAN
METHOD:PUBLISH
X-ORIGINAL-URL:https://www.namidelaware.org
X-WR-CALDESC:Events for NAMI
REFRESH-INTERVAL;VALUE=DURATION:PT1H
X-Robots-Tag:noindex
X-PUBLISHED-TTL:PT1H
BEGIN:VTIMEZONE
TZID:UTC
BEGIN:STANDARD
TZOFFSETFROM:+0000
TZOFFSETTO:+0000
TZNAME:UTC
DTSTART:20250101T000000
END:STANDARD
END:VTIMEZONE
BEGIN:VEVENT
DTSTART;TZID=UTC:20260520T183000
DTEND;TZID=UTC:20260520T200000
DTSTAMP:20260422T084351
CREATED:20230707T165026Z
LAST-MODIFIED:20230707T165026Z
UID:10000489-1779301800-1779307200@www.namidelaware.org
SUMMARY:NAMI Delaware Family Support Group In Person (Lewes)
DESCRIPTION:Our in person Lewes family support group will meet the 3rd Wednesday of each month from 6:30pm-8:00pm at: \nLewes Presbyterian Church \n133 Kings Highway \nLewes\, DE 19958 \nThere is no charge to attend. No registration is required to attend our in person meetings.
URL:https://www.namidelaware.org/event/nami-delaware-family-support-group-in-person-lewes-6/2026-05-20/
LOCATION:133 Kings Highway\, Lewes\, DE\, 19958
END:VEVENT
BEGIN:VEVENT
DTSTART;TZID=UTC:20260617T183000
DTEND;TZID=UTC:20260617T200000
DTSTAMP:20260422T084351
CREATED:20230707T165026Z
LAST-MODIFIED:20230707T165026Z
UID:10000490-1781721000-1781726400@www.namidelaware.org
SUMMARY:NAMI Delaware Family Support Group In Person (Lewes)
DESCRIPTION:Our in person Lewes family support group will meet the 3rd Wednesday of each month from 6:30pm-8:00pm at: \nLewes Presbyterian Church \n133 Kings Highway \nLewes\, DE 19958 \nThere is no charge to attend. No registration is required to attend our in person meetings.
URL:https://www.namidelaware.org/event/nami-delaware-family-support-group-in-person-lewes-6/2026-06-17/
LOCATION:133 Kings Highway\, Lewes\, DE\, 19958
END:VEVENT
BEGIN:VEVENT
DTSTART;TZID=UTC:20260715T183000
DTEND;TZID=UTC:20260715T200000
DTSTAMP:20260422T084351
CREATED:20230707T165026Z
LAST-MODIFIED:20230707T165026Z
UID:10000491-1784140200-1784145600@www.namidelaware.org
SUMMARY:NAMI Delaware Family Support Group In Person (Lewes)
DESCRIPTION:Our in person Lewes family support group will meet the 3rd Wednesday of each month from 6:30pm-8:00pm at: \nLewes Presbyterian Church \n133 Kings Highway \nLewes\, DE 19958 \nThere is no charge to attend. No registration is required to attend our in person meetings.
URL:https://www.namidelaware.org/event/nami-delaware-family-support-group-in-person-lewes-6/2026-07-15/
LOCATION:133 Kings Highway\, Lewes\, DE\, 19958
END:VEVENT
BEGIN:VEVENT
DTSTART;TZID=UTC:20260819T183000
DTEND;TZID=UTC:20260819T200000
DTSTAMP:20260422T084351
CREATED:20230707T165026Z
LAST-MODIFIED:20230707T165026Z
UID:10000492-1787164200-1787169600@www.namidelaware.org
SUMMARY:NAMI Delaware Family Support Group In Person (Lewes)
DESCRIPTION:Our in person Lewes family support group will meet the 3rd Wednesday of each month from 6:30pm-8:00pm at: \nLewes Presbyterian Church \n133 Kings Highway \nLewes\, DE 19958 \nThere is no charge to attend. No registration is required to attend our in person meetings.
URL:https://www.namidelaware.org/event/nami-delaware-family-support-group-in-person-lewes-6/2026-08-19/
LOCATION:133 Kings Highway\, Lewes\, DE\, 19958
END:VEVENT
BEGIN:VEVENT
DTSTART;TZID=UTC:20260916T183000
DTEND;TZID=UTC:20260916T200000
DTSTAMP:20260422T084351
CREATED:20230707T165026Z
LAST-MODIFIED:20230707T165026Z
UID:10000493-1789583400-1789588800@www.namidelaware.org
SUMMARY:NAMI Delaware Family Support Group In Person (Lewes)
DESCRIPTION:Our in person Lewes family support group will meet the 3rd Wednesday of each month from 6:30pm-8:00pm at: \nLewes Presbyterian Church \n133 Kings Highway \nLewes\, DE 19958 \nThere is no charge to attend. No registration is required to attend our in person meetings.
URL:https://www.namidelaware.org/event/nami-delaware-family-support-group-in-person-lewes-6/2026-09-16/
LOCATION:133 Kings Highway\, Lewes\, DE\, 19958
END:VEVENT
BEGIN:VEVENT
DTSTART;TZID=UTC:20261021T183000
DTEND;TZID=UTC:20261021T200000
DTSTAMP:20260422T084351
CREATED:20230707T165026Z
LAST-MODIFIED:20230707T165026Z
UID:10000494-1792607400-1792612800@www.namidelaware.org
SUMMARY:NAMI Delaware Family Support Group In Person (Lewes)
DESCRIPTION:Our in person Lewes family support group will meet the 3rd Wednesday of each month from 6:30pm-8:00pm at: \nLewes Presbyterian Church \n133 Kings Highway \nLewes\, DE 19958 \nThere is no charge to attend. No registration is required to attend our in person meetings.
URL:https://www.namidelaware.org/event/nami-delaware-family-support-group-in-person-lewes-6/2026-10-21/
LOCATION:133 Kings Highway\, Lewes\, DE\, 19958
END:VEVENT
BEGIN:VEVENT
DTSTART;TZID=UTC:20261118T183000
DTEND;TZID=UTC:20261118T200000
DTSTAMP:20260422T084351
CREATED:20230707T165026Z
LAST-MODIFIED:20230707T165026Z
UID:10000495-1795026600-1795032000@www.namidelaware.org
SUMMARY:NAMI Delaware Family Support Group In Person (Lewes)
DESCRIPTION:Our in person Lewes family support group will meet the 3rd Wednesday of each month from 6:30pm-8:00pm at: \nLewes Presbyterian Church \n133 Kings Highway \nLewes\, DE 19958 \nThere is no charge to attend. No registration is required to attend our in person meetings.
URL:https://www.namidelaware.org/event/nami-delaware-family-support-group-in-person-lewes-6/2026-11-18/
LOCATION:133 Kings Highway\, Lewes\, DE\, 19958
END:VEVENT
BEGIN:VEVENT
DTSTART;TZID=UTC:20261216T183000
DTEND;TZID=UTC:20261216T200000
DTSTAMP:20260422T084351
CREATED:20230707T165026Z
LAST-MODIFIED:20230707T165026Z
UID:10000496-1797445800-1797451200@www.namidelaware.org
SUMMARY:NAMI Delaware Family Support Group In Person (Lewes)
DESCRIPTION:Our in person Lewes family support group will meet the 3rd Wednesday of each month from 6:30pm-8:00pm at: \nLewes Presbyterian Church \n133 Kings Highway \nLewes\, DE 19958 \nThere is no charge to attend. No registration is required to attend our in person meetings.
URL:https://www.namidelaware.org/event/nami-delaware-family-support-group-in-person-lewes-6/2026-12-16/
LOCATION:133 Kings Highway\, Lewes\, DE\, 19958
END:VEVENT
BEGIN:VEVENT
DTSTART;TZID=UTC:20270120T183000
DTEND;TZID=UTC:20270120T200000
DTSTAMP:20260422T084351
CREATED:20230707T165026Z
LAST-MODIFIED:20230707T165026Z
UID:10000497-1800469800-1800475200@www.namidelaware.org
SUMMARY:NAMI Delaware Family Support Group In Person (Lewes)
DESCRIPTION:Our in person Lewes family support group will meet the 3rd Wednesday of each month from 6:30pm-8:00pm at: \nLewes Presbyterian Church \n133 Kings Highway \nLewes\, DE 19958 \nThere is no charge to attend. No registration is required to attend our in person meetings.
URL:https://www.namidelaware.org/event/nami-delaware-family-support-group-in-person-lewes-6/2027-01-20/
LOCATION:133 Kings Highway\, Lewes\, DE\, 19958
END:VEVENT
BEGIN:VEVENT
DTSTART;TZID=UTC:20270217T183000
DTEND;TZID=UTC:20270217T200000
DTSTAMP:20260422T084351
CREATED:20230707T165026Z
LAST-MODIFIED:20230707T165026Z
UID:10000498-1802889000-1802894400@www.namidelaware.org
SUMMARY:NAMI Delaware Family Support Group In Person (Lewes)
DESCRIPTION:Our in person Lewes family support group will meet the 3rd Wednesday of each month from 6:30pm-8:00pm at: \nLewes Presbyterian Church \n133 Kings Highway \nLewes\, DE 19958 \nThere is no charge to attend. No registration is required to attend our in person meetings.
URL:https://www.namidelaware.org/event/nami-delaware-family-support-group-in-person-lewes-6/2027-02-17/
LOCATION:133 Kings Highway\, Lewes\, DE\, 19958
END:VEVENT
BEGIN:VEVENT
DTSTART;TZID=UTC:20270317T183000
DTEND;TZID=UTC:20270317T200000
DTSTAMP:20260422T084351
CREATED:20230707T165026Z
LAST-MODIFIED:20230707T165026Z
UID:10000499-1805308200-1805313600@www.namidelaware.org
SUMMARY:NAMI Delaware Family Support Group In Person (Lewes)
DESCRIPTION:Our in person Lewes family support group will meet the 3rd Wednesday of each month from 6:30pm-8:00pm at: \nLewes Presbyterian Church \n133 Kings Highway \nLewes\, DE 19958 \nThere is no charge to attend. No registration is required to attend our in person meetings.
URL:https://www.namidelaware.org/event/nami-delaware-family-support-group-in-person-lewes-6/2027-03-17/
LOCATION:133 Kings Highway\, Lewes\, DE\, 19958
END:VEVENT
BEGIN:VEVENT
DTSTART;TZID=UTC:20270421T183000
DTEND;TZID=UTC:20270421T200000
DTSTAMP:20260422T084351
CREATED:20230707T165026Z
LAST-MODIFIED:20230707T165026Z
UID:10000500-1808332200-1808337600@www.namidelaware.org
SUMMARY:NAMI Delaware Family Support Group In Person (Lewes)
DESCRIPTION:Our in person Lewes family support group will meet the 3rd Wednesday of each month from 6:30pm-8:00pm at: \nLewes Presbyterian Church \n133 Kings Highway \nLewes\, DE 19958 \nThere is no charge to attend. No registration is required to attend our in person meetings.
URL:https://www.namidelaware.org/event/nami-delaware-family-support-group-in-person-lewes-6/2027-04-21/
LOCATION:133 Kings Highway\, Lewes\, DE\, 19958
END:VEVENT
BEGIN:VEVENT
DTSTART;TZID=UTC:20270519T183000
DTEND;TZID=UTC:20270519T200000
DTSTAMP:20260422T084351
CREATED:20230707T165026Z
LAST-MODIFIED:20230707T165026Z
UID:10000501-1810751400-1810756800@www.namidelaware.org
SUMMARY:NAMI Delaware Family Support Group In Person (Lewes)
DESCRIPTION:Our in person Lewes family support group will meet the 3rd Wednesday of each month from 6:30pm-8:00pm at: \nLewes Presbyterian Church \n133 Kings Highway \nLewes\, DE 19958 \nThere is no charge to attend. No registration is required to attend our in person meetings.
URL:https://www.namidelaware.org/event/nami-delaware-family-support-group-in-person-lewes-6/2027-05-19/
LOCATION:133 Kings Highway\, Lewes\, DE\, 19958
END:VEVENT
BEGIN:VEVENT
DTSTART;TZID=UTC:20270616T183000
DTEND;TZID=UTC:20270616T200000
DTSTAMP:20260422T084351
CREATED:20230707T165026Z
LAST-MODIFIED:20230707T165026Z
UID:10000502-1813170600-1813176000@www.namidelaware.org
SUMMARY:NAMI Delaware Family Support Group In Person (Lewes)
DESCRIPTION:Our in person Lewes family support group will meet the 3rd Wednesday of each month from 6:30pm-8:00pm at: \nLewes Presbyterian Church \n133 Kings Highway \nLewes\, DE 19958 \nThere is no charge to attend. No registration is required to attend our in person meetings.
URL:https://www.namidelaware.org/event/nami-delaware-family-support-group-in-person-lewes-6/2027-06-16/
LOCATION:133 Kings Highway\, Lewes\, DE\, 19958
END:VEVENT
BEGIN:VEVENT
DTSTART;TZID=UTC:20270721T183000
DTEND;TZID=UTC:20270721T200000
DTSTAMP:20260422T084351
CREATED:20230707T165026Z
LAST-MODIFIED:20230707T165026Z
UID:10000503-1816194600-1816200000@www.namidelaware.org
SUMMARY:NAMI Delaware Family Support Group In Person (Lewes)
DESCRIPTION:Our in person Lewes family support group will meet the 3rd Wednesday of each month from 6:30pm-8:00pm at: \nLewes Presbyterian Church \n133 Kings Highway \nLewes\, DE 19958 \nThere is no charge to attend. No registration is required to attend our in person meetings.
URL:https://www.namidelaware.org/event/nami-delaware-family-support-group-in-person-lewes-6/2027-07-21/
LOCATION:133 Kings Highway\, Lewes\, DE\, 19958
END:VEVENT
BEGIN:VEVENT
DTSTART;TZID=UTC:20270818T183000
DTEND;TZID=UTC:20270818T200000
DTSTAMP:20260422T084351
CREATED:20230707T165026Z
LAST-MODIFIED:20230707T165026Z
UID:10000504-1818613800-1818619200@www.namidelaware.org
SUMMARY:NAMI Delaware Family Support Group In Person (Lewes)
DESCRIPTION:Our in person Lewes family support group will meet the 3rd Wednesday of each month from 6:30pm-8:00pm at: \nLewes Presbyterian Church \n133 Kings Highway \nLewes\, DE 19958 \nThere is no charge to attend. No registration is required to attend our in person meetings.
URL:https://www.namidelaware.org/event/nami-delaware-family-support-group-in-person-lewes-6/2027-08-18/
LOCATION:133 Kings Highway\, Lewes\, DE\, 19958
END:VEVENT
BEGIN:VEVENT
DTSTART;TZID=UTC:20270915T183000
DTEND;TZID=UTC:20270915T200000
DTSTAMP:20260422T084351
CREATED:20230707T165026Z
LAST-MODIFIED:20230707T165026Z
UID:10000505-1821033000-1821038400@www.namidelaware.org
SUMMARY:NAMI Delaware Family Support Group In Person (Lewes)
DESCRIPTION:Our in person Lewes family support group will meet the 3rd Wednesday of each month from 6:30pm-8:00pm at: \nLewes Presbyterian Church \n133 Kings Highway \nLewes\, DE 19958 \nThere is no charge to attend. No registration is required to attend our in person meetings.
URL:https://www.namidelaware.org/event/nami-delaware-family-support-group-in-person-lewes-6/2027-09-15/
LOCATION:133 Kings Highway\, Lewes\, DE\, 19958
END:VEVENT
BEGIN:VEVENT
DTSTART;TZID=UTC:20271020T183000
DTEND;TZID=UTC:20271020T200000
DTSTAMP:20260422T084351
CREATED:20230707T165026Z
LAST-MODIFIED:20230707T165026Z
UID:10000506-1824057000-1824062400@www.namidelaware.org
SUMMARY:NAMI Delaware Family Support Group In Person (Lewes)
DESCRIPTION:Our in person Lewes family support group will meet the 3rd Wednesday of each month from 6:30pm-8:00pm at: \nLewes Presbyterian Church \n133 Kings Highway \nLewes\, DE 19958 \nThere is no charge to attend. No registration is required to attend our in person meetings.
URL:https://www.namidelaware.org/event/nami-delaware-family-support-group-in-person-lewes-6/2027-10-20/
LOCATION:133 Kings Highway\, Lewes\, DE\, 19958
END:VEVENT
BEGIN:VEVENT
DTSTART;TZID=UTC:20271117T183000
DTEND;TZID=UTC:20271117T200000
DTSTAMP:20260422T084351
CREATED:20230707T165026Z
LAST-MODIFIED:20230707T165026Z
UID:10000507-1826476200-1826481600@www.namidelaware.org
SUMMARY:NAMI Delaware Family Support Group In Person (Lewes)
DESCRIPTION:Our in person Lewes family support group will meet the 3rd Wednesday of each month from 6:30pm-8:00pm at: \nLewes Presbyterian Church \n133 Kings Highway \nLewes\, DE 19958 \nThere is no charge to attend. No registration is required to attend our in person meetings.
URL:https://www.namidelaware.org/event/nami-delaware-family-support-group-in-person-lewes-6/2027-11-17/
LOCATION:133 Kings Highway\, Lewes\, DE\, 19958
END:VEVENT
BEGIN:VEVENT
DTSTART;TZID=UTC:20271215T183000
DTEND;TZID=UTC:20271215T200000
DTSTAMP:20260422T084351
CREATED:20230707T165026Z
LAST-MODIFIED:20230707T165026Z
UID:10000508-1828895400-1828900800@www.namidelaware.org
SUMMARY:NAMI Delaware Family Support Group In Person (Lewes)
DESCRIPTION:Our in person Lewes family support group will meet the 3rd Wednesday of each month from 6:30pm-8:00pm at: \nLewes Presbyterian Church \n133 Kings Highway \nLewes\, DE 19958 \nThere is no charge to attend. No registration is required to attend our in person meetings.
URL:https://www.namidelaware.org/event/nami-delaware-family-support-group-in-person-lewes-6/2027-12-15/
LOCATION:133 Kings Highway\, Lewes\, DE\, 19958
END:VEVENT
BEGIN:VEVENT
DTSTART;TZID=UTC:20280119T183000
DTEND;TZID=UTC:20280119T200000
DTSTAMP:20260422T084351
CREATED:20230707T165026Z
LAST-MODIFIED:20230707T165026Z
UID:10000509-1831919400-1831924800@www.namidelaware.org
SUMMARY:NAMI Delaware Family Support Group In Person (Lewes)
DESCRIPTION:Our in person Lewes family support group will meet the 3rd Wednesday of each month from 6:30pm-8:00pm at: \nLewes Presbyterian Church \n133 Kings Highway \nLewes\, DE 19958 \nThere is no charge to attend. No registration is required to attend our in person meetings.
URL:https://www.namidelaware.org/event/nami-delaware-family-support-group-in-person-lewes-6/2028-01-19/
LOCATION:133 Kings Highway\, Lewes\, DE\, 19958
END:VEVENT
BEGIN:VEVENT
DTSTART;TZID=UTC:20280216T183000
DTEND;TZID=UTC:20280216T200000
DTSTAMP:20260422T084351
CREATED:20230707T165026Z
LAST-MODIFIED:20230707T165026Z
UID:10000510-1834338600-1834344000@www.namidelaware.org
SUMMARY:NAMI Delaware Family Support Group In Person (Lewes)
DESCRIPTION:Our in person Lewes family support group will meet the 3rd Wednesday of each month from 6:30pm-8:00pm at: \nLewes Presbyterian Church \n133 Kings Highway \nLewes\, DE 19958 \nThere is no charge to attend. No registration is required to attend our in person meetings.
URL:https://www.namidelaware.org/event/nami-delaware-family-support-group-in-person-lewes-6/2028-02-16/
LOCATION:133 Kings Highway\, Lewes\, DE\, 19958
END:VEVENT
BEGIN:VEVENT
DTSTART;TZID=UTC:20280315T183000
DTEND;TZID=UTC:20280315T200000
DTSTAMP:20260422T084351
CREATED:20230707T165026Z
LAST-MODIFIED:20230707T165026Z
UID:10000511-1836757800-1836763200@www.namidelaware.org
SUMMARY:NAMI Delaware Family Support Group In Person (Lewes)
DESCRIPTION:Our in person Lewes family support group will meet the 3rd Wednesday of each month from 6:30pm-8:00pm at: \nLewes Presbyterian Church \n133 Kings Highway \nLewes\, DE 19958 \nThere is no charge to attend. No registration is required to attend our in person meetings.
URL:https://www.namidelaware.org/event/nami-delaware-family-support-group-in-person-lewes-6/2028-03-15/
LOCATION:133 Kings Highway\, Lewes\, DE\, 19958
END:VEVENT
BEGIN:VEVENT
DTSTART;TZID=UTC:20280419T183000
DTEND;TZID=UTC:20280419T200000
DTSTAMP:20260422T084351
CREATED:20230707T165026Z
LAST-MODIFIED:20230707T165026Z
UID:10000512-1839781800-1839787200@www.namidelaware.org
SUMMARY:NAMI Delaware Family Support Group In Person (Lewes)
DESCRIPTION:Our in person Lewes family support group will meet the 3rd Wednesday of each month from 6:30pm-8:00pm at: \nLewes Presbyterian Church \n133 Kings Highway \nLewes\, DE 19958 \nThere is no charge to attend. No registration is required to attend our in person meetings.
URL:https://www.namidelaware.org/event/nami-delaware-family-support-group-in-person-lewes-6/2028-04-19/
LOCATION:133 Kings Highway\, Lewes\, DE\, 19958
END:VEVENT
BEGIN:VEVENT
DTSTART;TZID=UTC:20280517T183000
DTEND;TZID=UTC:20280517T200000
DTSTAMP:20260422T084351
CREATED:20230707T165026Z
LAST-MODIFIED:20230707T165026Z
UID:10000513-1842201000-1842206400@www.namidelaware.org
SUMMARY:NAMI Delaware Family Support Group In Person (Lewes)
DESCRIPTION:Our in person Lewes family support group will meet the 3rd Wednesday of each month from 6:30pm-8:00pm at: \nLewes Presbyterian Church \n133 Kings Highway \nLewes\, DE 19958 \nThere is no charge to attend. No registration is required to attend our in person meetings.
URL:https://www.namidelaware.org/event/nami-delaware-family-support-group-in-person-lewes-6/2028-05-17/
LOCATION:133 Kings Highway\, Lewes\, DE\, 19958
END:VEVENT
BEGIN:VEVENT
DTSTART;TZID=UTC:20280621T183000
DTEND;TZID=UTC:20280621T200000
DTSTAMP:20260422T084351
CREATED:20230707T165026Z
LAST-MODIFIED:20230707T165026Z
UID:10000514-1845225000-1845230400@www.namidelaware.org
SUMMARY:NAMI Delaware Family Support Group In Person (Lewes)
DESCRIPTION:Our in person Lewes family support group will meet the 3rd Wednesday of each month from 6:30pm-8:00pm at: \nLewes Presbyterian Church \n133 Kings Highway \nLewes\, DE 19958 \nThere is no charge to attend. No registration is required to attend our in person meetings.
URL:https://www.namidelaware.org/event/nami-delaware-family-support-group-in-person-lewes-6/2028-06-21/
LOCATION:133 Kings Highway\, Lewes\, DE\, 19958
END:VEVENT
BEGIN:VEVENT
DTSTART;TZID=UTC:20280719T183000
DTEND;TZID=UTC:20280719T200000
DTSTAMP:20260422T084351
CREATED:20230707T165026Z
LAST-MODIFIED:20230707T165026Z
UID:10000577-1847644200-1847649600@www.namidelaware.org
SUMMARY:NAMI Delaware Family Support Group In Person (Lewes)
DESCRIPTION:Our in person Lewes family support group will meet the 3rd Wednesday of each month from 6:30pm-8:00pm at: \nLewes Presbyterian Church \n133 Kings Highway \nLewes\, DE 19958 \nThere is no charge to attend. No registration is required to attend our in person meetings.
URL:https://www.namidelaware.org/event/nami-delaware-family-support-group-in-person-lewes-6/2028-07-19/
LOCATION:133 Kings Highway\, Lewes\, DE\, 19958
END:VEVENT
BEGIN:VEVENT
DTSTART;TZID=UTC:20280816T183000
DTEND;TZID=UTC:20280816T200000
DTSTAMP:20260422T084351
CREATED:20230707T165026Z
LAST-MODIFIED:20230707T165026Z
UID:10000578-1850063400-1850068800@www.namidelaware.org
SUMMARY:NAMI Delaware Family Support Group In Person (Lewes)
DESCRIPTION:Our in person Lewes family support group will meet the 3rd Wednesday of each month from 6:30pm-8:00pm at: \nLewes Presbyterian Church \n133 Kings Highway \nLewes\, DE 19958 \nThere is no charge to attend. No registration is required to attend our in person meetings.
URL:https://www.namidelaware.org/event/nami-delaware-family-support-group-in-person-lewes-6/2028-08-16/
LOCATION:133 Kings Highway\, Lewes\, DE\, 19958
END:VEVENT
BEGIN:VEVENT
DTSTART;TZID=UTC:20280920T183000
DTEND;TZID=UTC:20280920T200000
DTSTAMP:20260422T084351
CREATED:20230707T165026Z
LAST-MODIFIED:20230707T165026Z
UID:10000579-1853087400-1853092800@www.namidelaware.org
SUMMARY:NAMI Delaware Family Support Group In Person (Lewes)
DESCRIPTION:Our in person Lewes family support group will meet the 3rd Wednesday of each month from 6:30pm-8:00pm at: \nLewes Presbyterian Church \n133 Kings Highway \nLewes\, DE 19958 \nThere is no charge to attend. No registration is required to attend our in person meetings.
URL:https://www.namidelaware.org/event/nami-delaware-family-support-group-in-person-lewes-6/2028-09-20/
LOCATION:133 Kings Highway\, Lewes\, DE\, 19958
END:VEVENT
BEGIN:VEVENT
DTSTART;TZID=UTC:20281018T183000
DTEND;TZID=UTC:20281018T200000
DTSTAMP:20260422T084351
CREATED:20230707T165026Z
LAST-MODIFIED:20230707T165026Z
UID:10000580-1855506600-1855512000@www.namidelaware.org
SUMMARY:NAMI Delaware Family Support Group In Person (Lewes)
DESCRIPTION:Our in person Lewes family support group will meet the 3rd Wednesday of each month from 6:30pm-8:00pm at: \nLewes Presbyterian Church \n133 Kings Highway \nLewes\, DE 19958 \nThere is no charge to attend. No registration is required to attend our in person meetings.
URL:https://www.namidelaware.org/event/nami-delaware-family-support-group-in-person-lewes-6/2028-10-18/
LOCATION:133 Kings Highway\, Lewes\, DE\, 19958
END:VEVENT
END:VCALENDAR